BEGIN:VCALENDAR
VERSION:2.0
PRODID:-//milkids - ECPv6.15.18//NONSGML v1.0//EN
CALSCALE:GREGORIAN
METHOD:PUBLISH
X-WR-CALNAME:milkids
X-ORIGINAL-URL:https://www.milkids.de
X-WR-CALDESC:Veranstaltungen für milkids
REFRESH-INTERVAL;VALUE=DURATION:PT1H
X-Robots-Tag:noindex
X-PUBLISHED-TTL:PT1H
BEGIN:VTIMEZONE
TZID:Europe/Berlin
BEGIN:DAYLIGHT
TZOFFSETFROM:+0100
TZOFFSETTO:+0200
TZNAME:CEST
DTSTART:20240331T010000
END:DAYLIGHT
BEGIN:STANDARD
TZOFFSETFROM:+0200
TZOFFSETTO:+0100
TZNAME:CET
DTSTART:20241027T010000
END:STANDARD
BEGIN:DAYLIGHT
TZOFFSETFROM:+0100
TZOFFSETTO:+0200
TZNAME:CEST
DTSTART:20250330T010000
END:DAYLIGHT
BEGIN:STANDARD
TZOFFSETFROM:+0200
TZOFFSETTO:+0100
TZNAME:CET
DTSTART:20251026T010000
END:STANDARD
BEGIN:DAYLIGHT
TZOFFSETFROM:+0100
TZOFFSETTO:+0200
TZNAME:CEST
DTSTART:20260329T010000
END:DAYLIGHT
BEGIN:STANDARD
TZOFFSETFROM:+0200
TZOFFSETTO:+0100
TZNAME:CET
DTSTART:20261025T010000
END:STANDARD
END:VTIMEZONE
BEGIN:VEVENT
DTSTART;TZID=Europe/Berlin:20250628T113000
DTEND;TZID=Europe/Berlin:20250628T121500
DTSTAMP:20260419T185810
CREATED:20250520T043414Z
LAST-MODIFIED:20250520T043414Z
UID:10002106-1751110200-1751112900@www.milkids.de
SUMMARY:Yoga für Klein und Groß
DESCRIPTION:Gemeinsam entdecken wir spielerisch die Welt des Yogas: In dieser besonderen Yogastunde für Kinder zwischen 4 und 6 Jahren kommen die Kleinen zusammen mit einer Begleitperson. Egal\, ob Papa und Tochter\, Mama und Sohn\, Onkel und Neffe oder jedes andere Familien- oder Betreuungskonstrukt – alle Kombinationen sind willkommen!  \nGemeinsam entdecken sie spielerisch die Welt des Yogas – mit einfachen Bewegungen\, Atemübungen und Entspannungsübungen\, die sowohl den Kindern als auch den Erwachsenen Freude bereiten. Diese Stunde fördert die Beweglichkeit\, Achtsamkeit und das Vertrauen\, während wir in einer entspannten und freundlichen Atmosphäre zusammen wachsen. Ideal für Eltern oder andere Begleitpersonen\, die mit ihren Kindern eine wertvolle Zeit verbringen möchten\, um Körper und Geist in Einklang zu bringen. \nAnmeldung per E-Mail an info@yogaforbielefeld.com.\nPreis: 20 Euro pro Team \nDiese 45-minütige Stunde findet jeden letzten Samstag im Monat um 11:30 Uhr im Kulturhof Bielefeld statt. Anmeldung per E-Mail an info@yogaforbielefeld.com.
URL:https://www.milkids.de/termin/yoga-fuer-klein-und-gross-4/
LOCATION:Umweltzentrum Bielefeld\, August-Bebel-Str. 16\, Bielefeld\, 33602
CATEGORIES:Drinnen,Familie
GEO:52.0308737;8.5395533
X-APPLE-STRUCTURED-LOCATION;VALUE=URI;X-ADDRESS=Umweltzentrum Bielefeld August-Bebel-Str. 16 Bielefeld 33602;X-APPLE-RADIUS=500;X-TITLE=August-Bebel-Str. 16:geo:8.5395533,52.0308737
END:VEVENT
BEGIN:VEVENT
DTSTART;TZID=Europe/Berlin:20250628T103000
DTEND;TZID=Europe/Berlin:20250628T111500
DTSTAMP:20260419T185810
CREATED:20250520T043350Z
LAST-MODIFIED:20250520T043350Z
UID:10002102-1751106600-1751109300@www.milkids.de
SUMMARY:Mutter-Tochter Yoga
DESCRIPTION:Gemeinsam spielerisch die Welt des Yogas entdecken: Diese Yogastunde bietet Müttern und ihren Töchtern (4-6 Jahre) die Möglichkeit\, ihre Verbindung auf eine sanfte und liebevolle Weise zu stärken. Durch einfache Yoga-Posen\, beruhigende Atemübungen und entspannende Momente können Mütter und Töchter gemeinsam im Einklang miteinander kommen.  \nDer Fokus liegt auf Achtsamkeit und dem gemeinsamen Erleben von Ruhe und Freude\, während wir in einer harmonischen Atmosphäre Zeit miteinander verbringen. Ein Raum\, um die Beziehung zwischen Mutter und Tochter zu vertiefen und die innere Balance zu fördern.\nDiese 45-minütige Stunde findet im Kulturhof Bielefeld statt.  \nAnmeldung per E-Mail an info@yogaforbielefeld.com.\nPreis: 20 Euro pro Team
URL:https://www.milkids.de/termin/mutter-tochter-yoga-4/
LOCATION:Umweltzentrum Bielefeld\, August-Bebel-Str. 16\, Bielefeld\, 33602
CATEGORIES:Drinnen,Familie
GEO:52.0308737;8.5395533
X-APPLE-STRUCTURED-LOCATION;VALUE=URI;X-ADDRESS=Umweltzentrum Bielefeld August-Bebel-Str. 16 Bielefeld 33602;X-APPLE-RADIUS=500;X-TITLE=August-Bebel-Str. 16:geo:8.5395533,52.0308737
END:VEVENT
BEGIN:VEVENT
DTSTART;TZID=Europe/Berlin:20250531T113000
DTEND;TZID=Europe/Berlin:20250531T121500
DTSTAMP:20260419T185810
CREATED:20250313T171036Z
LAST-MODIFIED:20250313T171036Z
UID:10002105-1748691000-1748693700@www.milkids.de
SUMMARY:Yoga für Klein und Groß
DESCRIPTION:Gemeinsam entdecken wir spielerisch die Welt des Yogas: In dieser besonderen Yogastunde für Kinder zwischen 4 und 6 Jahren kommen die Kleinen zusammen mit einer Begleitperson. Egal\, ob Papa und Tochter\, Mama und Sohn\, Onkel und Neffe oder jedes andere Familien- oder Betreuungskonstrukt – alle Kombinationen sind willkommen!  \nGemeinsam entdecken sie spielerisch die Welt des Yogas – mit einfachen Bewegungen\, Atemübungen und Entspannungsübungen\, die sowohl den Kindern als auch den Erwachsenen Freude bereiten. Diese Stunde fördert die Beweglichkeit\, Achtsamkeit und das Vertrauen\, während wir in einer entspannten und freundlichen Atmosphäre zusammen wachsen. Ideal für Eltern oder andere Begleitpersonen\, die mit ihren Kindern eine wertvolle Zeit verbringen möchten\, um Körper und Geist in Einklang zu bringen. \nAnmeldung per E-Mail an info@yogaforbielefeld.com.\nPreis: 20 Euro pro Team \nDiese 45-minütige Stunde findet jeden letzten Samstag im Monat um 11:30 Uhr im Kulturhof Bielefeld statt. Anmeldung per E-Mail an info@yogaforbielefeld.com.
URL:https://www.milkids.de/termin/yoga-fuer-klein-und-gross-3/
LOCATION:Umweltzentrum Bielefeld\, August-Bebel-Str. 16\, Bielefeld\, 33602
CATEGORIES:Drinnen,Familie
GEO:52.0308737;8.5395533
X-APPLE-STRUCTURED-LOCATION;VALUE=URI;X-ADDRESS=Umweltzentrum Bielefeld August-Bebel-Str. 16 Bielefeld 33602;X-APPLE-RADIUS=500;X-TITLE=August-Bebel-Str. 16:geo:8.5395533,52.0308737
END:VEVENT
BEGIN:VEVENT
DTSTART;TZID=Europe/Berlin:20250531T103000
DTEND;TZID=Europe/Berlin:20250531T111500
DTSTAMP:20260419T185810
CREATED:20250309T115305Z
LAST-MODIFIED:20250309T115305Z
UID:10002101-1748687400-1748690100@www.milkids.de
SUMMARY:Mutter-Tochter Yoga
DESCRIPTION:Gemeinsam spielerisch die Welt des Yogas entdecken: Diese Yogastunde bietet Müttern und ihren Töchtern (4-6 Jahre) die Möglichkeit\, ihre Verbindung auf eine sanfte und liebevolle Weise zu stärken. Durch einfache Yoga-Posen\, beruhigende Atemübungen und entspannende Momente können Mütter und Töchter gemeinsam im Einklang miteinander kommen.  \nDer Fokus liegt auf Achtsamkeit und dem gemeinsamen Erleben von Ruhe und Freude\, während wir in einer harmonischen Atmosphäre Zeit miteinander verbringen. Ein Raum\, um die Beziehung zwischen Mutter und Tochter zu vertiefen und die innere Balance zu fördern.\nDiese 45-minütige Stunde findet im Kulturhof Bielefeld statt.  \nAnmeldung per E-Mail an info@yogaforbielefeld.com.\nPreis: 20 Euro pro Team
URL:https://www.milkids.de/termin/mutter-tochter-yoga/2025-05-31/
LOCATION:Umweltzentrum Bielefeld\, August-Bebel-Str. 16\, Bielefeld\, 33602
CATEGORIES:Drinnen,Familie
GEO:52.0308737;8.5395533
X-APPLE-STRUCTURED-LOCATION;VALUE=URI;X-ADDRESS=Umweltzentrum Bielefeld August-Bebel-Str. 16 Bielefeld 33602;X-APPLE-RADIUS=500;X-TITLE=August-Bebel-Str. 16:geo:8.5395533,52.0308737
END:VEVENT
BEGIN:VEVENT
DTSTART;TZID=Europe/Berlin:20250426T113000
DTEND;TZID=Europe/Berlin:20250426T121500
DTSTAMP:20260419T185810
CREATED:20250313T153639Z
LAST-MODIFIED:20250313T153639Z
UID:10002104-1745667000-1745669700@www.milkids.de
SUMMARY:Yoga für Klein und Groß
DESCRIPTION:Gemeinsam entdecken wir spielerisch die Welt des Yogas: In dieser besonderen Yogastunde für Kinder zwischen 4 und 6 Jahren kommen die Kleinen zusammen mit einer Begleitperson. Egal\, ob Papa und Tochter\, Mama und Sohn\, Onkel und Neffe oder jedes andere Familien- oder Betreuungskonstrukt – alle Kombinationen sind willkommen!  \nGemeinsam entdecken sie spielerisch die Welt des Yogas – mit einfachen Bewegungen\, Atemübungen und Entspannungsübungen\, die sowohl den Kindern als auch den Erwachsenen Freude bereiten. Diese Stunde fördert die Beweglichkeit\, Achtsamkeit und das Vertrauen\, während wir in einer entspannten und freundlichen Atmosphäre zusammen wachsen. Ideal für Eltern oder andere Begleitpersonen\, die mit ihren Kindern eine wertvolle Zeit verbringen möchten\, um Körper und Geist in Einklang zu bringen. \nAnmeldung per E-Mail an info@yogaforbielefeld.com.\nPreis: 20 Euro pro Team \nDiese 45-minütige Stunde findet jeden letzten Samstag im Monat um 11:30 Uhr im Kulturhof Bielefeld statt. Anmeldung per E-Mail an info@yogaforbielefeld.com.
URL:https://www.milkids.de/termin/yoga-fuer-klein-und-gross-2/
LOCATION:Umweltzentrum Bielefeld\, August-Bebel-Str. 16\, Bielefeld\, 33602
CATEGORIES:Drinnen,Familie
GEO:52.0308737;8.5395533
X-APPLE-STRUCTURED-LOCATION;VALUE=URI;X-ADDRESS=Umweltzentrum Bielefeld August-Bebel-Str. 16 Bielefeld 33602;X-APPLE-RADIUS=500;X-TITLE=August-Bebel-Str. 16:geo:8.5395533,52.0308737
END:VEVENT
BEGIN:VEVENT
DTSTART;TZID=Europe/Berlin:20250426T103000
DTEND;TZID=Europe/Berlin:20250426T111500
DTSTAMP:20260419T185810
CREATED:20250313T153454Z
LAST-MODIFIED:20250313T153454Z
UID:10002100-1745663400-1745666100@www.milkids.de
SUMMARY:Mutter-Tochter Yoga
DESCRIPTION:Gemeinsam spielerisch die Welt des Yogas entdecken: Diese Yogastunde bietet Müttern und ihren Töchtern (4-6 Jahre) die Möglichkeit\, ihre Verbindung auf eine sanfte und liebevolle Weise zu stärken. Durch einfache Yoga-Posen\, beruhigende Atemübungen und entspannende Momente können Mütter und Töchter gemeinsam im Einklang miteinander kommen.  \nDer Fokus liegt auf Achtsamkeit und dem gemeinsamen Erleben von Ruhe und Freude\, während wir in einer harmonischen Atmosphäre Zeit miteinander verbringen. Ein Raum\, um die Beziehung zwischen Mutter und Tochter zu vertiefen und die innere Balance zu fördern.\nDiese 45-minütige Stunde findet im Kulturhof Bielefeld statt.  \nAnmeldung per E-Mail an info@yogaforbielefeld.com.\nPreis: 20 Euro pro Team
URL:https://www.milkids.de/termin/mutter-tochter-yoga-3/
LOCATION:Umweltzentrum Bielefeld\, August-Bebel-Str. 16\, Bielefeld\, 33602
CATEGORIES:Drinnen,Familie
GEO:52.0308737;8.5395533
X-APPLE-STRUCTURED-LOCATION;VALUE=URI;X-ADDRESS=Umweltzentrum Bielefeld August-Bebel-Str. 16 Bielefeld 33602;X-APPLE-RADIUS=500;X-TITLE=August-Bebel-Str. 16:geo:8.5395533,52.0308737
END:VEVENT
BEGIN:VEVENT
DTSTART;TZID=Europe/Berlin:20250329T113000
DTEND;TZID=Europe/Berlin:20250329T121500
DTSTAMP:20260419T185810
CREATED:20250309T115828Z
LAST-MODIFIED:20250309T115828Z
UID:10002103-1743247800-1743250500@www.milkids.de
SUMMARY:Yoga für Klein und Groß
DESCRIPTION:Gemeinsam entdecken wir spielerisch die Welt des Yogas: In dieser besonderen Yogastunde für Kinder zwischen 4 und 6 Jahren kommen die Kleinen zusammen mit einer Begleitperson. Egal\, ob Papa und Tochter\, Mama und Sohn\, Onkel und Neffe oder jedes andere Familien- oder Betreuungskonstrukt – alle Kombinationen sind willkommen!  \nGemeinsam entdecken sie spielerisch die Welt des Yogas – mit einfachen Bewegungen\, Atemübungen und Entspannungsübungen\, die sowohl den Kindern als auch den Erwachsenen Freude bereiten. Diese Stunde fördert die Beweglichkeit\, Achtsamkeit und das Vertrauen\, während wir in einer entspannten und freundlichen Atmosphäre zusammen wachsen. Ideal für Eltern oder andere Begleitpersonen\, die mit ihren Kindern eine wertvolle Zeit verbringen möchten\, um Körper und Geist in Einklang zu bringen. \nAnmeldung per E-Mail an info@yogaforbielefeld.com.\nPreis: 20 Euro pro Team \nDiese 45-minütige Stunde findet jeden letzten Samstag im Monat um 11:30 Uhr im Kulturhof Bielefeld statt. Anmeldung per E-Mail an info@yogaforbielefeld.com.
URL:https://www.milkids.de/termin/yoga-fuer-klein-und-gross/
LOCATION:Umweltzentrum Bielefeld\, August-Bebel-Str. 16\, Bielefeld\, 33602
CATEGORIES:Drinnen,Familie
GEO:52.0308737;8.5395533
X-APPLE-STRUCTURED-LOCATION;VALUE=URI;X-ADDRESS=Umweltzentrum Bielefeld August-Bebel-Str. 16 Bielefeld 33602;X-APPLE-RADIUS=500;X-TITLE=August-Bebel-Str. 16:geo:8.5395533,52.0308737
END:VEVENT
BEGIN:VEVENT
DTSTART;TZID=Europe/Berlin:20250329T103000
DTEND;TZID=Europe/Berlin:20250329T111500
DTSTAMP:20260419T185810
CREATED:20250309T115305Z
LAST-MODIFIED:20250309T115305Z
UID:10002099-1743244200-1743246900@www.milkids.de
SUMMARY:Mutter-Tochter Yoga
DESCRIPTION:Gemeinsam spielerisch die Welt des Yogas entdecken: Diese Yogastunde bietet Müttern und ihren Töchtern (4-6 Jahre) die Möglichkeit\, ihre Verbindung auf eine sanfte und liebevolle Weise zu stärken. Durch einfache Yoga-Posen\, beruhigende Atemübungen und entspannende Momente können Mütter und Töchter gemeinsam im Einklang miteinander kommen.  \nDer Fokus liegt auf Achtsamkeit und dem gemeinsamen Erleben von Ruhe und Freude\, während wir in einer harmonischen Atmosphäre Zeit miteinander verbringen. Ein Raum\, um die Beziehung zwischen Mutter und Tochter zu vertiefen und die innere Balance zu fördern.\nDiese 45-minütige Stunde findet im Kulturhof Bielefeld statt.  \nAnmeldung per E-Mail an info@yogaforbielefeld.com.\nPreis: 20 Euro pro Team
URL:https://www.milkids.de/termin/mutter-tochter-yoga/2025-03-29/
LOCATION:Umweltzentrum Bielefeld\, August-Bebel-Str. 16\, Bielefeld\, 33602
CATEGORIES:Drinnen,Familie
GEO:52.0308737;8.5395533
X-APPLE-STRUCTURED-LOCATION;VALUE=URI;X-ADDRESS=Umweltzentrum Bielefeld August-Bebel-Str. 16 Bielefeld 33602;X-APPLE-RADIUS=500;X-TITLE=August-Bebel-Str. 16:geo:8.5395533,52.0308737
END:VEVENT
END:VCALENDAR