BEGIN:VCALENDAR
VERSION:2.0
PRODID:-//milkids - ECPv6.15.18//NONSGML v1.0//EN
CALSCALE:GREGORIAN
METHOD:PUBLISH
X-ORIGINAL-URL:https://www.milkids.de
X-WR-CALDESC:Veranstaltungen für milkids
REFRESH-INTERVAL;VALUE=DURATION:PT1H
X-Robots-Tag:noindex
X-PUBLISHED-TTL:PT1H
BEGIN:VTIMEZONE
TZID:Europe/Berlin
BEGIN:DAYLIGHT
TZOFFSETFROM:+0100
TZOFFSETTO:+0200
TZNAME:CEST
DTSTART:20230326T010000
END:DAYLIGHT
BEGIN:STANDARD
TZOFFSETFROM:+0200
TZOFFSETTO:+0100
TZNAME:CET
DTSTART:20231029T010000
END:STANDARD
BEGIN:DAYLIGHT
TZOFFSETFROM:+0100
TZOFFSETTO:+0200
TZNAME:CEST
DTSTART:20240331T010000
END:DAYLIGHT
BEGIN:STANDARD
TZOFFSETFROM:+0200
TZOFFSETTO:+0100
TZNAME:CET
DTSTART:20241027T010000
END:STANDARD
BEGIN:DAYLIGHT
TZOFFSETFROM:+0100
TZOFFSETTO:+0200
TZNAME:CEST
DTSTART:20250330T010000
END:DAYLIGHT
BEGIN:STANDARD
TZOFFSETFROM:+0200
TZOFFSETTO:+0100
TZNAME:CET
DTSTART:20251026T010000
END:STANDARD
BEGIN:DAYLIGHT
TZOFFSETFROM:+0100
TZOFFSETTO:+0200
TZNAME:CEST
DTSTART:20260329T010000
END:DAYLIGHT
BEGIN:STANDARD
TZOFFSETFROM:+0200
TZOFFSETTO:+0100
TZNAME:CET
DTSTART:20261025T010000
END:STANDARD
BEGIN:DAYLIGHT
TZOFFSETFROM:+0100
TZOFFSETTO:+0200
TZNAME:CEST
DTSTART:20270328T010000
END:DAYLIGHT
BEGIN:STANDARD
TZOFFSETFROM:+0200
TZOFFSETTO:+0100
TZNAME:CET
DTSTART:20271031T010000
END:STANDARD
END:VTIMEZONE
BEGIN:VEVENT
DTSTART;TZID=Europe/Berlin:20260214T103000
DTEND;TZID=Europe/Berlin:20260214T130000
DTSTAMP:20260422T030040
CREATED:20260118T172917Z
LAST-MODIFIED:20260118T172955Z
UID:10007226-1771065000-1771074000@www.milkids.de
SUMMARY:Tag der offenen Tür
DESCRIPTION:Die MuKu Bielefeld lädt ein\, sämtliche Instrumente\, Kunst- sowie Tanz- und Theaterangebote auszuprobieren und sich darüber beraten zu lassen. Die jeweiligen Fachlehrer stehen bei jedem Angebot zur Seite und beantworten Fragen.
URL:https://www.milkids.de/termin/tag-der-offenen-tuer-der-muku-bielefeld/
LOCATION:Musik und Kunstschule Bielefeld\, Burgwiese 9\, Bielefeld\, Detmold\, 33602\, Deutschland
CATEGORIES:Drinnen,Familie
GEO:52.0146619;8.5248163
X-APPLE-STRUCTURED-LOCATION;VALUE=URI;X-ADDRESS=Musik und Kunstschule Bielefeld Burgwiese 9 Bielefeld Detmold 33602 Deutschland;X-APPLE-RADIUS=500;X-TITLE=Burgwiese 9:geo:8.5248163,52.0146619
END:VEVENT
BEGIN:VEVENT
DTSTART;TZID=Europe/Berlin:20250920T110000
DTEND;TZID=Europe/Berlin:20250920T150000
DTSTAMP:20260422T030040
CREATED:20250706T222053Z
LAST-MODIFIED:20250706T222053Z
UID:10003810-1758366000-1758380400@www.milkids.de
SUMMARY:Musik- und Kunstschulfest
DESCRIPTION:
URL:https://www.milkids.de/termin/musik-und-kunstschulfest/
LOCATION:Musik und Kunstschule Bielefeld\, Burgwiese 9\, Bielefeld\, Detmold\, 33602\, Deutschland
CATEGORIES:Drinnen,Familie
GEO:52.0146619;8.5248163
X-APPLE-STRUCTURED-LOCATION;VALUE=URI;X-ADDRESS=Musik und Kunstschule Bielefeld Burgwiese 9 Bielefeld Detmold 33602 Deutschland;X-APPLE-RADIUS=500;X-TITLE=Burgwiese 9:geo:8.5248163,52.0146619
END:VEVENT
BEGIN:VEVENT
DTSTART;TZID=Europe/Berlin:20250308T103000
DTEND;TZID=Europe/Berlin:20250308T130000
DTSTAMP:20260422T030040
CREATED:20250301T153403Z
LAST-MODIFIED:20250301T153403Z
UID:10001956-1741429800-1741438800@www.milkids.de
SUMMARY:Tag der offenen Tür der Musik- und Kunstschule
DESCRIPTION:Musik\, Kunst\, Tanz und Theater zum Ausprobieren\nDie Besucher:innen können sämtliche Instrumente\, Kunst- sowie Tanz- und Theaterangebote auszuprobieren und sich beraten zu lassen. Die Fachlehrer:innen stehen Rede und Antwort.
URL:https://www.milkids.de/termin/tag-der-offenen-tuer-der-musik-und-kunstschule/
LOCATION:Musik und Kunstschule Bielefeld\, Burgwiese 9\, Bielefeld\, Detmold\, 33602\, Deutschland
CATEGORIES:Drinnen,Familie
GEO:52.0146619;8.5248163
X-APPLE-STRUCTURED-LOCATION;VALUE=URI;X-ADDRESS=Musik und Kunstschule Bielefeld Burgwiese 9 Bielefeld Detmold 33602 Deutschland;X-APPLE-RADIUS=500;X-TITLE=Burgwiese 9:geo:8.5248163,52.0146619
END:VEVENT
BEGIN:VEVENT
DTSTART;TZID=Europe/Berlin:20241214T160000
DTEND;TZID=Europe/Berlin:20241214T160000
DTSTAMP:20260422T030040
CREATED:20241121T161307Z
LAST-MODIFIED:20241203T220534Z
UID:10000797-1734192000-1734192000@www.milkids.de
SUMMARY:Weihnachtzauber der MuKu
DESCRIPTION:Ein Nachmittag voller Musik\, Kunst\, Tanz und Theater für die ganze Familie. Über 150 Schüler:innen aus den vier Sparten präsentieren sich: von klassischer und moderner Musik über Theater und Tanz bis hin zu kreativem Live-Painting und Kunstmarkt.
URL:https://www.milkids.de/termin/weihnachtzauber-der-muku-ein-nachmittag-voller-musik-kunst-tanz-und-theater-fuer-die-ganze-familie/
LOCATION:Musik und Kunstschule Bielefeld\, Burgwiese 9\, Bielefeld\, Detmold\, 33602\, Deutschland
CATEGORIES:Drinnen
GEO:52.0146619;8.5248163
X-APPLE-STRUCTURED-LOCATION;VALUE=URI;X-ADDRESS=Musik und Kunstschule Bielefeld Burgwiese 9 Bielefeld Detmold 33602 Deutschland;X-APPLE-RADIUS=500;X-TITLE=Burgwiese 9:geo:8.5248163,52.0146619
END:VEVENT
END:VCALENDAR