BEGIN:VCALENDAR
VERSION:2.0
PRODID:-//milkids - ECPv6.15.18//NONSGML v1.0//EN
CALSCALE:GREGORIAN
METHOD:PUBLISH
X-WR-CALNAME:milkids
X-ORIGINAL-URL:https://www.milkids.de
X-WR-CALDESC:Veranstaltungen für milkids
REFRESH-INTERVAL;VALUE=DURATION:PT1H
X-Robots-Tag:noindex
X-PUBLISHED-TTL:PT1H
BEGIN:VTIMEZONE
TZID:Europe/Berlin
BEGIN:DAYLIGHT
TZOFFSETFROM:+0100
TZOFFSETTO:+0200
TZNAME:CEST
DTSTART:20240331T010000
END:DAYLIGHT
BEGIN:STANDARD
TZOFFSETFROM:+0200
TZOFFSETTO:+0100
TZNAME:CET
DTSTART:20241027T010000
END:STANDARD
BEGIN:DAYLIGHT
TZOFFSETFROM:+0100
TZOFFSETTO:+0200
TZNAME:CEST
DTSTART:20250330T010000
END:DAYLIGHT
BEGIN:STANDARD
TZOFFSETFROM:+0200
TZOFFSETTO:+0100
TZNAME:CET
DTSTART:20251026T010000
END:STANDARD
BEGIN:DAYLIGHT
TZOFFSETFROM:+0100
TZOFFSETTO:+0200
TZNAME:CEST
DTSTART:20260329T010000
END:DAYLIGHT
BEGIN:STANDARD
TZOFFSETFROM:+0200
TZOFFSETTO:+0100
TZNAME:CET
DTSTART:20261025T010000
END:STANDARD
END:VTIMEZONE
BEGIN:VEVENT
DTSTART;TZID=Europe/Berlin:20250906T130000
DTEND;TZID=Europe/Berlin:20250906T150000
DTSTAMP:20260424T175814
CREATED:20250905T171212Z
LAST-MODIFIED:20250906T143136Z
UID:10004424-1757163600-1757170800@www.milkids.de
SUMMARY:Vorsortierter Kita-Flohmarkt
DESCRIPTION:Einlass für Schwangere mit einer Begleitperson jeweils 30 Minuten früher
URL:https://www.milkids.de/termin/vorsortierter-kita-flohmarkt/2025-09-06/
LOCATION:Kita Lämmershagen\, Lämmershagener Str. 320\, Bielefeld\, 33699
CATEGORIES:Drinnen,Märkte
GEO:51.9730024;8.6205479
X-APPLE-STRUCTURED-LOCATION;VALUE=URI;X-ADDRESS=Kita Lämmershagen Lämmershagener Str. 320 Bielefeld 33699;X-APPLE-RADIUS=500;X-TITLE=Lämmershagener Str. 320:geo:8.6205479,51.9730024
END:VEVENT
END:VCALENDAR