BEGIN:VCALENDAR
VERSION:2.0
PRODID:-//milkids - ECPv6.15.18//NONSGML v1.0//EN
CALSCALE:GREGORIAN
METHOD:PUBLISH
X-WR-CALNAME:milkids
X-ORIGINAL-URL:https://www.milkids.de
X-WR-CALDESC:Veranstaltungen für milkids
REFRESH-INTERVAL;VALUE=DURATION:PT1H
X-Robots-Tag:noindex
X-PUBLISHED-TTL:PT1H
BEGIN:VTIMEZONE
TZID:Europe/Berlin
BEGIN:DAYLIGHT
TZOFFSETFROM:+0100
TZOFFSETTO:+0200
TZNAME:CEST
DTSTART:20250330T010000
END:DAYLIGHT
BEGIN:STANDARD
TZOFFSETFROM:+0200
TZOFFSETTO:+0100
TZNAME:CET
DTSTART:20251026T010000
END:STANDARD
BEGIN:DAYLIGHT
TZOFFSETFROM:+0100
TZOFFSETTO:+0200
TZNAME:CEST
DTSTART:20260329T010000
END:DAYLIGHT
BEGIN:STANDARD
TZOFFSETFROM:+0200
TZOFFSETTO:+0100
TZNAME:CET
DTSTART:20261025T010000
END:STANDARD
BEGIN:DAYLIGHT
TZOFFSETFROM:+0100
TZOFFSETTO:+0200
TZNAME:CEST
DTSTART:20270328T010000
END:DAYLIGHT
BEGIN:STANDARD
TZOFFSETFROM:+0200
TZOFFSETTO:+0100
TZNAME:CET
DTSTART:20271031T010000
END:STANDARD
END:VTIMEZONE
BEGIN:VEVENT
DTSTART;TZID=Europe/Berlin:20260501T100000
DTEND;TZID=Europe/Berlin:20260501T170000
DTSTAMP:20260421T190303
CREATED:20260421T112118Z
LAST-MODIFIED:20260421T112118Z
UID:10008416-1777629600-1777654800@www.milkids.de
SUMMARY:Maifest auf dem Kiebitzhof
DESCRIPTION:Am Freitag\, 1. Mai ist es wieder so weit: Von 11 bis 17 Uhr lädt der Kiebitzhof in Gütersloh zum großen Maifest ein. \n🕙 Start Pflanzenverkauf: ab 10 Uhr in den Gewächshäusern – mit Tomatenpflanzen\, Kräutern und vielem mehr.\n🕚 Ab 11 Uhr erwartet die Besucher:innen ein buntes Fest für Groß und Klein – mit vielen Aktionen auf dem gesamten Gelände: \n🌳 Maibaum-Aufstellen\n🎶 wertkreis Beats – live on stage ab 14 Uhr\n🎧 DJ Martin Kremers sorgt parallel für gute Stimmung\n🐴 Reithalle geöffnet mit Reitspielen (11:00–12:30 Uhr)\n🎨 Kinderschminken\n🏰 Hüpfburg\n🛍️ Kiebitzhofladen geöffnet\n🍹 Cocktailstand\, Waffeln\, Essen & Getränke \nAuch in diesem Jahr haben sich viele Bereiche – von der Kita bis zum Werkstattrat – eingebracht und das Fest gemeinsam vorbereitet. \nEmpfehlung: Anreise zu Fuß oder mit dem Rad \n 
URL:https://www.milkids.de/termin/maifest-auf-dem-kiebitzhof/
LOCATION:Kiebitzhof Gütersloh\, Rhedaer Straße 220\, Gütersloh\, 33334
CATEGORIES:Draußen,Familie
ATTACH;FMTTYPE=image/jpeg:https://www.milkids.de/wp-content/uploads/2026/04/IMG_7857.jpg
ORGANIZER;CN="wertkreis G%C3%BCtersloh":MAILTO:info@wertkreis-gt.de
GEO:51.8829999;8.3440107
X-APPLE-STRUCTURED-LOCATION;VALUE=URI;X-ADDRESS=Kiebitzhof Gütersloh Rhedaer Straße 220 Gütersloh 33334;X-APPLE-RADIUS=500;X-TITLE=Rhedaer Straße 220:geo:8.3440107,51.8829999
END:VEVENT
END:VCALENDAR