BEGIN:VCALENDAR
VERSION:2.0
PRODID:-//milkids - ECPv6.15.18//NONSGML v1.0//EN
CALSCALE:GREGORIAN
METHOD:PUBLISH
X-WR-CALNAME:milkids
X-ORIGINAL-URL:https://www.milkids.de
X-WR-CALDESC:Veranstaltungen für milkids
REFRESH-INTERVAL;VALUE=DURATION:PT1H
X-Robots-Tag:noindex
X-PUBLISHED-TTL:PT1H
BEGIN:VTIMEZONE
TZID:Europe/Berlin
BEGIN:DAYLIGHT
TZOFFSETFROM:+0100
TZOFFSETTO:+0200
TZNAME:CEST
DTSTART:20250330T010000
END:DAYLIGHT
BEGIN:STANDARD
TZOFFSETFROM:+0200
TZOFFSETTO:+0100
TZNAME:CET
DTSTART:20251026T010000
END:STANDARD
BEGIN:DAYLIGHT
TZOFFSETFROM:+0100
TZOFFSETTO:+0200
TZNAME:CEST
DTSTART:20260329T010000
END:DAYLIGHT
BEGIN:STANDARD
TZOFFSETFROM:+0200
TZOFFSETTO:+0100
TZNAME:CET
DTSTART:20261025T010000
END:STANDARD
BEGIN:DAYLIGHT
TZOFFSETFROM:+0100
TZOFFSETTO:+0200
TZNAME:CEST
DTSTART:20270328T010000
END:DAYLIGHT
BEGIN:STANDARD
TZOFFSETFROM:+0200
TZOFFSETTO:+0100
TZNAME:CET
DTSTART:20271031T010000
END:STANDARD
END:VTIMEZONE
BEGIN:VEVENT
DTSTART;TZID=Europe/Berlin:20260425T100000
DTEND;TZID=Europe/Berlin:20260425T130000
DTSTAMP:20260421T185152
CREATED:20260421T110522Z
LAST-MODIFIED:20260421T110522Z
UID:10008412-1777111200-1777122000@www.milkids.de
SUMMARY:Flohmarkt in der Lydia Kirche
DESCRIPTION:Der große Flohmarkt des Lydia Kinderhauses findet in der Lydia Kirche statt – es wird gestöbert\, gefeilscht und entdeckt. Für das leibliche Wohl ist natürlich auch gesorgt: Es gibt Kaffee\, Säfte und leckeren Kuchen to go!
URL:https://www.milkids.de/termin/flohmarkt-in-der-lydia-kirche/
LOCATION:Johanniskirche Bielefeld\, Johanniskirchplatz 1\, Bielefeld\, 33615\, Germany
CATEGORIES:Drinnen,Märkte
ATTACH;FMTTYPE=image/jpeg:https://www.milkids.de/wp-content/uploads/2026/04/IMG_1461.jpeg
GEO:52.0308532;8.5245655
X-APPLE-STRUCTURED-LOCATION;VALUE=URI;X-ADDRESS=Johanniskirche Bielefeld Johanniskirchplatz 1 Bielefeld 33615 Germany;X-APPLE-RADIUS=500;X-TITLE=Johanniskirchplatz 1:geo:8.5245655,52.0308532
END:VEVENT
END:VCALENDAR