BEGIN:VCALENDAR
VERSION:2.0
PRODID:-//milkids - ECPv6.15.18//NONSGML v1.0//EN
CALSCALE:GREGORIAN
METHOD:PUBLISH
X-WR-CALNAME:milkids
X-ORIGINAL-URL:https://www.milkids.de
X-WR-CALDESC:Veranstaltungen für milkids
REFRESH-INTERVAL;VALUE=DURATION:PT1H
X-Robots-Tag:noindex
X-PUBLISHED-TTL:PT1H
BEGIN:VTIMEZONE
TZID:Europe/Berlin
BEGIN:DAYLIGHT
TZOFFSETFROM:+0100
TZOFFSETTO:+0200
TZNAME:CEST
DTSTART:20250330T010000
END:DAYLIGHT
BEGIN:STANDARD
TZOFFSETFROM:+0200
TZOFFSETTO:+0100
TZNAME:CET
DTSTART:20251026T010000
END:STANDARD
BEGIN:DAYLIGHT
TZOFFSETFROM:+0100
TZOFFSETTO:+0200
TZNAME:CEST
DTSTART:20260329T010000
END:DAYLIGHT
BEGIN:STANDARD
TZOFFSETFROM:+0200
TZOFFSETTO:+0100
TZNAME:CET
DTSTART:20261025T010000
END:STANDARD
BEGIN:DAYLIGHT
TZOFFSETFROM:+0100
TZOFFSETTO:+0200
TZNAME:CEST
DTSTART:20270328T010000
END:DAYLIGHT
BEGIN:STANDARD
TZOFFSETFROM:+0200
TZOFFSETTO:+0100
TZNAME:CET
DTSTART:20271031T010000
END:STANDARD
END:VTIMEZONE
BEGIN:VEVENT
DTSTART;TZID=Europe/Berlin:20260510T110000
DTEND;TZID=Europe/Berlin:20260510T110000
DTSTAMP:20260426T024113
CREATED:20260315T210217Z
LAST-MODIFIED:20260315T210217Z
UID:10007938-1778410800-1778410800@www.milkids.de
SUMMARY:Eröffnungsfeier „Der Uhr auf der Spur“
DESCRIPTION:Die familienfreundliche Eröffnung der Ausstellung „Der Uhr auf der Spur“ wird von Johannes Büchs (Sendung mit der Maus) moderiert\, der mit Mini-Experimenten und Beispielfragen in 45 Minuten einen kindgerechten Ausblick auf die Sonderausstellung gewährt.
URL:https://www.milkids.de/termin/eroeffnungsfeier-der-uhr-auf-der-spur/
LOCATION:Heinz Nixdorf MuseumsForum Paderborn\, Fürstenallee 7\, Paderborn\, Detmold\, 33102\, Germany
CATEGORIES:Drinnen
GEO:51.73121;8.73616
X-APPLE-STRUCTURED-LOCATION;VALUE=URI;X-ADDRESS=Heinz Nixdorf MuseumsForum Paderborn Fürstenallee 7 Paderborn Detmold 33102 Germany;X-APPLE-RADIUS=500;X-TITLE=Fürstenallee 7:geo:8.73616,51.73121
END:VEVENT
BEGIN:VEVENT
DTSTART;TZID=Europe/Berlin:20260516T103000
DTEND;TZID=Europe/Berlin:20260516T133000
DTSTAMP:20260426T024113
CREATED:20260315T211819Z
LAST-MODIFIED:20260315T211819Z
UID:10007940-1778927400-1778938200@www.milkids.de
SUMMARY:Aktionstag: Auf der Suche nach der Zeit!
DESCRIPTION:Wir suchen in der neuen Sonderausstellung „Der Uhr auf der Spur“ nach der Zeit. Wo ist sie geblieben? Wo ist sie überall versteckt? Was ist Zeit?  \nDiesen und noch vielen weiteren spannenden Fragen wollen wir mit dir auf die Spur kommen. Wir bauen zusammen eine Erinnerungsbox und schreiben Briefe an die Zukunft. Ein Zeitnotizbuch bastelst du auch noch. Am Ende wirst du sehen\, wie schnell die drei Stunden vergehen. \nfür Kinder von 8-10 Jahre
URL:https://www.milkids.de/termin/aktionstag-auf-der-suche-nach-der-zeit/
LOCATION:Heinz Nixdorf MuseumsForum Paderborn\, Fürstenallee 7\, Paderborn\, Detmold\, 33102\, Germany
CATEGORIES:Drinnen
GEO:51.73121;8.73616
X-APPLE-STRUCTURED-LOCATION;VALUE=URI;X-ADDRESS=Heinz Nixdorf MuseumsForum Paderborn Fürstenallee 7 Paderborn Detmold 33102 Germany;X-APPLE-RADIUS=500;X-TITLE=Fürstenallee 7:geo:8.73616,51.73121
END:VEVENT
BEGIN:VEVENT
DTSTART;TZID=Europe/Berlin:20260531T103000
DTEND;TZID=Europe/Berlin:20260531T113000
DTSTAMP:20260426T024113
CREATED:20250313T170212Z
LAST-MODIFIED:20260315T212258Z
UID:10007941-1780223400-1780227000@www.milkids.de
SUMMARY:Känguruführung – Babys willkommen!
DESCRIPTION:Eltern mit kleinen Entdeckern bis 3 Jahren erkunden gemeinsam die Welt der Informationstechnik im Heinz  Nixdorf MuseumsForum. Das Museum lädt Eltern mit Babys oder Kleinkindern auf eine besondere Führung ein.  \nMit der „Känguruführung“ bietet das HNF eine Einführung in die Geschichte der Computer und der Informationsverarbeitung – Eltern und Kind entdecken alte Schreibmaschinen und Rechenmaschinen und lernen die ersten Computer kennen. Auch die faszinierende Welt der Roboter wird erkundet. \nDer komplette Weg ist barrierefrei und von Etage zu Etage gibt es große Aufzüge. Also egal\, ob Sie mit Babytrage\, die wir empfehlen\, oder Wagen unterwegs sind\, wir machen den Weg zusammen. Auch das Baby darf sich mal zu Wort melden. Für uns kein Problem\, denn in dieser Führung soll es etwas lebendiger zugehen. Wickel- und Stillmöglichkeiten sind gegeben. Anschließend können Eltern sich im Museumscafé F7 noch zusammenfinden.  \nDie Führung ist kostenlos. Teilnehmer müssen nur den Museumseintritt bezahlen.\nAnmeldung erforderlich unter www.hnf.de/kaenguru-022025
URL:https://www.milkids.de/termin/kaengurufuehrung-babys-willkommen-2/2026-05-31/
LOCATION:Heinz Nixdorf MuseumsForum Paderborn\, Fürstenallee 7\, Paderborn\, Detmold\, 33102\, Germany
CATEGORIES:Drinnen
GEO:51.73121;8.73616
X-APPLE-STRUCTURED-LOCATION;VALUE=URI;X-ADDRESS=Heinz Nixdorf MuseumsForum Paderborn Fürstenallee 7 Paderborn Detmold 33102 Germany;X-APPLE-RADIUS=500;X-TITLE=Fürstenallee 7:geo:8.73616,51.73121
END:VEVENT
END:VCALENDAR