BEGIN:VCALENDAR
VERSION:2.0
PRODID:-//milkids - ECPv6.15.18//NONSGML v1.0//EN
CALSCALE:GREGORIAN
METHOD:PUBLISH
X-WR-CALNAME:milkids
X-ORIGINAL-URL:https://www.milkids.de
X-WR-CALDESC:Veranstaltungen für milkids
REFRESH-INTERVAL;VALUE=DURATION:PT1H
X-Robots-Tag:noindex
X-PUBLISHED-TTL:PT1H
BEGIN:VTIMEZONE
TZID:Europe/Berlin
BEGIN:DAYLIGHT
TZOFFSETFROM:+0100
TZOFFSETTO:+0200
TZNAME:CEST
DTSTART:20240331T010000
END:DAYLIGHT
BEGIN:STANDARD
TZOFFSETFROM:+0200
TZOFFSETTO:+0100
TZNAME:CET
DTSTART:20241027T010000
END:STANDARD
BEGIN:DAYLIGHT
TZOFFSETFROM:+0100
TZOFFSETTO:+0200
TZNAME:CEST
DTSTART:20250330T010000
END:DAYLIGHT
BEGIN:STANDARD
TZOFFSETFROM:+0200
TZOFFSETTO:+0100
TZNAME:CET
DTSTART:20251026T010000
END:STANDARD
BEGIN:DAYLIGHT
TZOFFSETFROM:+0100
TZOFFSETTO:+0200
TZNAME:CEST
DTSTART:20260329T010000
END:DAYLIGHT
BEGIN:STANDARD
TZOFFSETFROM:+0200
TZOFFSETTO:+0100
TZNAME:CET
DTSTART:20261025T010000
END:STANDARD
END:VTIMEZONE
BEGIN:VEVENT
DTSTART;TZID=Europe/Berlin:20250921T100000
DTEND;TZID=Europe/Berlin:20250921T140000
DTSTAMP:20260420T222737
CREATED:20250906T145527Z
LAST-MODIFIED:20250906T145642Z
UID:10004428-1758448800-1758463200@www.milkids.de
SUMMARY:Vorsortierter Kinder Flohmarkt
DESCRIPTION:des Louise-Scheppler-Kindergartens\nKinderkleidung Größe 50 – 146\, Schuhe\, Spielzeug\, Bücher\, Baby- und Kinderausstattung
URL:https://www.milkids.de/termin/vorsortierter-kinder-flohmarkt-2/
LOCATION:Begegnungszentrum Brackwede\, Stadtring 52A\, Bielefeld\, 33647
CATEGORIES:Drinnen,Märkte
GEO:51.9879938;8.5096526
X-APPLE-STRUCTURED-LOCATION;VALUE=URI;X-ADDRESS=Begegnungszentrum Brackwede Stadtring 52A Bielefeld 33647;X-APPLE-RADIUS=500;X-TITLE=Stadtring 52A:geo:8.5096526,51.9879938
END:VEVENT
END:VCALENDAR