BEGIN:VCALENDAR
VERSION:2.0
PRODID:-//milkids - ECPv6.15.18//NONSGML v1.0//EN
CALSCALE:GREGORIAN
METHOD:PUBLISH
X-WR-CALNAME:milkids
X-ORIGINAL-URL:https://www.milkids.de
X-WR-CALDESC:Veranstaltungen für milkids
REFRESH-INTERVAL;VALUE=DURATION:PT1H
X-Robots-Tag:noindex
X-PUBLISHED-TTL:PT1H
BEGIN:VTIMEZONE
TZID:Europe/Berlin
BEGIN:DAYLIGHT
TZOFFSETFROM:+0100
TZOFFSETTO:+0200
TZNAME:CEST
DTSTART:20240331T010000
END:DAYLIGHT
BEGIN:STANDARD
TZOFFSETFROM:+0200
TZOFFSETTO:+0100
TZNAME:CET
DTSTART:20241027T010000
END:STANDARD
BEGIN:DAYLIGHT
TZOFFSETFROM:+0100
TZOFFSETTO:+0200
TZNAME:CEST
DTSTART:20250330T010000
END:DAYLIGHT
BEGIN:STANDARD
TZOFFSETFROM:+0200
TZOFFSETTO:+0100
TZNAME:CET
DTSTART:20251026T010000
END:STANDARD
BEGIN:DAYLIGHT
TZOFFSETFROM:+0100
TZOFFSETTO:+0200
TZNAME:CEST
DTSTART:20260329T010000
END:DAYLIGHT
BEGIN:STANDARD
TZOFFSETFROM:+0200
TZOFFSETTO:+0100
TZNAME:CET
DTSTART:20261025T010000
END:STANDARD
BEGIN:DAYLIGHT
TZOFFSETFROM:+0100
TZOFFSETTO:+0200
TZNAME:CEST
DTSTART:20270328T010000
END:DAYLIGHT
BEGIN:STANDARD
TZOFFSETFROM:+0200
TZOFFSETTO:+0100
TZNAME:CET
DTSTART:20271031T010000
END:STANDARD
END:VTIMEZONE
BEGIN:VEVENT
DTSTART;TZID=Europe/Berlin:20260228T160000
DTEND;TZID=Europe/Berlin:20260228T180000
DTSTAMP:20260425T220852
CREATED:20260113T015508Z
LAST-MODIFIED:20260117T214808Z
UID:10007096-1772294400-1772301600@www.milkids.de
SUMMARY:Kreativwerkstatt: Schönes Filzen
DESCRIPTION:Ob Filzbilder oder Schlüsselanhänger\, der Fantasie sind keine Grenzen gesetzt.\nfür Kinder ab 8 Jahren
URL:https://www.milkids.de/termin/kreativwerkstatt-schoenes-filzen/
LOCATION:Bauernhausmuseum Bielefeld\, Dornberger Straße\, Bielefeld\, Detmold\, 33619\, Germany
CATEGORIES:6 bis 12,Drinnen
GEO:52.023784;8.5077865
X-APPLE-STRUCTURED-LOCATION;VALUE=URI;X-ADDRESS=Bauernhausmuseum Bielefeld Dornberger Straße Bielefeld Detmold 33619 Germany;X-APPLE-RADIUS=500;X-TITLE=Dornberger Straße:geo:8.5077865,52.023784
END:VEVENT
BEGIN:VEVENT
DTSTART;TZID=Europe/Berlin:20260226T160000
DTEND;TZID=Europe/Berlin:20260226T180000
DTSTAMP:20260425T220852
CREATED:20260113T015204Z
LAST-MODIFIED:20260113T015204Z
UID:10007095-1772121600-1772128800@www.milkids.de
SUMMARY:Familienzeit: Von der Milch zur Butter
DESCRIPTION:Nach einem kurzen Rundgang über den Hof Möllering und zu den originalen Schauplätzen der früheren Milchviehhaltung und Milchverarbeitung geht es richtig los: Die schwarz-weiße Melkkuh steht geduldig bereit. Hier darf gemolken und natürlich auch gestreichelt werden.  \nAnschließend erleben wir gemeinsam\, wie aus frischer Sahne durch kräftiges Stampfen im Holzfass nach und nach Butter entsteht. Ob pur oder mit Kräutern verfeinert – die selbstgemachte Butter wird mit frischem Brot probiert. Und selbstverständlich kosten wir auch die Buttermilch! \nür Kinder ab 6 Jahren\nKosten: Kinder: 9\,00 €\nBegleitperson: 4\,00 € \nAnmeldung erforderlich
URL:https://www.milkids.de/termin/familienzeit-von-der-milch-zur-butter-2/
LOCATION:Bauernhausmuseum Bielefeld\, Dornberger Straße\, Bielefeld\, Detmold\, 33619\, Germany
CATEGORIES:6 bis 12,Drinnen
GEO:52.023784;8.5077865
X-APPLE-STRUCTURED-LOCATION;VALUE=URI;X-ADDRESS=Bauernhausmuseum Bielefeld Dornberger Straße Bielefeld Detmold 33619 Germany;X-APPLE-RADIUS=500;X-TITLE=Dornberger Straße:geo:8.5077865,52.023784
END:VEVENT
BEGIN:VEVENT
DTSTART;TZID=Europe/Berlin:20260221T180000
DTEND;TZID=Europe/Berlin:20260221T190000
DTSTAMP:20260425T220852
CREATED:20260113T013019Z
LAST-MODIFIED:20260117T213226Z
UID:10007094-1771696800-1771700400@www.milkids.de
SUMMARY:Familienzeit: Taschenlampenführung
DESCRIPTION:Im Dunkeln durchs Museum – eine spannende Familienführung: Ohne Licht entdecken wir gemeinsam unsere beiden Mühlen und das Haupthaus mit seinem Keller. Nur mit Taschenlampen geht es durch dunkle Stuben\, über knarrende Dielen und in verborgene Ecken.\nfür Kinder ab 6 Jahre \nAnmeldung erforderlich
URL:https://www.milkids.de/termin/familenzeit-taschenlampenfuehrung/2026-02-21/
LOCATION:Bauernhausmuseum Bielefeld\, Dornberger Straße\, Bielefeld\, Detmold\, 33619\, Germany
CATEGORIES:6 bis 12,Drinnen,Familie
GEO:52.023784;8.5077865
X-APPLE-STRUCTURED-LOCATION;VALUE=URI;X-ADDRESS=Bauernhausmuseum Bielefeld Dornberger Straße Bielefeld Detmold 33619 Germany;X-APPLE-RADIUS=500;X-TITLE=Dornberger Straße:geo:8.5077865,52.023784
END:VEVENT
BEGIN:VEVENT
DTSTART;TZID=Europe/Berlin:20260214T140000
DTEND;TZID=Europe/Berlin:20260214T153000
DTSTAMP:20260425T220852
CREATED:20260113T012641Z
LAST-MODIFIED:20260115T214628Z
UID:10007091-1771077600-1771083000@www.milkids.de
SUMMARY:WaldWichtelWerkstatt
DESCRIPTION:Wir helfen den Waldwichteln\, ihre Mützen zu finden! Hört ihre Geschichte\, bastelt euren eigenen Wichtel und helft beim Mützensuchen.\nfür Kinder von 4 bis 6 Jahren \nKinder: 8\,00 €\nBegleitperson: 4\,00 €
URL:https://www.milkids.de/termin/waldwichtelwerkstatt/
LOCATION:Bauernhausmuseum Bielefeld\, Dornberger Straße\, Bielefeld\, Detmold\, 33619\, Germany
CATEGORIES:2 bis 5,6 bis 12,Drinnen
GEO:52.023784;8.5077865
X-APPLE-STRUCTURED-LOCATION;VALUE=URI;X-ADDRESS=Bauernhausmuseum Bielefeld Dornberger Straße Bielefeld Detmold 33619 Germany;X-APPLE-RADIUS=500;X-TITLE=Dornberger Straße:geo:8.5077865,52.023784
END:VEVENT
BEGIN:VEVENT
DTSTART;TZID=Europe/Berlin:20260211T160000
DTEND;TZID=Europe/Berlin:20260211T180000
DTSTAMP:20260425T220852
CREATED:20260113T013308Z
LAST-MODIFIED:20260113T014754Z
UID:10007093-1770825600-1770832800@www.milkids.de
SUMMARY:Familienzeit: Wer hat hier einen Vogel?
DESCRIPTION:Kommt vorbei und baut euren ganz eigenen kreativen Nistkasten aus Holz! Schraubt\, klebt\, schleift und bemalt ihn wie ihr wollt – so zaubert ihr ein gemütliches Zuhause für zukünftige Vogelgenerationen!\nfür Kinder ab 6 Jahren \nKinder: 16\,00 €\nBegleitperson: 4\,00 €
URL:https://www.milkids.de/termin/familenzeit-wer-hat-hier-einen-vogel/
LOCATION:Bauernhausmuseum Bielefeld\, Dornberger Straße\, Bielefeld\, Detmold\, 33619\, Germany
CATEGORIES:6 bis 12,Drinnen
GEO:52.023784;8.5077865
X-APPLE-STRUCTURED-LOCATION;VALUE=URI;X-ADDRESS=Bauernhausmuseum Bielefeld Dornberger Straße Bielefeld Detmold 33619 Germany;X-APPLE-RADIUS=500;X-TITLE=Dornberger Straße:geo:8.5077865,52.023784
END:VEVENT
BEGIN:VEVENT
DTSTART;TZID=Europe/Berlin:20260207T173000
DTEND;TZID=Europe/Berlin:20260207T183000
DTSTAMP:20260425T220852
CREATED:20260113T013019Z
LAST-MODIFIED:20260117T213226Z
UID:10007092-1770485400-1770489000@www.milkids.de
SUMMARY:Familienzeit: Taschenlampenführung
DESCRIPTION:Im Dunkeln durchs Museum – eine spannende Familienführung: Ohne Licht entdecken wir gemeinsam unsere beiden Mühlen und das Haupthaus mit seinem Keller. Nur mit Taschenlampen geht es durch dunkle Stuben\, über knarrende Dielen und in verborgene Ecken.\nfür Kinder ab 6 Jahre \nAnmeldung erforderlich
URL:https://www.milkids.de/termin/familenzeit-taschenlampenfuehrung/2026-02-07/
LOCATION:Bauernhausmuseum Bielefeld\, Dornberger Straße\, Bielefeld\, Detmold\, 33619\, Germany
CATEGORIES:6 bis 12,Drinnen,Familie
GEO:52.023784;8.5077865
X-APPLE-STRUCTURED-LOCATION;VALUE=URI;X-ADDRESS=Bauernhausmuseum Bielefeld Dornberger Straße Bielefeld Detmold 33619 Germany;X-APPLE-RADIUS=500;X-TITLE=Dornberger Straße:geo:8.5077865,52.023784
END:VEVENT
BEGIN:VEVENT
DTSTART;TZID=Europe/Berlin:20251206T180000
DTEND;TZID=Europe/Berlin:20251206T190000
DTSTAMP:20260425T220852
CREATED:20251111T004956Z
LAST-MODIFIED:20251111T081317Z
UID:10005542-1765044000-1765047600@www.milkids.de
SUMMARY:Der Nikolaus kommt ins Bauernhausmuseum
DESCRIPTION:Geschichten\, Lieder und Gespräche mit dem „echten“ Nikolaus und Knecht Ruprecht feierlich in unserem Haupthaus\nfür Kinder von 4 bis 12 Jahre \nJeweils von: 15 – 16\, 16.30 – 17.30 und 18 – 19 Uhr \nNur mit verbindlicher Anmeldung
URL:https://www.milkids.de/termin/der-nikolaus-kommt-ins-bauernhausmuseum/2025-12-06/3/
LOCATION:Bauernhausmuseum Bielefeld\, Dornberger Straße\, Bielefeld\, Detmold\, 33619\, Germany
CATEGORIES:Drinnen,Familie
GEO:52.023784;8.5077865
X-APPLE-STRUCTURED-LOCATION;VALUE=URI;X-ADDRESS=Bauernhausmuseum Bielefeld Dornberger Straße Bielefeld Detmold 33619 Germany;X-APPLE-RADIUS=500;X-TITLE=Dornberger Straße:geo:8.5077865,52.023784
END:VEVENT
BEGIN:VEVENT
DTSTART;TZID=Europe/Berlin:20251206T163000
DTEND;TZID=Europe/Berlin:20251206T173000
DTSTAMP:20260425T220852
CREATED:20251111T004956Z
LAST-MODIFIED:20251111T081317Z
UID:10005541-1765038600-1765042200@www.milkids.de
SUMMARY:Der Nikolaus kommt ins Bauernhausmuseum
DESCRIPTION:Geschichten\, Lieder und Gespräche mit dem „echten“ Nikolaus und Knecht Ruprecht feierlich in unserem Haupthaus\nfür Kinder von 4 bis 12 Jahre \nJeweils von: 15 – 16\, 16.30 – 17.30 und 18 – 19 Uhr \nNur mit verbindlicher Anmeldung
URL:https://www.milkids.de/termin/der-nikolaus-kommt-ins-bauernhausmuseum/2025-12-06/2/
LOCATION:Bauernhausmuseum Bielefeld\, Dornberger Straße\, Bielefeld\, Detmold\, 33619\, Germany
CATEGORIES:Drinnen,Familie
GEO:52.023784;8.5077865
X-APPLE-STRUCTURED-LOCATION;VALUE=URI;X-ADDRESS=Bauernhausmuseum Bielefeld Dornberger Straße Bielefeld Detmold 33619 Germany;X-APPLE-RADIUS=500;X-TITLE=Dornberger Straße:geo:8.5077865,52.023784
END:VEVENT
BEGIN:VEVENT
DTSTART;TZID=Europe/Berlin:20251206T150000
DTEND;TZID=Europe/Berlin:20251206T160000
DTSTAMP:20260425T220852
CREATED:20251111T004956Z
LAST-MODIFIED:20251111T081317Z
UID:10005540-1765033200-1765036800@www.milkids.de
SUMMARY:Der Nikolaus kommt ins Bauernhausmuseum
DESCRIPTION:Geschichten\, Lieder und Gespräche mit dem „echten“ Nikolaus und Knecht Ruprecht feierlich in unserem Haupthaus\nfür Kinder von 4 bis 12 Jahre \nJeweils von: 15 – 16\, 16.30 – 17.30 und 18 – 19 Uhr \nNur mit verbindlicher Anmeldung
URL:https://www.milkids.de/termin/der-nikolaus-kommt-ins-bauernhausmuseum/2025-12-06/1/
LOCATION:Bauernhausmuseum Bielefeld\, Dornberger Straße\, Bielefeld\, Detmold\, 33619\, Germany
CATEGORIES:Drinnen,Familie
GEO:52.023784;8.5077865
X-APPLE-STRUCTURED-LOCATION;VALUE=URI;X-ADDRESS=Bauernhausmuseum Bielefeld Dornberger Straße Bielefeld Detmold 33619 Germany;X-APPLE-RADIUS=500;X-TITLE=Dornberger Straße:geo:8.5077865,52.023784
END:VEVENT
BEGIN:VEVENT
DTSTART;TZID=Europe/Berlin:20251205T160000
DTEND;TZID=Europe/Berlin:20251205T180000
DTSTAMP:20260425T220852
CREATED:20251111T004652Z
LAST-MODIFIED:20251111T004652Z
UID:10005539-1764950400-1764957600@www.milkids.de
SUMMARY:Familienzeit „Stutenkerle backen“
DESCRIPTION:Wir backen Kostbarkeiten aus Weizenmehl und lassen aus süßem Hefeteig herrliche Stutenkerle entstehen. \n(Groß-)Eltern-Kind-Aktion für Kinder ab 6 Jahre\nNur mit verbindlicher Anmeldung
URL:https://www.milkids.de/termin/familienzeit-stutenkerle-backen/
LOCATION:Bauernhausmuseum Bielefeld\, Dornberger Straße\, Bielefeld\, Detmold\, 33619\, Germany
CATEGORIES:Drinnen,Familie
GEO:52.023784;8.5077865
X-APPLE-STRUCTURED-LOCATION;VALUE=URI;X-ADDRESS=Bauernhausmuseum Bielefeld Dornberger Straße Bielefeld Detmold 33619 Germany;X-APPLE-RADIUS=500;X-TITLE=Dornberger Straße:geo:8.5077865,52.023784
END:VEVENT
BEGIN:VEVENT
DTSTART;TZID=Europe/Berlin:20251204T160000
DTEND;TZID=Europe/Berlin:20251204T180000
DTSTAMP:20260425T220852
CREATED:20250913T003138Z
LAST-MODIFIED:20251203T224754Z
UID:10004692-1764864000-1764871200@www.milkids.de
SUMMARY:Kreativwerkstatt „Bald ist Nikolausabend da“
DESCRIPTION:Wir filzen unseren eigenen Nikolausstiefel – kreativ\, bunt\, warm – und jeder wird einfach einzigartig;\nfür Kinder ab 10 Jahre \nKinder: 12 €\nBegleitperson: 4 €\nNur mit verbindlicher Anmeldung
URL:https://www.milkids.de/termin/kreativwerkstatt-bald-ist-nikolausabend-da/
LOCATION:Bauernhausmuseum Bielefeld\, Dornberger Straße\, Bielefeld\, Detmold\, 33619\, Germany
CATEGORIES:6 bis 12,Drinnen
GEO:52.023784;8.5077865
X-APPLE-STRUCTURED-LOCATION;VALUE=URI;X-ADDRESS=Bauernhausmuseum Bielefeld Dornberger Straße Bielefeld Detmold 33619 Germany;X-APPLE-RADIUS=500;X-TITLE=Dornberger Straße:geo:8.5077865,52.023784
END:VEVENT
BEGIN:VEVENT
DTSTART;TZID=Europe/Berlin:20251123T170000
DTEND;TZID=Europe/Berlin:20251123T180000
DTSTAMP:20260425T220852
CREATED:20250913T001620Z
LAST-MODIFIED:20250913T002921Z
UID:10004691-1763917200-1763920800@www.milkids.de
SUMMARY:Familienzeit „Taschenlampenführung“
DESCRIPTION:Im Dunkeln durchs Museum – eine spannende Familienführung;\n(Groß-)Eltern-Kind-Aktion für Kinder ab 6 Jahre \nEintritt: 6\,00 €\nNur mit verbindlicher Anmeldung
URL:https://www.milkids.de/termin/familienzeit-taschenlampenfuehrung-2/2025-11-23/
LOCATION:Bauernhausmuseum Bielefeld\, Dornberger Straße\, Bielefeld\, Detmold\, 33619\, Germany
CATEGORIES:Drinnen
GEO:52.023784;8.5077865
X-APPLE-STRUCTURED-LOCATION;VALUE=URI;X-ADDRESS=Bauernhausmuseum Bielefeld Dornberger Straße Bielefeld Detmold 33619 Germany;X-APPLE-RADIUS=500;X-TITLE=Dornberger Straße:geo:8.5077865,52.023784
END:VEVENT
BEGIN:VEVENT
DTSTART;TZID=Europe/Berlin:20251121T160000
DTEND;TZID=Europe/Berlin:20251121T180000
DTSTAMP:20260425T220852
CREATED:20250913T002640Z
LAST-MODIFIED:20250913T002640Z
UID:10004690-1763740800-1763748000@www.milkids.de
SUMMARY:Familienzeit „Plätzchen backen“
DESCRIPTION:Teig kneten\, Plätzchen verzieren und im Lehmbackofen backen steht auf dem Programm für Euch;\n(Groß-)Eltern-Kind-Aktion für Kinder ab 6 Jahre \nKinder: 9\,00 €\nErwachsene: 6\,00 €\nNur mit verbindlicher Anmeldung
URL:https://www.milkids.de/termin/familienzeit-plaetzchen-backen/
LOCATION:Bauernhausmuseum Bielefeld\, Dornberger Straße\, Bielefeld\, Detmold\, 33619\, Germany
CATEGORIES:Drinnen
GEO:52.023784;8.5077865
X-APPLE-STRUCTURED-LOCATION;VALUE=URI;X-ADDRESS=Bauernhausmuseum Bielefeld Dornberger Straße Bielefeld Detmold 33619 Germany;X-APPLE-RADIUS=500;X-TITLE=Dornberger Straße:geo:8.5077865,52.023784
END:VEVENT
BEGIN:VEVENT
DTSTART;TZID=Europe/Berlin:20251116T150000
DTEND;TZID=Europe/Berlin:20251116T154500
DTSTAMP:20260425T220852
CREATED:20250913T002355Z
LAST-MODIFIED:20250913T002355Z
UID:10004689-1763305200-1763307900@www.milkids.de
SUMMARY:Märchen im Bauernhausmuseum
DESCRIPTION:Mitmach-Märchen für Jung und Alt. Und wir singen! \nEintritt: 5\,00 €\nohne Anmeldung
URL:https://www.milkids.de/termin/maerchen-im-bauernhausmuseum-5/
LOCATION:Bauernhausmuseum Bielefeld\, Dornberger Straße\, Bielefeld\, Detmold\, 33619\, Germany
CATEGORIES:Drinnen
GEO:52.023784;8.5077865
X-APPLE-STRUCTURED-LOCATION;VALUE=URI;X-ADDRESS=Bauernhausmuseum Bielefeld Dornberger Straße Bielefeld Detmold 33619 Germany;X-APPLE-RADIUS=500;X-TITLE=Dornberger Straße:geo:8.5077865,52.023784
END:VEVENT
BEGIN:VEVENT
DTSTART;TZID=Europe/Berlin:20251109T110000
DTEND;TZID=Europe/Berlin:20251109T180000
DTSTAMP:20260425T220852
CREATED:20250913T001919Z
LAST-MODIFIED:20250913T002002Z
UID:10005160-1762686000-1762711200@www.milkids.de
SUMMARY:Vorweihnachtlicher Markt
DESCRIPTION:Handgearbeitete und individuelle Produkte für Haus und Garten; Malerei\, Keramik\, Glas\, Holz\, Schmuck\, Honig\, Papier\, Lebensmittel\, Speisen und Getränke\, Spinn- und Webvorführung\, u.v.m.\nDas Café ist geöffnet und es gibt frisches Brot aus dem Lehmofen im Backhaus \nErwachsene: 3\,00 €\nohne Anmeldung
URL:https://www.milkids.de/termin/vorweihnachtlicher-markt-3/
LOCATION:Bauernhausmuseum Bielefeld\, Dornberger Straße\, Bielefeld\, Detmold\, 33619\, Germany
CATEGORIES:Drinnen
GEO:52.023784;8.5077865
X-APPLE-STRUCTURED-LOCATION;VALUE=URI;X-ADDRESS=Bauernhausmuseum Bielefeld Dornberger Straße Bielefeld Detmold 33619 Germany;X-APPLE-RADIUS=500;X-TITLE=Dornberger Straße:geo:8.5077865,52.023784
END:VEVENT
BEGIN:VEVENT
DTSTART;TZID=Europe/Berlin:20251108T171500
DTEND;TZID=Europe/Berlin:20251108T180000
DTSTAMP:20260425T220852
CREATED:20251105T181210Z
LAST-MODIFIED:20251105T181210Z
UID:10005433-1762622100-1762624800@www.milkids.de
SUMMARY:Laternenumzug im Bauernhausmuseum Bielefeld
DESCRIPTION:Ein Spaziergang mit Laternen und kurzen Geschichten. Ohne Feuer\, nur mit Lichterstäben.
URL:https://www.milkids.de/termin/laternenumzug-im-bauernhausmuseum-bielefeld/
LOCATION:Bauernhausmuseum Bielefeld\, Dornberger Straße\, Bielefeld\, Detmold\, 33619\, Germany
CATEGORIES:Draußen,Familie
GEO:52.023784;8.5077865
X-APPLE-STRUCTURED-LOCATION;VALUE=URI;X-ADDRESS=Bauernhausmuseum Bielefeld Dornberger Straße Bielefeld Detmold 33619 Germany;X-APPLE-RADIUS=500;X-TITLE=Dornberger Straße:geo:8.5077865,52.023784
END:VEVENT
BEGIN:VEVENT
DTSTART;TZID=Europe/Berlin:20251108T171500
DTEND;TZID=Europe/Berlin:20251108T180000
DTSTAMP:20260425T220852
CREATED:20250913T002147Z
LAST-MODIFIED:20250913T002147Z
UID:10004688-1762622100-1762624800@www.milkids.de
SUMMARY:Familienzeit „Laternen-Umzug“
DESCRIPTION:Ein Spaziergang mit Laternen und kurzen Geschichten.\nOhne Feuer\, nur mit Lichterstäben;\n(Groß-) Eltern-Kind-Aktion für Kinder ab 4 Jahre \nKinder: 3\,00 €\nohne Anmeldung
URL:https://www.milkids.de/termin/familienzeit-laternen-umzug/
LOCATION:Bauernhausmuseum Bielefeld\, Dornberger Straße\, Bielefeld\, Detmold\, 33619\, Germany
CATEGORIES:Draußen
GEO:52.023784;8.5077865
X-APPLE-STRUCTURED-LOCATION;VALUE=URI;X-ADDRESS=Bauernhausmuseum Bielefeld Dornberger Straße Bielefeld Detmold 33619 Germany;X-APPLE-RADIUS=500;X-TITLE=Dornberger Straße:geo:8.5077865,52.023784
END:VEVENT
BEGIN:VEVENT
DTSTART;TZID=Europe/Berlin:20251108T130000
DTEND;TZID=Europe/Berlin:20251108T180000
DTSTAMP:20260425T220852
CREATED:20250914T231337Z
LAST-MODIFIED:20250914T231337Z
UID:10004686-1762606800-1762624800@www.milkids.de
SUMMARY:Vorweihnachtlicher Markt
DESCRIPTION:Handgearbeitete und individuelle Produkte für Haus und Garten; Malerei\, Keramik\, Glas\, Holz\, Schmuck\, Honig\, Papier\, Lebensmittel\, Speisen und Getränke\, Spinn- und Webvorführung\, u.v.m.\nDas Café ist geöffnet und es gibt frisches Brot aus dem Lehmofen im Backhaus \nErwachsene: 3\,00 €\nohne Anmeldung
URL:https://www.milkids.de/termin/vorweihnachtlicher-markt-4/
LOCATION:Bauernhausmuseum Bielefeld\, Dornberger Straße\, Bielefeld\, Detmold\, 33619\, Germany
CATEGORIES:Drinnen
GEO:52.023784;8.5077865
X-APPLE-STRUCTURED-LOCATION;VALUE=URI;X-ADDRESS=Bauernhausmuseum Bielefeld Dornberger Straße Bielefeld Detmold 33619 Germany;X-APPLE-RADIUS=500;X-TITLE=Dornberger Straße:geo:8.5077865,52.023784
END:VEVENT
BEGIN:VEVENT
DTSTART;TZID=Europe/Berlin:20251107T160000
DTEND;TZID=Europe/Berlin:20251107T180000
DTSTAMP:20260425T220852
CREATED:20250913T001742Z
LAST-MODIFIED:20250913T001742Z
UID:10004685-1762531200-1762538400@www.milkids.de
SUMMARY:Kreativwerkstatt „Laternen basteln“
DESCRIPTION:Wir suchen im Wald bunte Blätter und bauen aus Holzscheiben\, Stäben und Papier individuelle Laternen;\nfür Kinder ab 6 Jahre \nKinder: 15\,00 €\,\nBegleitperson: 4\,00 €\nNur mit verbindlicher Anmeldung
URL:https://www.milkids.de/termin/kreativwerkstatt-laternen-basteln/
LOCATION:Bauernhausmuseum Bielefeld\, Dornberger Straße\, Bielefeld\, Detmold\, 33619\, Germany
CATEGORIES:Drinnen
GEO:52.023784;8.5077865
X-APPLE-STRUCTURED-LOCATION;VALUE=URI;X-ADDRESS=Bauernhausmuseum Bielefeld Dornberger Straße Bielefeld Detmold 33619 Germany;X-APPLE-RADIUS=500;X-TITLE=Dornberger Straße:geo:8.5077865,52.023784
END:VEVENT
BEGIN:VEVENT
DTSTART;TZID=Europe/Berlin:20251102T180000
DTEND;TZID=Europe/Berlin:20251102T190000
DTSTAMP:20260425T220852
CREATED:20250914T231212Z
LAST-MODIFIED:20250914T231212Z
UID:10004684-1762106400-1762110000@www.milkids.de
SUMMARY:Familienzeit „Taschenlampenführung“
DESCRIPTION:Im Dunkeln durchs Museum – eine spannende Familienführung;\n(Groß-)Eltern-Kind-Aktion für Kinder ab 6 Jahre \nEintritt: 6\,00 €\nNur mit verbindlicher Anmeldung
URL:https://www.milkids.de/termin/familienzeit-taschenlampenfuehrung-3/
LOCATION:Bauernhausmuseum Bielefeld\, Dornberger Straße\, Bielefeld\, Detmold\, 33619\, Germany
CATEGORIES:Drinnen
GEO:52.023784;8.5077865
X-APPLE-STRUCTURED-LOCATION;VALUE=URI;X-ADDRESS=Bauernhausmuseum Bielefeld Dornberger Straße Bielefeld Detmold 33619 Germany;X-APPLE-RADIUS=500;X-TITLE=Dornberger Straße:geo:8.5077865,52.023784
END:VEVENT
BEGIN:VEVENT
DTSTART;TZID=Europe/Berlin:20251102T150000
DTEND;TZID=Europe/Berlin:20251102T170000
DTSTAMP:20260425T220852
CREATED:20250913T001431Z
LAST-MODIFIED:20250913T001446Z
UID:10004683-1762095600-1762102800@www.milkids.de
SUMMARY:Familienzeit „Bauernsuppe“
DESCRIPTION:Wir schnippeln frisches Gemüse\, kochen draußen über dem offenen Feuer\, rühren im schweren Suppenkessel und essen gemeinsam;\n(Groß-)Eltern-Kind-Aktion für Kinder ab 6 Jahre \nKinder: 12\,00 €\nErwachsene: 6\,00 €\nNur mit verbindlicher Anmeldung
URL:https://www.milkids.de/termin/familienzeit-bauernsuppe/
LOCATION:Bauernhausmuseum Bielefeld\, Dornberger Straße\, Bielefeld\, Detmold\, 33619\, Germany
CATEGORIES:Drinnen
GEO:52.023784;8.5077865
X-APPLE-STRUCTURED-LOCATION;VALUE=URI;X-ADDRESS=Bauernhausmuseum Bielefeld Dornberger Straße Bielefeld Detmold 33619 Germany;X-APPLE-RADIUS=500;X-TITLE=Dornberger Straße:geo:8.5077865,52.023784
END:VEVENT
BEGIN:VEVENT
DTSTART;TZID=Europe/Berlin:20251031T160000
DTEND;TZID=Europe/Berlin:20251031T180000
DTSTAMP:20260425T220852
CREATED:20250913T001303Z
LAST-MODIFIED:20250913T001303Z
UID:10004682-1761926400-1761933600@www.milkids.de
SUMMARY:Familienzeit „Grusel-Plätzchen backen“
DESCRIPTION:Leckere Plätzchen mit schaurigen Formen backenwir in unserem Lehmbackofen im Backhaus;\n(Groß-) Eltern-Kind-Aktion für Kinder ab 6 Jahre \nKinder: 9\,00 €\nErwachsene: 6\,00 €\nNur mit verbindlicher Anmeldung
URL:https://www.milkids.de/termin/familienzeit-grusel-plaetzchen-backen/
LOCATION:Bauernhausmuseum Bielefeld\, Dornberger Straße\, Bielefeld\, Detmold\, 33619\, Germany
CATEGORIES:Drinnen
GEO:52.023784;8.5077865
X-APPLE-STRUCTURED-LOCATION;VALUE=URI;X-ADDRESS=Bauernhausmuseum Bielefeld Dornberger Straße Bielefeld Detmold 33619 Germany;X-APPLE-RADIUS=500;X-TITLE=Dornberger Straße:geo:8.5077865,52.023784
END:VEVENT
BEGIN:VEVENT
DTSTART;TZID=Europe/Berlin:20251025T160000
DTEND;TZID=Europe/Berlin:20251025T180000
DTSTAMP:20260425T220852
CREATED:20250913T001036Z
LAST-MODIFIED:20250913T001036Z
UID:10004681-1761408000-1761415200@www.milkids.de
SUMMARY:Ferienzeit: Plätzchen backen
DESCRIPTION:Teig kneten\, im Lehmbackofen backen und Plätzchen verzieren steht auf dem Programm;\nfür Kinder ab 6 Jahre \nKinder: 9\,00 €\,\nErwachsene: 6\,00 €\nNur mit verbindlicher Anmeldung
URL:https://www.milkids.de/termin/ferienzeit-plaetzchen-backen/
LOCATION:Bauernhausmuseum Bielefeld\, Dornberger Straße\, Bielefeld\, Detmold\, 33619\, Germany
CATEGORIES:Drinnen
GEO:52.023784;8.5077865
X-APPLE-STRUCTURED-LOCATION;VALUE=URI;X-ADDRESS=Bauernhausmuseum Bielefeld Dornberger Straße Bielefeld Detmold 33619 Germany;X-APPLE-RADIUS=500;X-TITLE=Dornberger Straße:geo:8.5077865,52.023784
END:VEVENT
BEGIN:VEVENT
DTSTART;TZID=Europe/Berlin:20251023T150000
DTEND;TZID=Europe/Berlin:20251023T170000
DTSTAMP:20260425T220852
CREATED:20250913T000855Z
LAST-MODIFIED:20250913T000855Z
UID:10004680-1761231600-1761238800@www.milkids.de
SUMMARY:Ferienzeit: Körbchen flechten
DESCRIPTION:Wir flechten schöne\, kleine Körbchen – ganz wie damals auf dem Bauernhof;\nfür Kinder ab 8 Jahre \nKinder: 12\,00 €\nBegleitperson: 4\,00 €\nNur mit verbindlicher Anmeldung
URL:https://www.milkids.de/termin/ferienzeit-koerbchen-flechten/
LOCATION:Bauernhausmuseum Bielefeld\, Dornberger Straße\, Bielefeld\, Detmold\, 33619\, Germany
CATEGORIES:Drinnen
GEO:52.023784;8.5077865
X-APPLE-STRUCTURED-LOCATION;VALUE=URI;X-ADDRESS=Bauernhausmuseum Bielefeld Dornberger Straße Bielefeld Detmold 33619 Germany;X-APPLE-RADIUS=500;X-TITLE=Dornberger Straße:geo:8.5077865,52.023784
END:VEVENT
BEGIN:VEVENT
DTSTART;TZID=Europe/Berlin:20251022T150000
DTEND;TZID=Europe/Berlin:20251022T170000
DTSTAMP:20260425T220852
CREATED:20250913T000647Z
LAST-MODIFIED:20250913T000647Z
UID:10004679-1761145200-1761152400@www.milkids.de
SUMMARY:Ferienzeit: Vom Acker auf den Teller
DESCRIPTION:Bildung für nachhaltige Entwicklung: Gemeinsam ernten wir Kartoffeln und sammeln frische Kräuter und bereiten uns eine kleine Mahlzeit;\nfür Kinder ab 6 Jahre \nKinder: 12\,00 €\nBegleitperson: 4\,00 €\nNur mit verbindlicher Anmeldung:
URL:https://www.milkids.de/termin/ferienzeit-vom-acker-auf-den-teller-2/
LOCATION:Bauernhausmuseum Bielefeld\, Dornberger Straße\, Bielefeld\, Detmold\, 33619\, Germany
CATEGORIES:Drinnen
GEO:52.023784;8.5077865
X-APPLE-STRUCTURED-LOCATION;VALUE=URI;X-ADDRESS=Bauernhausmuseum Bielefeld Dornberger Straße Bielefeld Detmold 33619 Germany;X-APPLE-RADIUS=500;X-TITLE=Dornberger Straße:geo:8.5077865,52.023784
END:VEVENT
BEGIN:VEVENT
DTSTART;TZID=Europe/Berlin:20251019T150000
DTEND;TZID=Europe/Berlin:20251019T154500
DTSTAMP:20260425T220852
CREATED:20250913T000501Z
LAST-MODIFIED:20250913T000501Z
UID:10004678-1760886000-1760888700@www.milkids.de
SUMMARY:Märchen im Bauernhausmuseum
DESCRIPTION:Kelolan und sein Esel – Märchen und Lieder \nEintritt: 5\,00 €\nohne Anmeldung
URL:https://www.milkids.de/termin/maerchen-im-bauernhausmuseum-4/
LOCATION:Bauernhausmuseum Bielefeld\, Dornberger Straße\, Bielefeld\, Detmold\, 33619\, Germany
CATEGORIES:Drinnen
GEO:52.023784;8.5077865
X-APPLE-STRUCTURED-LOCATION;VALUE=URI;X-ADDRESS=Bauernhausmuseum Bielefeld Dornberger Straße Bielefeld Detmold 33619 Germany;X-APPLE-RADIUS=500;X-TITLE=Dornberger Straße:geo:8.5077865,52.023784
END:VEVENT
BEGIN:VEVENT
DTSTART;TZID=Europe/Berlin:20251016T150000
DTEND;TZID=Europe/Berlin:20251016T170000
DTSTAMP:20260425T220852
CREATED:20250913T000339Z
LAST-MODIFIED:20250913T000339Z
UID:10004677-1760626800-1760634000@www.milkids.de
SUMMARY:Ferienzeit: Vom Korn zum Brot
DESCRIPTION:Bildung für nachhaltige Entwicklung: Getreide selber dreschen\, in der Mühle mahlen\, aus dem Mehl Teig kneten und Brötchen im Backhaus backen;\nfür Kinder ab 6 Jahre \nKinder: 9\,00 €\nBegleitperson: 4\,00 €\nNur mit verbindlicher Anmeldung:
URL:https://www.milkids.de/termin/ferienzeit-vom-korn-zum-brot-2/
LOCATION:Bauernhausmuseum Bielefeld\, Dornberger Straße\, Bielefeld\, Detmold\, 33619\, Germany
CATEGORIES:Drinnen
GEO:52.023784;8.5077865
X-APPLE-STRUCTURED-LOCATION;VALUE=URI;X-ADDRESS=Bauernhausmuseum Bielefeld Dornberger Straße Bielefeld Detmold 33619 Germany;X-APPLE-RADIUS=500;X-TITLE=Dornberger Straße:geo:8.5077865,52.023784
END:VEVENT
BEGIN:VEVENT
DTSTART;TZID=Europe/Berlin:20251015T150000
DTEND;TZID=Europe/Berlin:20251015T170000
DTSTAMP:20260425T220852
CREATED:20250913T000134Z
LAST-MODIFIED:20250913T000134Z
UID:10004676-1760540400-1760547600@www.milkids.de
SUMMARY:Ferienzeit: Von der Milch zur Butter
DESCRIPTION:Bildung für nachhaltige Entwicklung: Melken lernen\, die eigene Butter herstellen\, mit Kräutern verfeinern und verköstigen;\nfür Kinder ab 6 Jahre \nKinder: 9\,00 €\nBegleitperson: 4\,00 €\nNur mit verbindlicher Anmeldung
URL:https://www.milkids.de/termin/ferienzeit-von-der-milch-zur-butter-2/
LOCATION:Bauernhausmuseum Bielefeld\, Dornberger Straße\, Bielefeld\, Detmold\, 33619\, Germany
CATEGORIES:Drinnen
GEO:52.023784;8.5077865
X-APPLE-STRUCTURED-LOCATION;VALUE=URI;X-ADDRESS=Bauernhausmuseum Bielefeld Dornberger Straße Bielefeld Detmold 33619 Germany;X-APPLE-RADIUS=500;X-TITLE=Dornberger Straße:geo:8.5077865,52.023784
END:VEVENT
BEGIN:VEVENT
DTSTART;TZID=Europe/Berlin:20251012T150000
DTEND;TZID=Europe/Berlin:20251012T180000
DTSTAMP:20260425T220852
CREATED:20250912T235948Z
LAST-MODIFIED:20250912T235948Z
UID:10004675-1760281200-1760292000@www.milkids.de
SUMMARY:Mitmachaktion – Gesindetag
DESCRIPTION:Spielen\, waschen und Holz machen – wie war das 1850? Einfach vorbeikommen und in den Workshop einsteigen – so lange du magst!\nFür Kinder ab 6 Jahre \nKinder: 9\,00 €\nBegleitperson: 4\,00 €\nOhne Anmeldung.
URL:https://www.milkids.de/termin/mitmachaktion-gesindetag/
LOCATION:Bauernhausmuseum Bielefeld\, Dornberger Straße\, Bielefeld\, Detmold\, 33619\, Germany
CATEGORIES:Drinnen
GEO:52.023784;8.5077865
X-APPLE-STRUCTURED-LOCATION;VALUE=URI;X-ADDRESS=Bauernhausmuseum Bielefeld Dornberger Straße Bielefeld Detmold 33619 Germany;X-APPLE-RADIUS=500;X-TITLE=Dornberger Straße:geo:8.5077865,52.023784
END:VEVENT
BEGIN:VEVENT
DTSTART;TZID=Europe/Berlin:20250928T150000
DTEND;TZID=Europe/Berlin:20250928T173000
DTSTAMP:20260425T220852
CREATED:20250706T191024Z
LAST-MODIFIED:20250706T191024Z
UID:10003749-1759071600-1759080600@www.milkids.de
SUMMARY:Familienzeit "Apfeltag"
DESCRIPTION:Von Apfelchips bis Bratapfel: Äpfel verschiedener Sorten kennenlernen und ernten\, verarbeiten und genießen;\n(Groß-)Eltern-Kind-Aktion für Kinder ab 6 Jahre \nKosgten: Kinder 9 €\, Begleitperson 6 €\nNur mit verbindlicher Anmeldung
URL:https://www.milkids.de/termin/familienzeit-apfeltag/
LOCATION:Bauernhausmuseum Bielefeld\, Dornberger Straße\, Bielefeld\, Detmold\, 33619\, Germany
CATEGORIES:Drinnen
GEO:52.023784;8.5077865
X-APPLE-STRUCTURED-LOCATION;VALUE=URI;X-ADDRESS=Bauernhausmuseum Bielefeld Dornberger Straße Bielefeld Detmold 33619 Germany;X-APPLE-RADIUS=500;X-TITLE=Dornberger Straße:geo:8.5077865,52.023784
END:VEVENT
END:VCALENDAR