BEGIN:VCALENDAR
VERSION:2.0
PRODID:-//milkids - ECPv6.15.18//NONSGML v1.0//EN
CALSCALE:GREGORIAN
METHOD:PUBLISH
X-ORIGINAL-URL:https://www.milkids.de
X-WR-CALDESC:Veranstaltungen für milkids
REFRESH-INTERVAL;VALUE=DURATION:PT1H
X-Robots-Tag:noindex
X-PUBLISHED-TTL:PT1H
BEGIN:VTIMEZONE
TZID:Europe/Berlin
BEGIN:DAYLIGHT
TZOFFSETFROM:+0100
TZOFFSETTO:+0200
TZNAME:CEST
DTSTART:20250330T010000
END:DAYLIGHT
BEGIN:STANDARD
TZOFFSETFROM:+0200
TZOFFSETTO:+0100
TZNAME:CET
DTSTART:20251026T010000
END:STANDARD
BEGIN:DAYLIGHT
TZOFFSETFROM:+0100
TZOFFSETTO:+0200
TZNAME:CEST
DTSTART:20260329T010000
END:DAYLIGHT
BEGIN:STANDARD
TZOFFSETFROM:+0200
TZOFFSETTO:+0100
TZNAME:CET
DTSTART:20261025T010000
END:STANDARD
BEGIN:DAYLIGHT
TZOFFSETFROM:+0100
TZOFFSETTO:+0200
TZNAME:CEST
DTSTART:20270328T010000
END:DAYLIGHT
BEGIN:STANDARD
TZOFFSETFROM:+0200
TZOFFSETTO:+0100
TZNAME:CET
DTSTART:20271031T010000
END:STANDARD
END:VTIMEZONE
BEGIN:VEVENT
DTSTART;TZID=Europe/Berlin:20260509T130000
DTEND;TZID=Europe/Berlin:20260509T180000
DTSTAMP:20260425T191050
CREATED:20260315T120554Z
LAST-MODIFIED:20260315T120554Z
UID:10007810-1778331600-1778349600@www.milkids.de
SUMMARY:Frühjahrsmarkt
DESCRIPTION:Handgearbeitete und individuelle Produkte für Haus und Garten; Malerei\, Keramik\, Glas\, Holz\, Schmuck\, Honig\, Papier\, Speisen und Getränke\, Spinn- und Webvorführung\, u. v. m.;\ndas Café ist geöffnet und es gibt frisches Brot aus dem Lehmofen im Backhaus.
URL:https://www.milkids.de/termin/fruehjahrsmarkt/2026-05-09/
LOCATION:Bauernhausmuseum Bielefeld\, Dornberger Straße\, Bielefeld\, Detmold\, 33619\, Germany
CATEGORIES:Draußen
GEO:52.023784;8.5077865
X-APPLE-STRUCTURED-LOCATION;VALUE=URI;X-ADDRESS=Bauernhausmuseum Bielefeld Dornberger Straße Bielefeld Detmold 33619 Germany;X-APPLE-RADIUS=500;X-TITLE=Dornberger Straße:geo:8.5077865,52.023784
END:VEVENT
BEGIN:VEVENT
DTSTART;TZID=Europe/Berlin:20260510T110000
DTEND;TZID=Europe/Berlin:20260510T180000
DTSTAMP:20260425T191050
CREATED:20260315T120554Z
LAST-MODIFIED:20260315T120554Z
UID:10007811-1778410800-1778436000@www.milkids.de
SUMMARY:Frühjahrsmarkt
DESCRIPTION:Handgearbeitete und individuelle Produkte für Haus und Garten; Malerei\, Keramik\, Glas\, Holz\, Schmuck\, Honig\, Papier\, Speisen und Getränke\, Spinn- und Webvorführung\, u. v. m.;\ndas Café ist geöffnet und es gibt frisches Brot aus dem Lehmofen im Backhaus.
URL:https://www.milkids.de/termin/fruehjahrsmarkt/2026-05-10/
LOCATION:Bauernhausmuseum Bielefeld\, Dornberger Straße\, Bielefeld\, Detmold\, 33619\, Germany
CATEGORIES:Draußen
GEO:52.023784;8.5077865
X-APPLE-STRUCTURED-LOCATION;VALUE=URI;X-ADDRESS=Bauernhausmuseum Bielefeld Dornberger Straße Bielefeld Detmold 33619 Germany;X-APPLE-RADIUS=500;X-TITLE=Dornberger Straße:geo:8.5077865,52.023784
END:VEVENT
BEGIN:VEVENT
DTSTART;TZID=Europe/Berlin:20260514T160000
DTEND;TZID=Europe/Berlin:20260514T180000
DTSTAMP:20260425T191050
CREATED:20260315T120811Z
LAST-MODIFIED:20260315T120811Z
UID:10007812-1778774400-1778781600@www.milkids.de
SUMMARY:Mitmachaktion: Spielzeug selber bauen
DESCRIPTION:Aus Holz und Ton bauen wir unsere eigenen Spiele. Einfach vorbeikommen und in den Workshop einsteigen – so lange du magst! \nfür Kinder ab 6 Jahren
URL:https://www.milkids.de/termin/mitmachaktion-spielzeug-selber-bauen/
LOCATION:Bauernhausmuseum Bielefeld\, Dornberger Straße\, Bielefeld\, Detmold\, 33619\, Germany
CATEGORIES:Drinnen
GEO:52.023784;8.5077865
X-APPLE-STRUCTURED-LOCATION;VALUE=URI;X-ADDRESS=Bauernhausmuseum Bielefeld Dornberger Straße Bielefeld Detmold 33619 Germany;X-APPLE-RADIUS=500;X-TITLE=Dornberger Straße:geo:8.5077865,52.023784
END:VEVENT
BEGIN:VEVENT
DTSTART;TZID=Europe/Berlin:20260517T150000
DTEND;TZID=Europe/Berlin:20260517T160000
DTSTAMP:20260425T191050
CREATED:20260315T121111Z
LAST-MODIFIED:20260315T121346Z
UID:10007813-1779030000-1779033600@www.milkids.de
SUMMARY:Märchen rund um die Ochsenheide
DESCRIPTION:Elfenwald-Wanderung mit Katinka Morgenstern rund um die Ochsenheide mit Märchen\, Gedichten und Geschichten;  \nab 4 Jahren
URL:https://www.milkids.de/termin/maerchen-rund-um-die-ochsenheide/
LOCATION:Bauernhausmuseum Bielefeld\, Dornberger Straße\, Bielefeld\, Detmold\, 33619\, Germany
CATEGORIES:Draußen
GEO:52.023784;8.5077865
X-APPLE-STRUCTURED-LOCATION;VALUE=URI;X-ADDRESS=Bauernhausmuseum Bielefeld Dornberger Straße Bielefeld Detmold 33619 Germany;X-APPLE-RADIUS=500;X-TITLE=Dornberger Straße:geo:8.5077865,52.023784
END:VEVENT
BEGIN:VEVENT
DTSTART;TZID=Europe/Berlin:20260525T110000
DTEND;TZID=Europe/Berlin:20260525T180000
DTSTAMP:20260425T191050
CREATED:20260315T121724Z
LAST-MODIFIED:20260315T121724Z
UID:10007814-1779706800-1779732000@www.milkids.de
SUMMARY:Mühlentag
DESCRIPTION:Kurzführungen\, Märchen in der Mühle\, Mahlstunden und Brot aus dem Backhaus
URL:https://www.milkids.de/termin/muehlentag-2/
LOCATION:Bauernhausmuseum Bielefeld\, Dornberger Straße\, Bielefeld\, Detmold\, 33619\, Germany
CATEGORIES:Drinnen
GEO:52.023784;8.5077865
X-APPLE-STRUCTURED-LOCATION;VALUE=URI;X-ADDRESS=Bauernhausmuseum Bielefeld Dornberger Straße Bielefeld Detmold 33619 Germany;X-APPLE-RADIUS=500;X-TITLE=Dornberger Straße:geo:8.5077865,52.023784
END:VEVENT
BEGIN:VEVENT
DTSTART;TZID=Europe/Berlin:20260531T140000
DTEND;TZID=Europe/Berlin:20260531T153000
DTSTAMP:20260425T191050
CREATED:20260315T122046Z
LAST-MODIFIED:20260315T122046Z
UID:10007815-1780236000-1780241400@www.milkids.de
SUMMARY:WaldWichtelWerkstatt
DESCRIPTION:Wir helfen den Waldwichteln\, ihre Mützen zu finden! Hört ihre Geschichte\, bastelt euren eigenen Wichtel und helft beim Mützensuchen. \nfür Kinder von 4 bis 6 Jahren\nAnmeldung
URL:https://www.milkids.de/termin/waldwichtelwerkstatt-2/
LOCATION:Bauernhausmuseum Bielefeld\, Dornberger Straße\, Bielefeld\, Detmold\, 33619\, Germany
CATEGORIES:Drinnen
GEO:52.023784;8.5077865
X-APPLE-STRUCTURED-LOCATION;VALUE=URI;X-ADDRESS=Bauernhausmuseum Bielefeld Dornberger Straße Bielefeld Detmold 33619 Germany;X-APPLE-RADIUS=500;X-TITLE=Dornberger Straße:geo:8.5077865,52.023784
END:VEVENT
END:VCALENDAR