BEGIN:VCALENDAR
VERSION:2.0
PRODID:-//milkids - ECPv6.15.18//NONSGML v1.0//EN
CALSCALE:GREGORIAN
METHOD:PUBLISH
X-WR-CALNAME:milkids
X-ORIGINAL-URL:https://www.milkids.de
X-WR-CALDESC:Veranstaltungen für milkids
REFRESH-INTERVAL;VALUE=DURATION:PT1H
X-Robots-Tag:noindex
X-PUBLISHED-TTL:PT1H
BEGIN:VTIMEZONE
TZID:Europe/Berlin
BEGIN:DAYLIGHT
TZOFFSETFROM:+0100
TZOFFSETTO:+0200
TZNAME:CEST
DTSTART:20250330T010000
END:DAYLIGHT
BEGIN:STANDARD
TZOFFSETFROM:+0200
TZOFFSETTO:+0100
TZNAME:CET
DTSTART:20251026T010000
END:STANDARD
BEGIN:DAYLIGHT
TZOFFSETFROM:+0100
TZOFFSETTO:+0200
TZNAME:CEST
DTSTART:20260329T010000
END:DAYLIGHT
BEGIN:STANDARD
TZOFFSETFROM:+0200
TZOFFSETTO:+0100
TZNAME:CET
DTSTART:20261025T010000
END:STANDARD
BEGIN:DAYLIGHT
TZOFFSETFROM:+0100
TZOFFSETTO:+0200
TZNAME:CEST
DTSTART:20270328T010000
END:DAYLIGHT
BEGIN:STANDARD
TZOFFSETFROM:+0200
TZOFFSETTO:+0100
TZNAME:CET
DTSTART:20271031T010000
END:STANDARD
END:VTIMEZONE
BEGIN:VEVENT
DTSTART;TZID=Europe/Berlin:20260406T120000
DTEND;TZID=Europe/Berlin:20260406T160000
DTSTAMP:20260424T175756
CREATED:20260212T170858Z
LAST-MODIFIED:20260213T081420Z
UID:10007380-1775476800-1775491200@www.milkids.de
SUMMARY:Mit dem Osterhasen auf großer Fahrt
DESCRIPTION:Zu Ostern verreisen und doch in der Heimat bleiben\, oder statt dem traditionellen Osterspaziergang eine Osterfahrt mit einer historischen Museumseisenbahn unternehmen – der Osterhasen-Express der Landeseisenbahn Lippe macht es möglich und ist ein Erlebnis für die ganze Familie. Am Ostersonntag und Ostermontag setzt er sich wieder zwischen Bösingfeld und Alverdissen in Bewegung.\nWährend der Fahrt gilt vor allem für die kleinen Fahrgäste: Augen auf\, denn es wird ein Ehrengast erwartet. Hoppelt aus dem grünen Gras der Osterhase\, wird ein Halt auf freier Strecke eingelegt\, um ihn als Fahrgast aufzunehmen. Im Zug verteilt er dann kleine Geschenke an die mitfahrenden Kinder (ab 1 Jahr). \nDie ca. 70-minütige Fahrt beginnt jeweils um 12\, 14 und 16 Uhr am Bahnhof in Bösingfeld.\nEine Buchung über den Ticketshop ist unbedingt erforderlich und ab sofort möglich: www.landeseisenbahn-lippe.de/ticket-shop/
URL:https://www.milkids.de/termin/mit-dem-osterhasen-auf-grosser-fahrt-3/
LOCATION:Bahnhof Bösingfeld\, Am Bahnhof 1\, Extertal\, 32699
CATEGORIES:Draußen,Familie
ATTACH;FMTTYPE=image/jpeg:https://www.milkids.de/wp-content/uploads/2026/02/2-Osterhasenexpress.jpg
GEO:52.0695124;9.1091453
X-APPLE-STRUCTURED-LOCATION;VALUE=URI;X-ADDRESS=Bahnhof Bösingfeld Am Bahnhof 1 Extertal 32699;X-APPLE-RADIUS=500;X-TITLE=Am Bahnhof 1:geo:9.1091453,52.0695124
END:VEVENT
BEGIN:VEVENT
DTSTART;TZID=Europe/Berlin:20260406T120000
DTEND;TZID=Europe/Berlin:20260406T160000
DTSTAMP:20260424T175756
CREATED:20260212T170235Z
LAST-MODIFIED:20260212T170627Z
UID:10007381-1775476800-1775491200@www.milkids.de
SUMMARY:Mit dem Osterhasen auf großer Fahrt
DESCRIPTION:Zu Ostern verreisen und doch in der Heimat bleiben\, oder statt dem traditionellen Osterspaziergang eine Osterfahrt mit einer historischen Museumseisenbahn unternehmen – der Osterhasen-Express der Landeseisenbahn Lippe macht es möglich und ist ein Erlebnis für die ganze Familie. Am Ostersonntag und Ostermontag setzt er sich wieder zwischen Bösingfeld und Alverdissen in Bewegung.\nWährend der Fahrt gilt vor allem für die kleinen Fahrgäste: Augen auf\, denn es wird ein Ehrengast erwartet. Hoppelt aus dem grünen Gras der Osterhase\, wird ein Halt auf freier Strecke eingelegt\, um ihn als Fahrgast aufzunehmen. Im Zug verteilt er dann kleine Geschenke an die mitfahrenden Kinder (ab 1 Jahr). \nDie ca. 70-minütige Fahrt beginnt jeweils um 12\, 14 und 16 Uhr am Bahnhof in Bösingfeld.\nEine Buchung über den Ticketshop ist unbedingt erforderlich und ab sofort möglich: www.landeseisenbahn-lippe.de/ticket-shop/
URL:https://www.milkids.de/termin/mit-dem-osterhasen-auf-grosser-fahrt/
LOCATION:Bahnhof Bösingfeld\, Am Bahnhof 1\, Extertal\, 32699
CATEGORIES:Draußen,Familie
ATTACH;FMTTYPE=image/jpeg:https://www.milkids.de/wp-content/uploads/2026/02/2-Osterhasenexpress.jpg
GEO:52.0695124;9.1091453
X-APPLE-STRUCTURED-LOCATION;VALUE=URI;X-ADDRESS=Bahnhof Bösingfeld Am Bahnhof 1 Extertal 32699;X-APPLE-RADIUS=500;X-TITLE=Am Bahnhof 1:geo:9.1091453,52.0695124
END:VEVENT
BEGIN:VEVENT
DTSTART;TZID=Europe/Berlin:20260405T120000
DTEND;TZID=Europe/Berlin:20260405T160000
DTSTAMP:20260424T175756
CREATED:20260212T170709Z
LAST-MODIFIED:20260212T170710Z
UID:10007379-1775390400-1775404800@www.milkids.de
SUMMARY:Mit dem Osterhasen auf großer Fahrt
DESCRIPTION:Zu Ostern verreisen und doch in der Heimat bleiben\, oder statt dem traditionellen Osterspaziergang eine Osterfahrt mit einer historischen Museumseisenbahn unternehmen – der Osterhasen-Express der Landeseisenbahn Lippe macht es möglich und ist ein Erlebnis für die ganze Familie. Am Ostersonntag und Ostermontag setzt er sich wieder zwischen Bösingfeld und Alverdissen in Bewegung.\nWährend der Fahrt gilt vor allem für die kleinen Fahrgäste: Augen auf\, denn es wird ein Ehrengast erwartet. Hoppelt aus dem grünen Gras der Osterhase\, wird ein Halt auf freier Strecke eingelegt\, um ihn als Fahrgast aufzunehmen. Im Zug verteilt er dann kleine Geschenke an die mitfahrenden Kinder (ab 1 Jahr). \nDie ca. 70-minütige Fahrt beginnt jeweils um 12\, 14 und 16 Uhr am Bahnhof in Bösingfeld.\nEine Buchung über den Ticketshop ist unbedingt erforderlich und ab sofort möglich: www.landeseisenbahn-lippe.de/ticket-shop/
URL:https://www.milkids.de/termin/mit-dem-osterhasen-auf-grosser-fahrt-2/
LOCATION:Bahnhof Bösingfeld\, Am Bahnhof 1\, Extertal\, 32699
CATEGORIES:Draußen,Familie
ATTACH;FMTTYPE=image/jpeg:https://www.milkids.de/wp-content/uploads/2026/02/2-Osterhasenexpress.jpg
GEO:52.0695124;9.1091453
X-APPLE-STRUCTURED-LOCATION;VALUE=URI;X-ADDRESS=Bahnhof Bösingfeld Am Bahnhof 1 Extertal 32699;X-APPLE-RADIUS=500;X-TITLE=Am Bahnhof 1:geo:9.1091453,52.0695124
END:VEVENT
END:VCALENDAR