BEGIN:VCALENDAR
VERSION:2.0
PRODID:-//milkids - ECPv6.15.18//NONSGML v1.0//EN
CALSCALE:GREGORIAN
METHOD:PUBLISH
X-WR-CALNAME:milkids
X-ORIGINAL-URL:https://www.milkids.de
X-WR-CALDESC:Veranstaltungen für milkids
REFRESH-INTERVAL;VALUE=DURATION:PT1H
X-Robots-Tag:noindex
X-PUBLISHED-TTL:PT1H
BEGIN:VTIMEZONE
TZID:Europe/Berlin
BEGIN:DAYLIGHT
TZOFFSETFROM:+0100
TZOFFSETTO:+0200
TZNAME:CEST
DTSTART:20250330T010000
END:DAYLIGHT
BEGIN:STANDARD
TZOFFSETFROM:+0200
TZOFFSETTO:+0100
TZNAME:CET
DTSTART:20251026T010000
END:STANDARD
BEGIN:DAYLIGHT
TZOFFSETFROM:+0100
TZOFFSETTO:+0200
TZNAME:CEST
DTSTART:20260329T010000
END:DAYLIGHT
BEGIN:STANDARD
TZOFFSETFROM:+0200
TZOFFSETTO:+0100
TZNAME:CET
DTSTART:20261025T010000
END:STANDARD
BEGIN:DAYLIGHT
TZOFFSETFROM:+0100
TZOFFSETTO:+0200
TZNAME:CEST
DTSTART:20270328T010000
END:DAYLIGHT
BEGIN:STANDARD
TZOFFSETFROM:+0200
TZOFFSETTO:+0100
TZNAME:CET
DTSTART:20271031T010000
END:STANDARD
END:VTIMEZONE
BEGIN:VEVENT
DTSTART;TZID=Europe/Berlin:20260108T180000
DTEND;TZID=Europe/Berlin:20260108T210000
DTSTAMP:20260419T203103
CREATED:20251210T075805Z
LAST-MODIFIED:20251210T164018Z
UID:10005679-1767895200-1767906000@www.milkids.de
SUMMARY:Frauenflohmarkt am Abend
DESCRIPTION:Schnapp dir deine Freundin und kommt ins B4 in Asemissen (Parkstraße 6\, 33818 Leopoldshöhe)hier findet am Abend ein gemütlicher Frauenflohmarkt statt. \nAuch ein Gewinnspiel erwartet dich. Der Förderverein der Grundschule Asemissen freut sich auf den Besuch.
URL:https://www.milkids.de/termin/frauenflohmart-am-abend/
LOCATION:B 4 Asemissen\, Parkstr. 6\, Leopoldshöhe\, 33818
CATEGORIES:Drinnen,Erwachsene
ATTACH;FMTTYPE=image/jpeg:https://www.milkids.de/wp-content/uploads/2025/12/inbound3066901796239389642.jpg
GEO:51.9808455;8.6721274
X-APPLE-STRUCTURED-LOCATION;VALUE=URI;X-ADDRESS=B 4 Asemissen Parkstr. 6 Leopoldshöhe 33818;X-APPLE-RADIUS=500;X-TITLE=Parkstr. 6:geo:8.6721274,51.9808455
END:VEVENT
END:VCALENDAR