BEGIN:VCALENDAR
VERSION:2.0
PRODID:-//milkids - ECPv6.15.18//NONSGML v1.0//EN
CALSCALE:GREGORIAN
METHOD:PUBLISH
X-WR-CALNAME:milkids
X-ORIGINAL-URL:https://www.milkids.de
X-WR-CALDESC:Veranstaltungen für milkids
REFRESH-INTERVAL;VALUE=DURATION:PT1H
X-Robots-Tag:noindex
X-PUBLISHED-TTL:PT1H
BEGIN:VTIMEZONE
TZID:Europe/Berlin
BEGIN:DAYLIGHT
TZOFFSETFROM:+0100
TZOFFSETTO:+0200
TZNAME:CEST
DTSTART:20250330T010000
END:DAYLIGHT
BEGIN:STANDARD
TZOFFSETFROM:+0200
TZOFFSETTO:+0100
TZNAME:CET
DTSTART:20251026T010000
END:STANDARD
BEGIN:DAYLIGHT
TZOFFSETFROM:+0100
TZOFFSETTO:+0200
TZNAME:CEST
DTSTART:20260329T010000
END:DAYLIGHT
BEGIN:STANDARD
TZOFFSETFROM:+0200
TZOFFSETTO:+0100
TZNAME:CET
DTSTART:20261025T010000
END:STANDARD
BEGIN:DAYLIGHT
TZOFFSETFROM:+0100
TZOFFSETTO:+0200
TZNAME:CEST
DTSTART:20270328T010000
END:DAYLIGHT
BEGIN:STANDARD
TZOFFSETFROM:+0200
TZOFFSETTO:+0100
TZNAME:CET
DTSTART:20271031T010000
END:STANDARD
END:VTIMEZONE
BEGIN:VEVENT
DTSTART;TZID=Europe/Berlin:20260510T140000
DTEND;TZID=Europe/Berlin:20260510T160000
DTSTAMP:20260424T150359
CREATED:20260315T101059Z
LAST-MODIFIED:20260315T101059Z
UID:10007788-1778421600-1778428800@www.milkids.de
SUMMARY:Bau dein Steinzeitmesser
DESCRIPTION:Wie schnitten Menschen in der Steinzeit Fleisch\, Holz oder Pflanzen ganz ohne Metall? In diesem Mitmachangebot bauen wir ein eigenes Steinzeitmesser. Mit echten Feuersteinklingen\, Birkenpech und Holz entsteht Schritt für Schritt ein Messer\, das am Ende mit nach Hause genommen werden kann. \nStartzeit: 14 Uhr\, Treffpunkt an der Museumskasse
URL:https://www.milkids.de/termin/bau-dein-steinzeitmesser-2/
LOCATION:Archäologisches Freilichtmuseum Oerlinghausen\, Am Barkhauser Berg\, Oerlinghausen\, Detmold\, 33813\, Germany
GEO:51.9512454;8.6634107
X-APPLE-STRUCTURED-LOCATION;VALUE=URI;X-ADDRESS=Archäologisches Freilichtmuseum Oerlinghausen Am Barkhauser Berg Oerlinghausen Detmold 33813 Germany;X-APPLE-RADIUS=500;X-TITLE=Am Barkhauser Berg:geo:8.6634107,51.9512454
END:VEVENT
BEGIN:VEVENT
DTSTART;TZID=Europe/Berlin:20260530T140000
DTEND;TZID=Europe/Berlin:20260530T160000
DTSTAMP:20260424T150359
CREATED:20260315T101424Z
LAST-MODIFIED:20260315T101424Z
UID:10007789-1780149600-1780156800@www.milkids.de
SUMMARY:Kettenanhänger aus Horn schnitzen
DESCRIPTION:Schon in der Steinzeit trugen Menschen Schmuck. Besonders beliebt waren Materialien\, die man gut bearbeiten konnte: Knochen\, Geweih und Horn. Mit einfachen Werkzeugen entstanden daraus Anhänger\, Perlen und kleine Amulette. \nBei diesem Mitmachangebot schnitzen die Teilnehmer:innen einen eigenen Kettenanhänger aus Horn\, den sie mit nach Hause nehmen können.
URL:https://www.milkids.de/termin/kettenanhaenger-aus-horn-schnitzen/
LOCATION:Archäologisches Freilichtmuseum Oerlinghausen\, Am Barkhauser Berg\, Oerlinghausen\, Detmold\, 33813\, Germany
CATEGORIES:Drinnen
GEO:51.9512454;8.6634107
X-APPLE-STRUCTURED-LOCATION;VALUE=URI;X-ADDRESS=Archäologisches Freilichtmuseum Oerlinghausen Am Barkhauser Berg Oerlinghausen Detmold 33813 Germany;X-APPLE-RADIUS=500;X-TITLE=Am Barkhauser Berg:geo:8.6634107,51.9512454
END:VEVENT
END:VCALENDAR