BEGIN:VCALENDAR
VERSION:2.0
PRODID:-//milkids - ECPv6.15.18//NONSGML v1.0//EN
CALSCALE:GREGORIAN
METHOD:PUBLISH
X-WR-CALNAME:milkids
X-ORIGINAL-URL:https://www.milkids.de
X-WR-CALDESC:Veranstaltungen für milkids
REFRESH-INTERVAL;VALUE=DURATION:PT1H
X-Robots-Tag:noindex
X-PUBLISHED-TTL:PT1H
BEGIN:VTIMEZONE
TZID:Europe/Berlin
BEGIN:DAYLIGHT
TZOFFSETFROM:+0100
TZOFFSETTO:+0200
TZNAME:CEST
DTSTART:20240331T010000
END:DAYLIGHT
BEGIN:STANDARD
TZOFFSETFROM:+0200
TZOFFSETTO:+0100
TZNAME:CET
DTSTART:20241027T010000
END:STANDARD
BEGIN:DAYLIGHT
TZOFFSETFROM:+0100
TZOFFSETTO:+0200
TZNAME:CEST
DTSTART:20250330T010000
END:DAYLIGHT
BEGIN:STANDARD
TZOFFSETFROM:+0200
TZOFFSETTO:+0100
TZNAME:CET
DTSTART:20251026T010000
END:STANDARD
BEGIN:DAYLIGHT
TZOFFSETFROM:+0100
TZOFFSETTO:+0200
TZNAME:CEST
DTSTART:20260329T010000
END:DAYLIGHT
BEGIN:STANDARD
TZOFFSETFROM:+0200
TZOFFSETTO:+0100
TZNAME:CET
DTSTART:20261025T010000
END:STANDARD
BEGIN:DAYLIGHT
TZOFFSETFROM:+0100
TZOFFSETTO:+0200
TZNAME:CEST
DTSTART:20270328T010000
END:DAYLIGHT
BEGIN:STANDARD
TZOFFSETFROM:+0200
TZOFFSETTO:+0100
TZNAME:CET
DTSTART:20271031T010000
END:STANDARD
END:VTIMEZONE
BEGIN:VEVENT
DTSTART;TZID=Europe/Berlin:20260206T143000
DTEND;TZID=Europe/Berlin:20260206T163000
DTSTAMP:20260424T175134
CREATED:20260128T113513Z
LAST-MODIFIED:20260128T113513Z
UID:10007320-1770388200-1770395400@www.milkids.de
SUMMARY:Spieletester-Redaktion
DESCRIPTION:In der Spieletesterredaktion von Tabula und der Stadtbibliothek nehmen Kinder und Jugendliche digitale Spiele unter die Lupe und bewerten sie gemeinsam in Redaktionssitzungen\, wie sie auch im professionellen Spielejournalismus stattfinden könnten. Dieses Jahr werden wir zudem „Let’s Play“-Videos erstellen\, in denen die Spiele den Jugendlichen vorgestellt und kritisch besprochen werden. \nEin Einstieg zu jedem Termin ist möglich und es wird keine Anmeldung benötigt. Erst bei regelmäßiger Teilnahme wird eine Anmeldung erforderlich. \nFür Kinder und Jugendliche von 8 bis 14 Jahren.\nOrt: GamerSpace | 2. OG | Eingang über Kavalleriestraße 17\nDer Eintritt ist frei.
URL:https://www.milkids.de/termin/spieletester-redaktion/
LOCATION:Stadtbibliothek Bielefeld\, Neumarkt\, Bielefeld\, Detmold\, 33602\, Germany
CATEGORIES:Drinnen
ORGANIZER;CN="Stadtbibliothek Bielefeld":MAILTO:stadtbibliothek.events-bielefeld.de
GEO:52.0266981;8.5371282
X-APPLE-STRUCTURED-LOCATION;VALUE=URI;X-ADDRESS=Stadtbibliothek Bielefeld Neumarkt Bielefeld Detmold 33602 Germany;X-APPLE-RADIUS=500;X-TITLE=Neumarkt:geo:8.5371282,52.0266981
END:VEVENT
BEGIN:VEVENT
DTSTART;TZID=Europe/Berlin:20260204T150000
DTEND;TZID=Europe/Berlin:20260204T173000
DTSTAMP:20260424T175134
CREATED:20260128T111742Z
LAST-MODIFIED:20260128T111742Z
UID:10007318-1770217200-1770226200@www.milkids.de
SUMMARY:GamerSpace in der Stadtteilbibliothek Brackwede
DESCRIPTION:Entdecke die Welt des altersgerechten Gamings! \nBist du bereit für ein spannendes Abenteuer in der Welt der Videospiele? Unser altersgerechtes Gamingangebot bietet Kindern die Möglichkeit\, in einer sicheren und betreuten Umgebung zu spielen\, zu lernen und neue Freunde zu finden! \nWas wir bieten:\n– Betreuung durch erfahrene Kräfte: Unsere geschulten Betreuer sorgen dafür\, dass die Kinder nicht nur Spaß haben\, sondern auch sicher und verantwortungsbewusst mit digitalen Medien umgehen.\n– Vielfältige Spieleauswahl: Von kreativen Spielen bis hin zu spannenden Abenteuern – wir haben für jeden Geschmack etwas dabei! \nFür Kinder von 8 bis 14 Jahren.\nOrt: Veranstaltungsbereich | EG | Stadtteilbibliothek Brackwede\nDer Eintritt ist frei und auch ohne Bibliotheksausweis möglich.
URL:https://www.milkids.de/termin/gamerspace-in-der-stadtteilbibliothek-brackwede/
LOCATION:Stadtbibliothek Bielefeld\, Neumarkt\, Bielefeld\, Detmold\, 33602\, Germany
CATEGORIES:Drinnen
ORGANIZER;CN="Stadtbibliothek Bielefeld":MAILTO:stadtbibliothek.events-bielefeld.de
GEO:52.0266981;8.5371282
X-APPLE-STRUCTURED-LOCATION;VALUE=URI;X-ADDRESS=Stadtbibliothek Bielefeld Neumarkt Bielefeld Detmold 33602 Germany;X-APPLE-RADIUS=500;X-TITLE=Neumarkt:geo:8.5371282,52.0266981
END:VEVENT
BEGIN:VEVENT
DTSTART;TZID=Europe/Berlin:20260204T150000
DTEND;TZID=Europe/Berlin:20260204T160000
DTSTAMP:20260424T175134
CREATED:20260128T103720Z
LAST-MODIFIED:20260128T103720Z
UID:10007298-1770217200-1770220800@www.milkids.de
SUMMARY:Lesungen für Kinder "Der Siebenschläfer\, der nicht schlafen konnte"
DESCRIPTION:Am Mittwoch\, 4. Februar\, erwartet Kinder ab vier Jahren ein besonderes Vorlese-Erlebnis in der Stadtteilbibliothek Heepen. Von 15 bis 16 Uhr entführt die Lesung „Der Siebenschläfer\, der nicht schlafen konnte“ die jungen Zuhörer in die spannende Welt des Bilderbuchs von Sabine Bohlmann. \nDie Veranstaltung lädt alle kleinen Bücherfreunde ein\, sich auf eine fantasievolle Reise zu begeben und die Magie des Vorlesens zu erleben. \nFür Kinder ab 4 Jahren.\nOrt: Stadtteilbibliothek Heepen\nDer Eintritt ist frei.
URL:https://www.milkids.de/termin/lesungen-fuer-kinder-der-siebenschlaefer-der-nicht-schlafen-konnte/
LOCATION:Stadtbibliothek Bielefeld\, Neumarkt\, Bielefeld\, Detmold\, 33602\, Germany
CATEGORIES:Drinnen
ATTACH;FMTTYPE=image/jpeg:https://www.milkids.de/wp-content/uploads/2026/01/Heepen_Siebenschlaefer.jpg
ORGANIZER;CN="Stadtbibliothek Bielefeld":MAILTO:stadtbibliothek.events-bielefeld.de
GEO:52.0266981;8.5371282
X-APPLE-STRUCTURED-LOCATION;VALUE=URI;X-ADDRESS=Stadtbibliothek Bielefeld Neumarkt Bielefeld Detmold 33602 Germany;X-APPLE-RADIUS=500;X-TITLE=Neumarkt:geo:8.5371282,52.0266981
END:VEVENT
BEGIN:VEVENT
DTSTART;TZID=Europe/Berlin:20260204T100000
DTEND;TZID=Europe/Berlin:20260204T110000
DTSTAMP:20260424T175134
CREATED:20260128T111619Z
LAST-MODIFIED:20260407T105015Z
UID:10007317-1770199200-1770202800@www.milkids.de
SUMMARY:Lies mal was vor
DESCRIPTION:Vorlesen\, Malen und Basteln mit Heidrun Ehrich \nBitte reservieren Sie für Ihre Gruppe einen Termin unter Tel.: 0521 51-2457. \nFür Kindergartengruppen von 3 bis 6 Jahren.\nOrt: Kinderzimmer | EG\nDer Eintritt ist frei.
URL:https://www.milkids.de/termin/lies-mal-was-vor-12/
LOCATION:Stadtbibliothek Bielefeld\, Neumarkt\, Bielefeld\, Detmold\, 33602\, Germany
CATEGORIES:Drinnen
ORGANIZER;CN="Stadtbibliothek Bielefeld":MAILTO:stadtbibliothek.events-bielefeld.de
GEO:52.0266981;8.5371282
X-APPLE-STRUCTURED-LOCATION;VALUE=URI;X-ADDRESS=Stadtbibliothek Bielefeld Neumarkt Bielefeld Detmold 33602 Germany;X-APPLE-RADIUS=500;X-TITLE=Neumarkt:geo:8.5371282,52.0266981
END:VEVENT
BEGIN:VEVENT
DTSTART;TZID=Europe/Berlin:20260203T160000
DTEND;TZID=Europe/Berlin:20260203T164500
DTSTAMP:20260424T175134
CREATED:20260128T111349Z
LAST-MODIFIED:20260128T111349Z
UID:10007315-1770134400-1770137100@www.milkids.de
SUMMARY:Geschichtenzeit in der Stadtteilbibliothek Jöllenbeck
DESCRIPTION:Geschichtenzeit für Kinder ab 4 Jahren.\nNach dem Lesen wird je nach Lust und Laune gemeinsam zum Thema gebastelt oder gemalt. \nFür Kinder von 4 bis 6 Jahren und ihre Eltern.\nOrt: Stadtteilbibliothek Jöllenbeck\nDer Eintritt ist frei.
URL:https://www.milkids.de/termin/geschichtenzeit-in-der-stadtteilbibliothek-joellenbeck/
LOCATION:Stadtbibliothek Bielefeld\, Neumarkt\, Bielefeld\, Detmold\, 33602\, Germany
CATEGORIES:Drinnen
ORGANIZER;CN="Stadtbibliothek Bielefeld":MAILTO:stadtbibliothek.events-bielefeld.de
GEO:52.0266981;8.5371282
X-APPLE-STRUCTURED-LOCATION;VALUE=URI;X-ADDRESS=Stadtbibliothek Bielefeld Neumarkt Bielefeld Detmold 33602 Germany;X-APPLE-RADIUS=500;X-TITLE=Neumarkt:geo:8.5371282,52.0266981
END:VEVENT
BEGIN:VEVENT
DTSTART;TZID=Europe/Berlin:20260131T110000
DTEND;TZID=Europe/Berlin:20260131T120000
DTSTAMP:20260424T175134
CREATED:20260128T111232Z
LAST-MODIFIED:20260128T111232Z
UID:10007314-1769857200-1769860800@www.milkids.de
SUMMARY:Geschichtenzeit in der Stadtteilbibliothek Brackwede
DESCRIPTION:Jeden Samstag um 11.00 Uhr ist es soweit! Lauschen und Lachen in gemütlicher Runde für ungefähr eine halbe Stunde. Liebe Kinder\, kommt einfach vorbei. Wir freuen uns auf Euch! \nFür Kinder ab 4 Jahren.\nOrt: 1. Etage beim Sofa | Stadtteilbibliothek Brackwede\nDer Eintritt ist frei.
URL:https://www.milkids.de/termin/geschichtenzeit-in-der-stadtteilbibliothek-brackwede/
LOCATION:Stadtteilbibliothek Brackwede\, Germanenstr. 17\, Bielefeld\, 33647
CATEGORIES:Drinnen
ORGANIZER;CN="Stadtbibliothek Bielefeld":MAILTO:stadtbibliothek.events-bielefeld.de
GEO:51.9903652;8.5071711
X-APPLE-STRUCTURED-LOCATION;VALUE=URI;X-ADDRESS=Stadtteilbibliothek Brackwede Germanenstr. 17 Bielefeld 33647;X-APPLE-RADIUS=500;X-TITLE=Germanenstr. 17:geo:8.5071711,51.9903652
END:VEVENT
BEGIN:VEVENT
DTSTART;TZID=Europe/Berlin:20260131T110000
DTEND;TZID=Europe/Berlin:20260131T120000
DTSTAMP:20260424T175134
CREATED:20260128T111009Z
LAST-MODIFIED:20260128T111009Z
UID:10007312-1769857200-1769860800@www.milkids.de
SUMMARY:VorLeseLust in der Stadtteilbibliothek Sennestadt
DESCRIPTION:Vorlesen und Basteln \nFür Kinder ab 4 Jahren.\nOrt: Stadtteilbibliothek Sennestadt\nDer Eintritt ist frei! \nEine Anmeldung ist nur für Gruppen erforderlich per Tel.: 0521/51-5584 oder per Mail an stadtteilbibliothek.sennestadt@bielefeld.de.
URL:https://www.milkids.de/termin/vorleselust-in-der-stadtteilbibliothek-sennestadt-12/
LOCATION:Stadtbibliothek Bielefeld\, Neumarkt\, Bielefeld\, Detmold\, 33602\, Germany
CATEGORIES:Drinnen
ORGANIZER;CN="Stadtbibliothek Bielefeld":MAILTO:stadtbibliothek.events-bielefeld.de
GEO:52.0266981;8.5371282
X-APPLE-STRUCTURED-LOCATION;VALUE=URI;X-ADDRESS=Stadtbibliothek Bielefeld Neumarkt Bielefeld Detmold 33602 Germany;X-APPLE-RADIUS=500;X-TITLE=Neumarkt:geo:8.5371282,52.0266981
END:VEVENT
BEGIN:VEVENT
DTSTART;TZID=Europe/Berlin:20260131T100000
DTEND;TZID=Europe/Berlin:20260131T110000
DTSTAMP:20260424T175134
CREATED:20260128T111127Z
LAST-MODIFIED:20260128T111127Z
UID:10007313-1769853600-1769857200@www.milkids.de
SUMMARY:Brackweder Lesespaß mit Hund
DESCRIPTION:Kinder können zusammen mit Buddy oder Ronja das Vorlesen üben. Die beiden ruhigen und freundlichen Vierbeiner freuen sich schon auf tolle Geschichten. Eine Terminvereinbarung ist vor Ort in der Stadtteilbibliothek Brackwede oder per Telefon unter 0521/51-5238 erforderlich. Ab 10 Uhr nach Vereinbarung. \nFür Kinder ab 7 Jahren\, die gerne lesen üben möchten.\nOrt: Stadtteilbibliothek Brackwede\nDer Eintritt ist frei.
URL:https://www.milkids.de/termin/brackweder-lesespass-mit-hund/
LOCATION:Stadtteilbibliothek Brackwede\, Germanenstr. 17\, Bielefeld\, 33647
CATEGORIES:Drinnen
ORGANIZER;CN="Stadtbibliothek Bielefeld":MAILTO:stadtbibliothek.events-bielefeld.de
GEO:51.9903652;8.5071711
X-APPLE-STRUCTURED-LOCATION;VALUE=URI;X-ADDRESS=Stadtteilbibliothek Brackwede Germanenstr. 17 Bielefeld 33647;X-APPLE-RADIUS=500;X-TITLE=Germanenstr. 17:geo:8.5071711,51.9903652
END:VEVENT
BEGIN:VEVENT
DTSTART;TZID=Europe/Berlin:20260128T100000
DTEND;TZID=Europe/Berlin:20260128T110000
DTSTAMP:20260424T175134
CREATED:20260128T110845Z
LAST-MODIFIED:20260128T110845Z
UID:10007311-1769594400-1769598000@www.milkids.de
SUMMARY:Lies mal was vor
DESCRIPTION:Vorlesen\, Malen und Basteln mit Heidrun Ehrich \nBitte reservieren Sie für Ihre Gruppe einen Termin unter Tel.: 0521 51-2457. \nFür Kindergartengruppen von 3 bis 6 Jahren.\nOrt: Kinderzimmer | EG\nDer Eintritt ist frei.
URL:https://www.milkids.de/termin/lies-mal-was-vor-11/
LOCATION:Stadtbibliothek Bielefeld\, Neumarkt\, Bielefeld\, Detmold\, 33602\, Germany
CATEGORIES:Drinnen
ORGANIZER;CN="Stadtbibliothek Bielefeld":MAILTO:stadtbibliothek.events-bielefeld.de
GEO:52.0266981;8.5371282
X-APPLE-STRUCTURED-LOCATION;VALUE=URI;X-ADDRESS=Stadtbibliothek Bielefeld Neumarkt Bielefeld Detmold 33602 Germany;X-APPLE-RADIUS=500;X-TITLE=Neumarkt:geo:8.5371282,52.0266981
END:VEVENT
BEGIN:VEVENT
DTSTART;TZID=Europe/Berlin:20250921T130000
DTEND;TZID=Europe/Berlin:20250921T140000
DTSTAMP:20260424T175134
CREATED:20250821T162422Z
LAST-MODIFIED:20250821T162422Z
UID:10004373-1758459600-1758463200@www.milkids.de
SUMMARY:"Motte will MEER" - Musiktheaterstück
DESCRIPTION:Ein interaktives Musiktheaterstück zum Mitdenken\, Mitmachen und Mitlachen! \nMotte ist ratlos. Papa hat gar keine Zeit mehr zu spielen. Ständig ist der Fischer auf dem Meer und wirft seine Netze aus. Doch was er fängt\, sind keine Fische – oh nein! Plastikflaschen\, Mülltüten und Gummistiefel hängen in seinem Netz und jeden Tag werden es mehr. Doch wer steckt hinter der Plastikflut?\nMotte beschließt\, Papa zu helfen und den Übeltäter zu finden. Auf ihrer Suche trifft sie auf den verrückten Professor Fantastico\, der Kindern mit seiner WünschDirwas!-Maschine jeden Wunsch der Welt erfüllt. Ob er auch Motte weiterhelfen kann\, erfahrt Ihr in diesem Stück voller Musik\, bunter Wünsche und ökologischer Message. \nFür Kinder von 4 – 11 Jahren.\nOrt: Literaturbühne | EG\nDer Eintritt ist frei. \nEine Anmeldung ist erwünscht. \nGefördert durch das Ministerium für Kultur und Wissenschaft des Landes Nordrhein-Westfalen.
URL:https://www.milkids.de/termin/motte-will-meer-musiktheaterstueck/
LOCATION:Stadtbibliothek Bielefeld\, Neumarkt\, Bielefeld\, Detmold\, 33602\, Germany
CATEGORIES:Drinnen
ORGANIZER;CN="Stadtbibliothek Bielefeld":MAILTO:stadtbibliothek.events-bielefeld.de
GEO:52.0266981;8.5371282
X-APPLE-STRUCTURED-LOCATION;VALUE=URI;X-ADDRESS=Stadtbibliothek Bielefeld Neumarkt Bielefeld Detmold 33602 Germany;X-APPLE-RADIUS=500;X-TITLE=Neumarkt:geo:8.5371282,52.0266981
END:VEVENT
BEGIN:VEVENT
DTSTART;TZID=Europe/Berlin:20250716T170000
DTEND;TZID=Europe/Berlin:20250716T200000
DTSTAMP:20260424T175134
CREATED:20250404T151108Z
LAST-MODIFIED:20250706T231107Z
UID:10003824-1752685200-1752696000@www.milkids.de
SUMMARY:Familien-Gaming-Abend
DESCRIPTION:Konsolenspiele mit der Familie zu spielen\, kann eine unterhaltsame und bereichernde Erfahrung sein. Es gibt viele Spiele\, die speziell für Mehrspieler*nnen-Modi und Koop-Modi entwickelt wurden\, um das gemeinsame Spielerlebnis zu fördern. Von klassischen Party-Spielen bis hin zu kooperativen Abenteuern gibt es eine Vielzahl von Optionen\, die für Familien geeignet sind. Beim Spielen geht es vor allem um Spaß und Zusammenhalt. Wenn Sie Empfehlungen für familienfreundliche Spiele benötigen\, stehen wir Ihnen gern zur Verfügung.  \nFür alle von 6 – 99 Jahren.\nOrt: GamerSpace | 2. OG\nDer Eintritt ist frei. \nEine Anmeldung ist erforderlich.
URL:https://www.milkids.de/termin/osterferienprogramm-familien-gaming-abend/2025-07-16/
LOCATION:Stadtbibliothek Bielefeld\, Neumarkt\, Bielefeld\, Detmold\, 33602\, Germany
CATEGORIES:Drinnen,Familie
ORGANIZER;CN="Stadtbibliothek Bielefeld":MAILTO:stadtbibliothek.events-bielefeld.de
GEO:52.0266981;8.5371282
X-APPLE-STRUCTURED-LOCATION;VALUE=URI;X-ADDRESS=Stadtbibliothek Bielefeld Neumarkt Bielefeld Detmold 33602 Germany;X-APPLE-RADIUS=500;X-TITLE=Neumarkt:geo:8.5371282,52.0266981
END:VEVENT
BEGIN:VEVENT
DTSTART;TZID=Europe/Berlin:20250425T150000
DTEND;TZID=Europe/Berlin:20250425T180000
DTSTAMP:20260424T175135
CREATED:20250404T152831Z
LAST-MODIFIED:20250404T152831Z
UID:10002357-1745593200-1745604000@www.milkids.de
SUMMARY:Osterferienprogramm - Erlebe den ultimativen Minecraft-Tag
DESCRIPTION:Bist du bereit\, in die faszinierende Welt von Minecraft einzutauchen? Egal\, ob du ein Neuling oder ein erfahrener Spieler bist\, dieser Tag ist für alle geeignet! \nFür Kinder von 8 – 14 Jahren. Altersnachweis: Bitte Schüler*innenausweis nicht vergessen!\nOrt: GamerSpace | 2. OG\nDer Eintritt ist frei. \nEine Anmeldung ist erforderlich.
URL:https://www.milkids.de/termin/osterferienprogramm-erlebe-den-ultimativen-minecraft-tag/
LOCATION:Stadtbibliothek Bielefeld\, Neumarkt\, Bielefeld\, Detmold\, 33602\, Germany
CATEGORIES:Drinnen
ORGANIZER;CN="Stadtbibliothek Bielefeld":MAILTO:stadtbibliothek.events-bielefeld.de
GEO:52.0266981;8.5371282
X-APPLE-STRUCTURED-LOCATION;VALUE=URI;X-ADDRESS=Stadtbibliothek Bielefeld Neumarkt Bielefeld Detmold 33602 Germany;X-APPLE-RADIUS=500;X-TITLE=Neumarkt:geo:8.5371282,52.0266981
END:VEVENT
BEGIN:VEVENT
DTSTART;TZID=Europe/Berlin:20250424T160000
DTEND;TZID=Europe/Berlin:20250424T200000
DTSTAMP:20260424T175135
CREATED:20250404T151108Z
LAST-MODIFIED:20250706T231107Z
UID:10002356-1745510400-1745524800@www.milkids.de
SUMMARY:Familien-Gaming-Abend
DESCRIPTION:Konsolenspiele mit der Familie zu spielen\, kann eine unterhaltsame und bereichernde Erfahrung sein. Es gibt viele Spiele\, die speziell für Mehrspieler*nnen-Modi und Koop-Modi entwickelt wurden\, um das gemeinsame Spielerlebnis zu fördern. Von klassischen Party-Spielen bis hin zu kooperativen Abenteuern gibt es eine Vielzahl von Optionen\, die für Familien geeignet sind. Beim Spielen geht es vor allem um Spaß und Zusammenhalt. Wenn Sie Empfehlungen für familienfreundliche Spiele benötigen\, stehen wir Ihnen gern zur Verfügung.  \nFür alle von 6 – 99 Jahren.\nOrt: GamerSpace | 2. OG\nDer Eintritt ist frei. \nEine Anmeldung ist erforderlich.
URL:https://www.milkids.de/termin/osterferienprogramm-familien-gaming-abend/2025-04-24/
LOCATION:Stadtbibliothek Bielefeld\, Neumarkt\, Bielefeld\, Detmold\, 33602\, Germany
CATEGORIES:Drinnen,Familie
ORGANIZER;CN="Stadtbibliothek Bielefeld":MAILTO:stadtbibliothek.events-bielefeld.de
GEO:52.0266981;8.5371282
X-APPLE-STRUCTURED-LOCATION;VALUE=URI;X-ADDRESS=Stadtbibliothek Bielefeld Neumarkt Bielefeld Detmold 33602 Germany;X-APPLE-RADIUS=500;X-TITLE=Neumarkt:geo:8.5371282,52.0266981
END:VEVENT
BEGIN:VEVENT
DTSTART;TZID=Europe/Berlin:20250423T143000
DTEND;TZID=Europe/Berlin:20250423T183000
DTSTAMP:20260424T175135
CREATED:20250404T151023Z
LAST-MODIFIED:20250404T151023Z
UID:10002355-1745418600-1745433000@www.milkids.de
SUMMARY:Osterferienprogramm - Mario Cart Turnier
DESCRIPTION:Willkommen zum ultimativen Mario-Kart-Turnier! Tretet gegen andere Fahrer*innen an und zeigt euer Können auf der Rennstrecke. Bringt eure Lieblings-Charaktere mit und kämpft um den Titel des Mario Kart – Champions. Es erwarten euch spannende Rennen\, lustige Herausforderungen und natürlich jede Menge Spaß! Meldet euch jetzt an und sichert euch euren Platz auf dem Siegertreppchen. Mögen die besten Fahrer*innen gewinnen! \nFür Kinder von 6 – 13 Jahren. Altersnachweis: Bitte Schüler*innenausweis nicht vergessen!\nOrt: GamerSpace | 2. OG\nDer Eintritt ist frei. \nEine Anmeldung ist erforderlich.
URL:https://www.milkids.de/termin/osterferienprogramm-mario-cart-turnier/
LOCATION:Stadtbibliothek Bielefeld\, Neumarkt\, Bielefeld\, Detmold\, 33602\, Germany
CATEGORIES:Drinnen
ORGANIZER;CN="Stadtbibliothek Bielefeld":MAILTO:stadtbibliothek.events-bielefeld.de
GEO:52.0266981;8.5371282
X-APPLE-STRUCTURED-LOCATION;VALUE=URI;X-ADDRESS=Stadtbibliothek Bielefeld Neumarkt Bielefeld Detmold 33602 Germany;X-APPLE-RADIUS=500;X-TITLE=Neumarkt:geo:8.5371282,52.0266981
END:VEVENT
BEGIN:VEVENT
DTSTART;TZID=Europe/Berlin:20250422T150000
DTEND;TZID=Europe/Berlin:20250422T174500
DTSTAMP:20260424T175135
CREATED:20250404T150933Z
LAST-MODIFIED:20250404T150933Z
UID:10002354-1745334000-1745343900@www.milkids.de
SUMMARY:Osterferienprogramm -GamerSpace
DESCRIPTION:Besucht unseren GamerSpace und erlebt mit euren Freund*innen ein tolles Erlebnis bei Mario Kart\, FIFA/ FC25\, Rocket League oder anderen tollen Games. \nFür Kinder von 8 – 15 Jahren. Altersnachweis: Bitte Schüler*innenausweis nicht vergessen!\nOrt: GamerSpace | 2. OG\nDer Eintritt ist frei. \nEine Anmeldung ist erforderlich.
URL:https://www.milkids.de/termin/osterferienprogramm-gamerspace/
LOCATION:Stadtbibliothek Bielefeld\, Neumarkt\, Bielefeld\, Detmold\, 33602\, Germany
CATEGORIES:Drinnen
ORGANIZER;CN="Stadtbibliothek Bielefeld":MAILTO:stadtbibliothek.events-bielefeld.de
GEO:52.0266981;8.5371282
X-APPLE-STRUCTURED-LOCATION;VALUE=URI;X-ADDRESS=Stadtbibliothek Bielefeld Neumarkt Bielefeld Detmold 33602 Germany;X-APPLE-RADIUS=500;X-TITLE=Neumarkt:geo:8.5371282,52.0266981
END:VEVENT
BEGIN:VEVENT
DTSTART;TZID=Europe/Berlin:20250415T150000
DTEND;TZID=Europe/Berlin:20250415T173000
DTSTAMP:20260424T175135
CREATED:20250404T150739Z
LAST-MODIFIED:20250404T150739Z
UID:10002352-1744729200-1744738200@www.milkids.de
SUMMARY:Osterferienprogramm - VR-Brillen basteln
DESCRIPTION:Du bastelst aus Pappe deine eigene VR-Brille\, in die du dein Smartphone einlegen kannst. Mit entsprechenden Apps kannst du dann z.B. Achterbahn fahren oder durch bunte Landschaften fliegen. Deine VR-Brille kannst du im Anschluss natürlich mitnehmen und auch die Apps weiter nutzen. \nFür Kinder von 8 – 12 Jahren
URL:https://www.milkids.de/termin/osterferienprogramm-vr-brillen-basteln-4/
LOCATION:Stadtteilbibliothek Brackwede\, Germanenstr. 17\, Bielefeld\, 33647
CATEGORIES:6 bis 12,Drinnen
ORGANIZER;CN="Stadtbibliothek Bielefeld":MAILTO:stadtbibliothek.events-bielefeld.de
GEO:51.9903652;8.5071711
X-APPLE-STRUCTURED-LOCATION;VALUE=URI;X-ADDRESS=Stadtteilbibliothek Brackwede Germanenstr. 17 Bielefeld 33647;X-APPLE-RADIUS=500;X-TITLE=Germanenstr. 17:geo:8.5071711,51.9903652
END:VEVENT
BEGIN:VEVENT
DTSTART;TZID=Europe/Berlin:20250415T100000
DTEND;TZID=Europe/Berlin:20250415T123000
DTSTAMP:20260424T175135
CREATED:20250404T150657Z
LAST-MODIFIED:20250404T150657Z
UID:10002351-1744711200-1744720200@www.milkids.de
SUMMARY:Osterferienprogramm - VR-Brillen basteln
DESCRIPTION:Du bastelst aus Pappe deine eigene VR-Brille\, in die du dein Smartphone einlegen kannst. Mit entsprechenden Apps kannst du dann z.B. Achterbahn fahren oder durch bunte Landschaften fliegen. Deine VR-Brille kannst du im Anschluss natürlich mitnehmen und auch die Apps weiter nutzen. \nFür Kinder von 8 – 12 Jahren
URL:https://www.milkids.de/termin/osterferienprogramm-vr-brillen-basteln-3/
LOCATION:Stadtteilbibliothek Sennestadt\, Elbeallee 70\, Bielefeld\, 33689\, Germany
CATEGORIES:6 bis 12,Drinnen
ORGANIZER;CN="Stadtbibliothek Bielefeld":MAILTO:stadtbibliothek.events-bielefeld.de
GEO:51.9466333;8.5875928
X-APPLE-STRUCTURED-LOCATION;VALUE=URI;X-ADDRESS=Stadtteilbibliothek Sennestadt Elbeallee 70 Bielefeld 33689 Germany;X-APPLE-RADIUS=500;X-TITLE=Elbeallee 70:geo:8.5875928,51.9466333
END:VEVENT
BEGIN:VEVENT
DTSTART;TZID=Europe/Berlin:20250414T150000
DTEND;TZID=Europe/Berlin:20250414T173000
DTSTAMP:20260424T175135
CREATED:20250404T150513Z
LAST-MODIFIED:20250404T150513Z
UID:10002350-1744642800-1744651800@www.milkids.de
SUMMARY:Osterferienprogramm - VR-Brillen basteln
DESCRIPTION:Du bastelst aus Pappe deine eigene VR-Brille\, in die du dein Smartphone einlegen kannst. Mit entsprechenden Apps kannst du dann z.B. Achterbahn fahren oder durch bunte Landschaften fliegen. Deine VR-Brille kannst du im Anschluss natürlich mitnehmen und auch die Apps weiter nutzen. \nFür Kinder von 8-12 Jahren
URL:https://www.milkids.de/termin/osterferienprogramm-vr-brillen-basteln-2/
LOCATION:Stadtteilbibliothek Schildesche\, Apfelstraße\, Bielefeld\, Detmold\, 33611\, Germany
CATEGORIES:6 bis 12,Drinnen
ORGANIZER;CN="Stadtbibliothek Bielefeld":MAILTO:stadtbibliothek.events-bielefeld.de
GEO:52.0542997;8.5439782
X-APPLE-STRUCTURED-LOCATION;VALUE=URI;X-ADDRESS=Stadtteilbibliothek Schildesche Apfelstraße Bielefeld Detmold 33611 Germany;X-APPLE-RADIUS=500;X-TITLE=Apfelstraße:geo:8.5439782,52.0542997
END:VEVENT
BEGIN:VEVENT
DTSTART;TZID=Europe/Berlin:20250114T150000
DTEND;TZID=Europe/Berlin:20250114T174500
DTSTAMP:20260424T175136
CREATED:20250207T155907Z
LAST-MODIFIED:20250207T155907Z
UID:10001483-1736866800-1736876700@www.milkids.de
SUMMARY:Gamerspace
DESCRIPTION:Für alle\, die gerne unsere Konsolen zum Glühen bringen möchten. Sei es die PlayStation\, die Xbox oder die Nintendo Switch. Aber auch jeder\, der einfach nur mal in die Gaming-Welt reinschnuppern möchte\, ist – alleine oder in Begleitung der Eltern – willkommen. \nFür Kinder und Jugendliche von 8 bis 14 Jahren.\nOrt: GamerSpace | 2. OG | Eingang über Kavalleriestraße 17\nDer Eintritt ist frei.
URL:https://www.milkids.de/termin/gamerspace/
LOCATION:GamerSpace\, Kavalleriestr 17\, Bielefeld\, NRW\, 33602\, Germany
CATEGORIES:Drinnen
ORGANIZER;CN="Stadtbibliothek Bielefeld":MAILTO:stadtbibliothek.events-bielefeld.de
GEO:52.0266609;8.5378527
X-APPLE-STRUCTURED-LOCATION;VALUE=URI;X-ADDRESS=GamerSpace Kavalleriestr 17 Bielefeld NRW 33602 Germany;X-APPLE-RADIUS=500;X-TITLE=Kavalleriestr 17:geo:8.5378527,52.0266609
END:VEVENT
END:VCALENDAR