BEGIN:VCALENDAR
VERSION:2.0
PRODID:-//milkids - ECPv6.15.18//NONSGML v1.0//EN
CALSCALE:GREGORIAN
METHOD:PUBLISH
X-ORIGINAL-URL:https://www.milkids.de
X-WR-CALDESC:Veranstaltungen für milkids
REFRESH-INTERVAL;VALUE=DURATION:PT1H
X-Robots-Tag:noindex
X-PUBLISHED-TTL:PT1H
BEGIN:VTIMEZONE
TZID:Europe/Berlin
BEGIN:DAYLIGHT
TZOFFSETFROM:+0100
TZOFFSETTO:+0200
TZNAME:CEST
DTSTART:20250330T010000
END:DAYLIGHT
BEGIN:STANDARD
TZOFFSETFROM:+0200
TZOFFSETTO:+0100
TZNAME:CET
DTSTART:20251026T010000
END:STANDARD
BEGIN:DAYLIGHT
TZOFFSETFROM:+0100
TZOFFSETTO:+0200
TZNAME:CEST
DTSTART:20260329T010000
END:DAYLIGHT
BEGIN:STANDARD
TZOFFSETFROM:+0200
TZOFFSETTO:+0100
TZNAME:CET
DTSTART:20261025T010000
END:STANDARD
BEGIN:DAYLIGHT
TZOFFSETFROM:+0100
TZOFFSETTO:+0200
TZNAME:CEST
DTSTART:20270328T010000
END:DAYLIGHT
BEGIN:STANDARD
TZOFFSETFROM:+0200
TZOFFSETTO:+0100
TZNAME:CET
DTSTART:20271031T010000
END:STANDARD
END:VTIMEZONE
BEGIN:VEVENT
DTSTART;TZID=Europe/Berlin:20260314T093000
DTEND;TZID=Europe/Berlin:20260314T123000
DTSTAMP:20260421T185333
CREATED:20260205T164239Z
LAST-MODIFIED:20260205T164239Z
UID:10007344-1773480600-1773491400@www.milkids.de
SUMMARY:Flohmarkt Kita Lydia Gunststraße
DESCRIPTION:Flohmarkt rund ums Kind…Spielzeug\, Kleidung\, Bücher\, Zubehör\, und vieles mehr.
URL:https://www.milkids.de/termin/flohmarkt-kita-lydia-gunststrasse-2/
LOCATION:Ev. Kita Lydia Bielefeld\, Gunststr. 20a\, Bielefeld\, 33613
CATEGORIES:Drinnen,Familie,Märkte
ATTACH;FMTTYPE=image/jpeg:https://www.milkids.de/wp-content/uploads/2026/02/1000212651.jpg
ORGANIZER;CN="Kita Lydia und F%C3%B6rderverein der Kita Lydia":MAILTO:Kita-lydia@kirche-bielefeld.de
GEO:52.0447023;8.525615
X-APPLE-STRUCTURED-LOCATION;VALUE=URI;X-ADDRESS=Ev. Kita Lydia Bielefeld Gunststr. 20a Bielefeld 33613;X-APPLE-RADIUS=500;X-TITLE=Gunststr. 20a:geo:8.525615,52.0447023
END:VEVENT
END:VCALENDAR