BEGIN:VCALENDAR
VERSION:2.0
PRODID:-//milkids - ECPv6.15.18//NONSGML v1.0//EN
CALSCALE:GREGORIAN
METHOD:PUBLISH
X-ORIGINAL-URL:https://www.milkids.de
X-WR-CALDESC:Veranstaltungen für milkids
REFRESH-INTERVAL;VALUE=DURATION:PT1H
X-Robots-Tag:noindex
X-PUBLISHED-TTL:PT1H
BEGIN:VTIMEZONE
TZID:Europe/Berlin
BEGIN:DAYLIGHT
TZOFFSETFROM:+0100
TZOFFSETTO:+0200
TZNAME:CEST
DTSTART:20240331T010000
END:DAYLIGHT
BEGIN:STANDARD
TZOFFSETFROM:+0200
TZOFFSETTO:+0100
TZNAME:CET
DTSTART:20241027T010000
END:STANDARD
BEGIN:DAYLIGHT
TZOFFSETFROM:+0100
TZOFFSETTO:+0200
TZNAME:CEST
DTSTART:20250330T010000
END:DAYLIGHT
BEGIN:STANDARD
TZOFFSETFROM:+0200
TZOFFSETTO:+0100
TZNAME:CET
DTSTART:20251026T010000
END:STANDARD
BEGIN:DAYLIGHT
TZOFFSETFROM:+0100
TZOFFSETTO:+0200
TZNAME:CEST
DTSTART:20260329T010000
END:DAYLIGHT
BEGIN:STANDARD
TZOFFSETFROM:+0200
TZOFFSETTO:+0100
TZNAME:CET
DTSTART:20261025T010000
END:STANDARD
END:VTIMEZONE
BEGIN:VEVENT
DTSTART;TZID=Europe/Berlin:20250429T150000
DTEND;TZID=Europe/Berlin:20250429T170000
DTSTAMP:20260424T121843
CREATED:20250404T155130Z
LAST-MODIFIED:20250404T155130Z
UID:10002369-1745938800-1745946000@www.milkids.de
SUMMARY:Weberei-Minis – Kinderbetreuung mit Spiel & Spaß
DESCRIPTION:Die Weberei-Minis treffen sich jeden Dienstag in der Zeit von 15:00 bis 17:00 Uhr unter der Aufsicht der Pädagogin Angelika Richter. Dabei handelt es sich um eine kostenfreie Kinderbetreuung für Kinder im Alter zwischen vier und sieben Jahren. \nDas Angebot für die Kinder ist eine bunte Mischung aus allem\, was Spaß macht: Es wird gemalt\, gebastelt und gespielt – die Interessen der Kinder werden dabei mit einbezogen. \nOhne Anmeldung\nkostenfreies Angebot im Studio der Weberei\, Treffpunkt ist in der Bogenstraße.
URL:https://www.milkids.de/termin/weberei-minis-kinderbetreuung-mit-spiel-spass-3/
LOCATION:Die Weberei\, Bogenstraße\, Gütersloh\, Detmold\, 33330\, Germany
CATEGORIES:Drinnen
GEO:51.9020126;8.3756466
X-APPLE-STRUCTURED-LOCATION;VALUE=URI;X-ADDRESS=Die Weberei Bogenstraße Gütersloh Detmold 33330 Germany;X-APPLE-RADIUS=500;X-TITLE=Bogenstraße:geo:8.3756466,51.9020126
END:VEVENT
BEGIN:VEVENT
DTSTART;TZID=Europe/Berlin:20250422T150000
DTEND;TZID=Europe/Berlin:20250422T170000
DTSTAMP:20260424T121843
CREATED:20250410T202348Z
LAST-MODIFIED:20250410T202348Z
UID:10002406-1745334000-1745341200@www.milkids.de
SUMMARY:Weberei-Minis – Kinderbetreuung mit Spiel & Spaß
DESCRIPTION:Die Weberei-Minis treffen sich jeden Dienstag in der Zeit von 15 bis 17 Uhr unter der Aufsicht der Pädagogin Angelika Richter. Dabei handelt es sich um eine kostenfreie Kinderbetreuung für Kinder im Alter zwischen vier und sieben Jahren. \nEs findet bei dem Angebot für die Kinder eine bunte Mischung aus allem statt\, was Spaß macht: Es wird gemalt\, gebastelt und gespielt – die Interessen der Kinder werden dabei miteinbezogen. \nOhne Anmeldung\nkostenfreies Angebot im Studio der Weberei\, Treffpunkt ist in der Bogenstraße.
URL:https://www.milkids.de/termin/weberei-minis-kinderbetreuung-mit-spiel-spass-6/
LOCATION:Die Weberei\, Bogenstraße\, Gütersloh\, Detmold\, 33330\, Germany
CATEGORIES:Drinnen
GEO:51.9020126;8.3756466
X-APPLE-STRUCTURED-LOCATION;VALUE=URI;X-ADDRESS=Die Weberei Bogenstraße Gütersloh Detmold 33330 Germany;X-APPLE-RADIUS=500;X-TITLE=Bogenstraße:geo:8.3756466,51.9020126
END:VEVENT
BEGIN:VEVENT
DTSTART;TZID=Europe/Berlin:20250422T150000
DTEND;TZID=Europe/Berlin:20250422T170000
DTSTAMP:20260424T121843
CREATED:20250209T160243Z
LAST-MODIFIED:20250209T160243Z
UID:10001829-1745334000-1745341200@www.milkids.de
SUMMARY:Weberei-Minis – Kinderbetreuung mit Spiel & Spaß
DESCRIPTION:Die Weberei-Minis treffen sich jeden Dienstag in der Zeit von 15:00 bis 17:00 Uhr unter der Aufsicht der Pädagogin Angelika Richter. Dabei handelt es sich um eine kostenfreie Kinderbetreuung für Kinder im Alter zwischen vier und sieben Jahren. \nEs findet bei dem Angebot für die Kinder eine bunte Mischung aus allem statt\, was Spaß macht: Es wird gemalt\, gebastelt und gespielt – die Interessen der Kinder werden dabei miteinbezogen.  \nOhne Anmeldung\nkostenfreies Angebot im Studio der Weberei\, Treffpunkt ist in der Bogenstraße.
URL:https://www.milkids.de/termin/weberei-minis-kinderbetreuung-mit-spiel-spass/2025-04-22/
LOCATION:Die Weberei\, Bogenstraße\, Gütersloh\, Detmold\, 33330\, Germany
CATEGORIES:2 bis 5,6 bis 12,Drinnen
GEO:51.9020126;8.3756466
X-APPLE-STRUCTURED-LOCATION;VALUE=URI;X-ADDRESS=Die Weberei Bogenstraße Gütersloh Detmold 33330 Germany;X-APPLE-RADIUS=500;X-TITLE=Bogenstraße:geo:8.3756466,51.9020126
END:VEVENT
BEGIN:VEVENT
DTSTART;TZID=Europe/Berlin:20250408T150000
DTEND;TZID=Europe/Berlin:20250408T170000
DTSTAMP:20260424T121843
CREATED:20250209T160243Z
LAST-MODIFIED:20250209T160243Z
UID:10001828-1744124400-1744131600@www.milkids.de
SUMMARY:Weberei-Minis – Kinderbetreuung mit Spiel & Spaß
DESCRIPTION:Die Weberei-Minis treffen sich jeden Dienstag in der Zeit von 15:00 bis 17:00 Uhr unter der Aufsicht der Pädagogin Angelika Richter. Dabei handelt es sich um eine kostenfreie Kinderbetreuung für Kinder im Alter zwischen vier und sieben Jahren. \nEs findet bei dem Angebot für die Kinder eine bunte Mischung aus allem statt\, was Spaß macht: Es wird gemalt\, gebastelt und gespielt – die Interessen der Kinder werden dabei miteinbezogen.  \nOhne Anmeldung\nkostenfreies Angebot im Studio der Weberei\, Treffpunkt ist in der Bogenstraße.
URL:https://www.milkids.de/termin/weberei-minis-kinderbetreuung-mit-spiel-spass/2025-04-08/
LOCATION:Die Weberei\, Bogenstraße\, Gütersloh\, Detmold\, 33330\, Germany
CATEGORIES:2 bis 5,6 bis 12,Drinnen
GEO:51.9020126;8.3756466
X-APPLE-STRUCTURED-LOCATION;VALUE=URI;X-ADDRESS=Die Weberei Bogenstraße Gütersloh Detmold 33330 Germany;X-APPLE-RADIUS=500;X-TITLE=Bogenstraße:geo:8.3756466,51.9020126
END:VEVENT
BEGIN:VEVENT
DTSTART;TZID=Europe/Berlin:20250406T110000
DTEND;TZID=Europe/Berlin:20250406T120000
DTSTAMP:20260424T121843
CREATED:20250207T170550Z
LAST-MODIFIED:20250208T174927Z
UID:10001782-1743937200-1743940800@www.milkids.de
SUMMARY:Kindertheater "Morgenstar und Ringelspatz"
DESCRIPTION:Eine erdichtete Geschichte mit Möwe\, Star\, Fink und Spatz\, voller lustiger Gedichte von Christian Morgenstern und Joachim Ringelnatz – präsentiert vom Theater Tom Teuer. \nReimmund Vogel lebt mit seiner Vogelscheuche Knuddeldaddelda\, in seinem Garten ImmergrünImmerbunt. Jeden Tag erfreut er die Vogelscheuche mit Reimen\, Versen\, Gedichten und Geschichten. So auch heute: Fröhlich tanzend kommt er in sein kunterbuntes Paradies. Doch was ist das? Seine Vogelscheuche ist verschwunden!  \nEr beginnt mit der Suche nach seinem wundersamen Freund\, denn Knuddeldaddelda ist eine ganz besondere Vogelscheuche. Sie liebt nicht nur Gereimtes\, sondern auch die Vögel\, und die Vögel lieben sie. Im Winter sitzen auf ihr immer drei Spatzen\, im Herbst umschwirren sie die Raben\, im Sommer die Möwen und im Frühling wird sie von der ganzen Vogelschar besucht. Die Vögel erzählen bei den Besuchen\, zwitschernd\, von ihren Abenteuern in der weiten Welt. Von Ameisen\, denen die Beine wehtun\, von glotzenden Kängurus und lachenden Nashörnern …  \nKönnte es sein\, dass all die Gedichte und Geschichten\, all die Vogelabenteuer\, die Reiselust der Vogelscheuche erweckt haben? Hat sie sich – mit den Vögeln – in die Lüfte erhoben? Unmöglich\, denkt Reimmund. Bis ein Vogel mit einem Zettel im Schnabel angeflattert kommt. Natürlich mit einem Gedicht … \nEmpfohlen ab 4 Jahren\nKosten: 8 Euro pro Nase. Egal ob groß oder klein.\nDas Mitbringen von Babys ist aus ablauforganisatorischen Gründen bei dieser Veranstaltung nicht möglich.\nDas Kindertheater findet im Atelier der Weberei statt.\nDie Veranstaltung ist bestuhlt\, freie Platzwahl.
URL:https://www.milkids.de/termin/kindertheater-morgenstar-und-ringelspatz/
LOCATION:Die Weberei\, Bogenstraße\, Gütersloh\, Detmold\, 33330\, Germany
CATEGORIES:Drinnen
GEO:51.9020126;8.3756466
X-APPLE-STRUCTURED-LOCATION;VALUE=URI;X-ADDRESS=Die Weberei Bogenstraße Gütersloh Detmold 33330 Germany;X-APPLE-RADIUS=500;X-TITLE=Bogenstraße:geo:8.3756466,51.9020126
END:VEVENT
BEGIN:VEVENT
DTSTART;TZID=Europe/Berlin:20250401T150000
DTEND;TZID=Europe/Berlin:20250401T170000
DTSTAMP:20260424T121843
CREATED:20250313T111729Z
LAST-MODIFIED:20250313T111729Z
UID:10001827-1743519600-1743526800@www.milkids.de
SUMMARY:Weberei-Minis – Kinderbetreuung mit Spiel & Spaß
DESCRIPTION:Die Weberei-Minis treffen sich jeden Dienstag in der Zeit von 15:00 bis 17:00 Uhr unter der Aufsicht der Pädagogin Angelika Richter. Dabei handelt es sich um eine kostenfreie Kinderbetreuung für Kinder im Alter zwischen vier und sieben Jahren. \nEs findet bei dem Angebot für die Kinder eine bunte Mischung aus allem statt\, was Spaß macht: Es wird gemalt\, gebastelt und gespielt – die Interessen der Kinder werden dabei miteinbezogen.  \nOhne Anmeldung\nkostenfreies Angebot im Studio der Weberei\, Treffpunkt ist in der Bogenstraße.
URL:https://www.milkids.de/termin/weberei-minis-kinderbetreuung-mit-spiel-spass-2/
LOCATION:Die Weberei\, Bogenstraße\, Gütersloh\, Detmold\, 33330\, Germany
CATEGORIES:2 bis 5,6 bis 12,Drinnen
GEO:51.9020126;8.3756466
X-APPLE-STRUCTURED-LOCATION;VALUE=URI;X-ADDRESS=Die Weberei Bogenstraße Gütersloh Detmold 33330 Germany;X-APPLE-RADIUS=500;X-TITLE=Bogenstraße:geo:8.3756466,51.9020126
END:VEVENT
BEGIN:VEVENT
DTSTART;TZID=Europe/Berlin:20250325T150000
DTEND;TZID=Europe/Berlin:20250325T170000
DTSTAMP:20260424T121843
CREATED:20250209T160243Z
LAST-MODIFIED:20250209T160243Z
UID:10001826-1742914800-1742922000@www.milkids.de
SUMMARY:Weberei-Minis – Kinderbetreuung mit Spiel & Spaß
DESCRIPTION:Die Weberei-Minis treffen sich jeden Dienstag in der Zeit von 15:00 bis 17:00 Uhr unter der Aufsicht der Pädagogin Angelika Richter. Dabei handelt es sich um eine kostenfreie Kinderbetreuung für Kinder im Alter zwischen vier und sieben Jahren. \nEs findet bei dem Angebot für die Kinder eine bunte Mischung aus allem statt\, was Spaß macht: Es wird gemalt\, gebastelt und gespielt – die Interessen der Kinder werden dabei miteinbezogen.  \nOhne Anmeldung\nkostenfreies Angebot im Studio der Weberei\, Treffpunkt ist in der Bogenstraße.
URL:https://www.milkids.de/termin/weberei-minis-kinderbetreuung-mit-spiel-spass/2025-03-25/
LOCATION:Die Weberei\, Bogenstraße\, Gütersloh\, Detmold\, 33330\, Germany
CATEGORIES:2 bis 5,6 bis 12,Drinnen
GEO:51.9020126;8.3756466
X-APPLE-STRUCTURED-LOCATION;VALUE=URI;X-ADDRESS=Die Weberei Bogenstraße Gütersloh Detmold 33330 Germany;X-APPLE-RADIUS=500;X-TITLE=Bogenstraße:geo:8.3756466,51.9020126
END:VEVENT
BEGIN:VEVENT
DTSTART;TZID=Europe/Berlin:20250318T150000
DTEND;TZID=Europe/Berlin:20250318T170000
DTSTAMP:20260424T121843
CREATED:20250209T160243Z
LAST-MODIFIED:20250209T160243Z
UID:10001825-1742310000-1742317200@www.milkids.de
SUMMARY:Weberei-Minis – Kinderbetreuung mit Spiel & Spaß
DESCRIPTION:Die Weberei-Minis treffen sich jeden Dienstag in der Zeit von 15:00 bis 17:00 Uhr unter der Aufsicht der Pädagogin Angelika Richter. Dabei handelt es sich um eine kostenfreie Kinderbetreuung für Kinder im Alter zwischen vier und sieben Jahren. \nEs findet bei dem Angebot für die Kinder eine bunte Mischung aus allem statt\, was Spaß macht: Es wird gemalt\, gebastelt und gespielt – die Interessen der Kinder werden dabei miteinbezogen.  \nOhne Anmeldung\nkostenfreies Angebot im Studio der Weberei\, Treffpunkt ist in der Bogenstraße.
URL:https://www.milkids.de/termin/weberei-minis-kinderbetreuung-mit-spiel-spass/2025-03-18/
LOCATION:Die Weberei\, Bogenstraße\, Gütersloh\, Detmold\, 33330\, Germany
CATEGORIES:2 bis 5,6 bis 12,Drinnen
GEO:51.9020126;8.3756466
X-APPLE-STRUCTURED-LOCATION;VALUE=URI;X-ADDRESS=Die Weberei Bogenstraße Gütersloh Detmold 33330 Germany;X-APPLE-RADIUS=500;X-TITLE=Bogenstraße:geo:8.3756466,51.9020126
END:VEVENT
BEGIN:VEVENT
DTSTART;TZID=Europe/Berlin:20250311T150000
DTEND;TZID=Europe/Berlin:20250311T170000
DTSTAMP:20260424T121843
CREATED:20250209T160243Z
LAST-MODIFIED:20250209T160243Z
UID:10001824-1741705200-1741712400@www.milkids.de
SUMMARY:Weberei-Minis – Kinderbetreuung mit Spiel & Spaß
DESCRIPTION:Die Weberei-Minis treffen sich jeden Dienstag in der Zeit von 15:00 bis 17:00 Uhr unter der Aufsicht der Pädagogin Angelika Richter. Dabei handelt es sich um eine kostenfreie Kinderbetreuung für Kinder im Alter zwischen vier und sieben Jahren. \nEs findet bei dem Angebot für die Kinder eine bunte Mischung aus allem statt\, was Spaß macht: Es wird gemalt\, gebastelt und gespielt – die Interessen der Kinder werden dabei miteinbezogen.  \nOhne Anmeldung\nkostenfreies Angebot im Studio der Weberei\, Treffpunkt ist in der Bogenstraße.
URL:https://www.milkids.de/termin/weberei-minis-kinderbetreuung-mit-spiel-spass/2025-03-11/
LOCATION:Die Weberei\, Bogenstraße\, Gütersloh\, Detmold\, 33330\, Germany
CATEGORIES:2 bis 5,6 bis 12,Drinnen
GEO:51.9020126;8.3756466
X-APPLE-STRUCTURED-LOCATION;VALUE=URI;X-ADDRESS=Die Weberei Bogenstraße Gütersloh Detmold 33330 Germany;X-APPLE-RADIUS=500;X-TITLE=Bogenstraße:geo:8.3756466,51.9020126
END:VEVENT
BEGIN:VEVENT
DTSTART;TZID=Europe/Berlin:20250304T150000
DTEND;TZID=Europe/Berlin:20250304T170000
DTSTAMP:20260424T121843
CREATED:20250209T160243Z
LAST-MODIFIED:20250209T160243Z
UID:10001823-1741100400-1741107600@www.milkids.de
SUMMARY:Weberei-Minis – Kinderbetreuung mit Spiel & Spaß
DESCRIPTION:Die Weberei-Minis treffen sich jeden Dienstag in der Zeit von 15:00 bis 17:00 Uhr unter der Aufsicht der Pädagogin Angelika Richter. Dabei handelt es sich um eine kostenfreie Kinderbetreuung für Kinder im Alter zwischen vier und sieben Jahren. \nEs findet bei dem Angebot für die Kinder eine bunte Mischung aus allem statt\, was Spaß macht: Es wird gemalt\, gebastelt und gespielt – die Interessen der Kinder werden dabei miteinbezogen.  \nOhne Anmeldung\nkostenfreies Angebot im Studio der Weberei\, Treffpunkt ist in der Bogenstraße.
URL:https://www.milkids.de/termin/weberei-minis-kinderbetreuung-mit-spiel-spass/2025-03-04/
LOCATION:Die Weberei\, Bogenstraße\, Gütersloh\, Detmold\, 33330\, Germany
CATEGORIES:2 bis 5,6 bis 12,Drinnen
GEO:51.9020126;8.3756466
X-APPLE-STRUCTURED-LOCATION;VALUE=URI;X-ADDRESS=Die Weberei Bogenstraße Gütersloh Detmold 33330 Germany;X-APPLE-RADIUS=500;X-TITLE=Bogenstraße:geo:8.3756466,51.9020126
END:VEVENT
BEGIN:VEVENT
DTSTART;TZID=Europe/Berlin:20250225T150000
DTEND;TZID=Europe/Berlin:20250225T170000
DTSTAMP:20260424T121843
CREATED:20250209T160243Z
LAST-MODIFIED:20250209T160243Z
UID:10001822-1740495600-1740502800@www.milkids.de
SUMMARY:Weberei-Minis – Kinderbetreuung mit Spiel & Spaß
DESCRIPTION:Die Weberei-Minis treffen sich jeden Dienstag in der Zeit von 15:00 bis 17:00 Uhr unter der Aufsicht der Pädagogin Angelika Richter. Dabei handelt es sich um eine kostenfreie Kinderbetreuung für Kinder im Alter zwischen vier und sieben Jahren. \nEs findet bei dem Angebot für die Kinder eine bunte Mischung aus allem statt\, was Spaß macht: Es wird gemalt\, gebastelt und gespielt – die Interessen der Kinder werden dabei miteinbezogen.  \nOhne Anmeldung\nkostenfreies Angebot im Studio der Weberei\, Treffpunkt ist in der Bogenstraße.
URL:https://www.milkids.de/termin/weberei-minis-kinderbetreuung-mit-spiel-spass/2025-02-25/
LOCATION:Die Weberei\, Bogenstraße\, Gütersloh\, Detmold\, 33330\, Germany
CATEGORIES:2 bis 5,6 bis 12,Drinnen
GEO:51.9020126;8.3756466
X-APPLE-STRUCTURED-LOCATION;VALUE=URI;X-ADDRESS=Die Weberei Bogenstraße Gütersloh Detmold 33330 Germany;X-APPLE-RADIUS=500;X-TITLE=Bogenstraße:geo:8.3756466,51.9020126
END:VEVENT
BEGIN:VEVENT
DTSTART;TZID=Europe/Berlin:20250218T150000
DTEND;TZID=Europe/Berlin:20250218T170000
DTSTAMP:20260424T121843
CREATED:20250209T160243Z
LAST-MODIFIED:20250209T160243Z
UID:10001821-1739890800-1739898000@www.milkids.de
SUMMARY:Weberei-Minis – Kinderbetreuung mit Spiel & Spaß
DESCRIPTION:Die Weberei-Minis treffen sich jeden Dienstag in der Zeit von 15:00 bis 17:00 Uhr unter der Aufsicht der Pädagogin Angelika Richter. Dabei handelt es sich um eine kostenfreie Kinderbetreuung für Kinder im Alter zwischen vier und sieben Jahren. \nEs findet bei dem Angebot für die Kinder eine bunte Mischung aus allem statt\, was Spaß macht: Es wird gemalt\, gebastelt und gespielt – die Interessen der Kinder werden dabei miteinbezogen.  \nOhne Anmeldung\nkostenfreies Angebot im Studio der Weberei\, Treffpunkt ist in der Bogenstraße.
URL:https://www.milkids.de/termin/weberei-minis-kinderbetreuung-mit-spiel-spass/2025-02-18/
LOCATION:Die Weberei\, Bogenstraße\, Gütersloh\, Detmold\, 33330\, Germany
CATEGORIES:2 bis 5,6 bis 12,Drinnen
GEO:51.9020126;8.3756466
X-APPLE-STRUCTURED-LOCATION;VALUE=URI;X-ADDRESS=Die Weberei Bogenstraße Gütersloh Detmold 33330 Germany;X-APPLE-RADIUS=500;X-TITLE=Bogenstraße:geo:8.3756466,51.9020126
END:VEVENT
BEGIN:VEVENT
DTSTART;TZID=Europe/Berlin:20250211T150000
DTEND;TZID=Europe/Berlin:20250211T170000
DTSTAMP:20260424T121843
CREATED:20250209T160243Z
LAST-MODIFIED:20250209T160243Z
UID:10001809-1739286000-1739293200@www.milkids.de
SUMMARY:Weberei-Minis – Kinderbetreuung mit Spiel & Spaß
DESCRIPTION:Die Weberei-Minis treffen sich jeden Dienstag in der Zeit von 15:00 bis 17:00 Uhr unter der Aufsicht der Pädagogin Angelika Richter. Dabei handelt es sich um eine kostenfreie Kinderbetreuung für Kinder im Alter zwischen vier und sieben Jahren. \nEs findet bei dem Angebot für die Kinder eine bunte Mischung aus allem statt\, was Spaß macht: Es wird gemalt\, gebastelt und gespielt – die Interessen der Kinder werden dabei miteinbezogen.  \nOhne Anmeldung\nkostenfreies Angebot im Studio der Weberei\, Treffpunkt ist in der Bogenstraße.
URL:https://www.milkids.de/termin/weberei-minis-kinderbetreuung-mit-spiel-spass/2025-02-11/
LOCATION:Die Weberei\, Bogenstraße\, Gütersloh\, Detmold\, 33330\, Germany
CATEGORIES:2 bis 5,6 bis 12,Drinnen
GEO:51.9020126;8.3756466
X-APPLE-STRUCTURED-LOCATION;VALUE=URI;X-ADDRESS=Die Weberei Bogenstraße Gütersloh Detmold 33330 Germany;X-APPLE-RADIUS=500;X-TITLE=Bogenstraße:geo:8.3756466,51.9020126
END:VEVENT
END:VCALENDAR