BEGIN:VCALENDAR
VERSION:2.0
PRODID:-//milkids - ECPv6.15.18//NONSGML v1.0//EN
CALSCALE:GREGORIAN
METHOD:PUBLISH
X-ORIGINAL-URL:https://www.milkids.de
X-WR-CALDESC:Veranstaltungen für milkids
REFRESH-INTERVAL;VALUE=DURATION:PT1H
X-Robots-Tag:noindex
X-PUBLISHED-TTL:PT1H
BEGIN:VTIMEZONE
TZID:Europe/Berlin
BEGIN:DAYLIGHT
TZOFFSETFROM:+0100
TZOFFSETTO:+0200
TZNAME:CEST
DTSTART:20240331T010000
END:DAYLIGHT
BEGIN:STANDARD
TZOFFSETFROM:+0200
TZOFFSETTO:+0100
TZNAME:CET
DTSTART:20241027T010000
END:STANDARD
BEGIN:DAYLIGHT
TZOFFSETFROM:+0100
TZOFFSETTO:+0200
TZNAME:CEST
DTSTART:20250330T010000
END:DAYLIGHT
BEGIN:STANDARD
TZOFFSETFROM:+0200
TZOFFSETTO:+0100
TZNAME:CET
DTSTART:20251026T010000
END:STANDARD
BEGIN:DAYLIGHT
TZOFFSETFROM:+0100
TZOFFSETTO:+0200
TZNAME:CEST
DTSTART:20260329T010000
END:DAYLIGHT
BEGIN:STANDARD
TZOFFSETFROM:+0200
TZOFFSETTO:+0100
TZNAME:CET
DTSTART:20261025T010000
END:STANDARD
END:VTIMEZONE
BEGIN:VEVENT
DTSTART;TZID=Europe/Berlin:20251001T090000
DTEND;TZID=Europe/Berlin:20251001T180000
DTSTAMP:20260424T110536
CREATED:20250914T221657Z
LAST-MODIFIED:20250914T221657Z
UID:10004056-1759309200-1759341600@www.milkids.de
SUMMARY:Kürbisfestival
DESCRIPTION:Aus mehr als 40.000 Kürbissen entstehen Kürbisskulpturen. Ein vielfältiges Rahmenprogramm sowie das beliebte Kürbis Quiz für Kinder runden das Angebot  ab.
URL:https://www.milkids.de/termin/kuerbisfestival-22/
LOCATION:Gartenschau Bad Lippspringe\, Lindenstraße\, Bad Lippspringe\, Detmold\, 33175\, Germany
CATEGORIES:Draußen,Familie
GEO:51.7857729;8.8140173
X-APPLE-STRUCTURED-LOCATION;VALUE=URI;X-ADDRESS=Gartenschau Bad Lippspringe Lindenstraße Bad Lippspringe Detmold 33175 Germany;X-APPLE-RADIUS=500;X-TITLE=Lindenstraße:geo:8.8140173,51.7857729
END:VEVENT
BEGIN:VEVENT
DTSTART;TZID=Europe/Berlin:20251001T153000
DTEND;TZID=Europe/Berlin:20251001T170000
DTSTAMP:20260424T110536
CREATED:20250903T214505Z
LAST-MODIFIED:20250903T214505Z
UID:10004412-1759332600-1759338000@www.milkids.de
SUMMARY:Igel filzen
DESCRIPTION:Diese süßen Igel sind die liebsten Begleiter des Herbstes.\nDaher dürfen sie auch in den Familien nicht fehlen. Die Teilnehmer:innen lernen die Grundlagen der Nadelfilztechnik und tauchen ein in einen kreativen Moment.
URL:https://www.milkids.de/termin/igel-filzen/
LOCATION:5Eck Bielefeld\, Berenskamp 16\, Bielefeld\, NRW\, 33611\, Germany
CATEGORIES:13 bis 18,6 bis 12,Drinnen,Erwachsene
ATTACH;FMTTYPE=image/png:https://www.milkids.de/wp-content/uploads/2025/09/Bildschirmfoto-2025-09-01-um-10.52.15.png
ORGANIZER;CN="5Eck - Gemeinsam Sch%C3%B6nes schaffen":MAILTO:hallo5eck@yahoo.com
GEO:52.053461;8.5406935
X-APPLE-STRUCTURED-LOCATION;VALUE=URI;X-ADDRESS=5Eck Bielefeld Berenskamp 16 Bielefeld NRW 33611 Germany;X-APPLE-RADIUS=500;X-TITLE=Berenskamp 16:geo:8.5406935,52.053461
END:VEVENT
BEGIN:VEVENT
DTSTART;TZID=Europe/Berlin:20251001T180000
DTEND;TZID=Europe/Berlin:20251001T193000
DTSTAMP:20260424T110536
CREATED:20250914T221925Z
LAST-MODIFIED:20250914T221925Z
UID:10001907-1759341600-1759347000@www.milkids.de
SUMMARY:Elternabend: Mein Baby wächst heran
DESCRIPTION:Der Elternabend „Mein Baby wächst heran“ behandelt Themen wie: Was kann ich? Was soll ich? Was darf ich während der Schwangerschaft?\nDie Referenten kommen aus dem Bereich Geburtshilfe\, Hebammen\, Kinderklinik \nDie Veranstaltungsreihe „Elternabend im Klinikum“ widmet sich fünf verschiedenen Themenbereichen.\nIm Anschluss an die jeweiligen Vorträge und Fragerunden kann der Kreißsaal besichtigt werden.\nEine Anmeldung zur Veranstaltung ist nicht notwendig. \nVeranstaltungsort: Konferenzbereich im Medicum Detmold\, Röntgenstraße 16\, Detmold
URL:https://www.milkids.de/termin/elternabend-mein-baby-waechst-heran-8/
LOCATION:Medicum Detmold\, Röntgenstraße 16\, Detmold\, 32756
CATEGORIES:Drinnen,Erwachsene
GEO:51.9416518;8.8783439
X-APPLE-STRUCTURED-LOCATION;VALUE=URI;X-ADDRESS=Medicum Detmold Röntgenstraße 16 Detmold 32756;X-APPLE-RADIUS=500;X-TITLE=Röntgenstraße 16:geo:8.8783439,51.9416518
END:VEVENT
END:VCALENDAR