BEGIN:VCALENDAR
VERSION:2.0
PRODID:-//milkids - ECPv6.15.18//NONSGML v1.0//EN
CALSCALE:GREGORIAN
METHOD:PUBLISH
X-WR-CALNAME:milkids
X-ORIGINAL-URL:https://www.milkids.de
X-WR-CALDESC:Veranstaltungen für milkids
REFRESH-INTERVAL;VALUE=DURATION:PT1H
X-Robots-Tag:noindex
X-PUBLISHED-TTL:PT1H
BEGIN:VTIMEZONE
TZID:Europe/Berlin
BEGIN:DAYLIGHT
TZOFFSETFROM:+0100
TZOFFSETTO:+0200
TZNAME:CEST
DTSTART:20240331T010000
END:DAYLIGHT
BEGIN:STANDARD
TZOFFSETFROM:+0200
TZOFFSETTO:+0100
TZNAME:CET
DTSTART:20241027T010000
END:STANDARD
BEGIN:DAYLIGHT
TZOFFSETFROM:+0100
TZOFFSETTO:+0200
TZNAME:CEST
DTSTART:20250330T010000
END:DAYLIGHT
BEGIN:STANDARD
TZOFFSETFROM:+0200
TZOFFSETTO:+0100
TZNAME:CET
DTSTART:20251026T010000
END:STANDARD
BEGIN:DAYLIGHT
TZOFFSETFROM:+0100
TZOFFSETTO:+0200
TZNAME:CEST
DTSTART:20260329T010000
END:DAYLIGHT
BEGIN:STANDARD
TZOFFSETFROM:+0200
TZOFFSETTO:+0100
TZNAME:CET
DTSTART:20261025T010000
END:STANDARD
END:VTIMEZONE
BEGIN:VEVENT
DTSTART;TZID=Europe/Berlin:20250423T090000
DTEND;TZID=Europe/Berlin:20250423T130000
DTSTAMP:20260425T153824
CREATED:20250209T171715Z
LAST-MODIFIED:20250209T171715Z
UID:10001501-1745398800-1745413200@www.milkids.de
SUMMARY:Gesichter und Geschichten – Wir machen ein Fotobuch
DESCRIPTION:Osterferienspiele: Wir begeben uns gemeinsam auf eine Entdeckungsreise in die Welt der Fotografie. Wie können wir mit Bildern Geschichten erzählen und was hat Vincent Böckstiegel eigentlich damit zu tun? Aus eigenen\, mitgebrachten Fotos gestalten wir ein Fotobuch – voll mit persönlichen Erinnerungen\, bunten Zeichnungen und kreativen Collagen!  \nAnmeldung über buchung@museumpab.de oder unter 05203.2961-220. \nFür Kinder von sechs bis zwölf Jahren.\nKosten: Aufgrund einer privaten Spende sind die Ferienspiele kostenlos.
URL:https://www.milkids.de/termin/gesichter-und-geschichten-wir-machen-ein-fotobuch/
LOCATION:Museum Peter August Böckstiegel\, Schloßstraße\, Werther (Westfalen)\, Detmold\, 33824\, Germany
CATEGORIES:6 bis 12,Drinnen
GEO:52.0743604;8.4411303
X-APPLE-STRUCTURED-LOCATION;VALUE=URI;X-ADDRESS=Museum Peter August Böckstiegel Schloßstraße Werther (Westfalen) Detmold 33824 Germany;X-APPLE-RADIUS=500;X-TITLE=Schloßstraße:geo:8.4411303,52.0743604
END:VEVENT
BEGIN:VEVENT
DTSTART;TZID=Europe/Berlin:20250423T090000
DTEND;TZID=Europe/Berlin:20250423T130000
DTSTAMP:20260425T153824
CREATED:20250309T145044Z
LAST-MODIFIED:20250309T145934Z
UID:10002136-1745398800-1745413200@www.milkids.de
SUMMARY:Ferienspiele: Farbenzauber - Batik - Werkstatt
DESCRIPTION:Wir tauchen ein in die Welt der Farben! Inspiriert von der Ausstellung wollen wir mit Stoff und Pigmenten arbeiten und einzigartige Batik-Designs kreieren. \nFür Kinder im Alter von 6 bis 12 Jahren \nEs ist erforderlich\, sich im Vorfeld ein Ticket für die Veranstaltung zu kaufen.\nAnmeldung und Information: mueller@kunsthalle-bielefeld.de oder Telefon 0521.3299950-18\nKosten: 25 Euro
URL:https://www.milkids.de/termin/ferienspiele-farbenzauber-batik-werkstatt/
LOCATION:Kunsthalle Bielefeld\, Artur-Ladebeck-Straße 5\, Bielefeld\, 33602
CATEGORIES:Drinnen
GEO:52.0157209;8.5226397
X-APPLE-STRUCTURED-LOCATION;VALUE=URI;X-ADDRESS=Kunsthalle Bielefeld Artur-Ladebeck-Straße 5 Bielefeld 33602;X-APPLE-RADIUS=500;X-TITLE=Artur-Ladebeck-Straße 5:geo:8.5226397,52.0157209
END:VEVENT
BEGIN:VEVENT
DTSTART;TZID=Europe/Berlin:20250423T100000
DTEND;TZID=Europe/Berlin:20250423T130000
DTSTAMP:20260425T153824
CREATED:20250415T092904Z
LAST-MODIFIED:20250415T093113Z
UID:10002453-1745402400-1745413200@www.milkids.de
SUMMARY:Holzrücken mit Kaltblutpferd für alle
DESCRIPTION:Zusammen mit Reinhard Merten arbeiten Kinder und Erwachsene auf dem Museumsgelände mit dem Pferd.\nBitte mitbringen: wetterfeste Kleidung\, festes Schuhwerk\, Verpflegung\nWorkshop für Kinder und Erwachsene \nAnmeldung: bis 16.04\nTreffpunkt: Museumseingang\nKosten: 35 Euro
URL:https://www.milkids.de/termin/holzruecken-mit-kaltblutpferd-fuer-alle/2025-04-23/
LOCATION:LWL-Freilichtmuseum Detmold\, Krummes Haus Detmold\, Detmold\, 32760
CATEGORIES:Draußen,Familie
ATTACH;FMTTYPE=image/jpeg:https://www.milkids.de/wp-content/uploads/2025/04/Holzruecken.jpg
GEO:51.9083032;8.8941812
X-APPLE-STRUCTURED-LOCATION;VALUE=URI;X-ADDRESS=LWL-Freilichtmuseum Detmold Krummes Haus Detmold Detmold 32760;X-APPLE-RADIUS=500;X-TITLE=Krummes Haus Detmold:geo:8.8941812,51.9083032
END:VEVENT
BEGIN:VEVENT
DTSTART;TZID=Europe/Berlin:20250423T103000
DTEND;TZID=Europe/Berlin:20250423T133000
DTSTAMP:20260425T153824
CREATED:20250112T211607Z
LAST-MODIFIED:20250706T224204Z
UID:10002053-1745404200-1745415000@www.milkids.de
SUMMARY:Seifenblasen – Fliegende Träume
DESCRIPTION:Wer liebt sie nicht? Seifenblasen haben nicht zuletzt aufgrund ihrer Formen- und Farbvielfalt etwas Zauberhaftes an sich und finden unter anderem Anwendung in Mathematik\, Architektur und Kunst.\nIn diesem Kurs werden die Kinder mit einfachen Experimenten den Geheimnissen der Seifenblasen auf den Grund gehen und in einer Kreativaktion fantasievolle Kunstwerke gestalten. Ein gemeinsamer Besuch in der Sonderausstellung “Mini-Mathematikum”\, rundet den Kurs ab. \nZielgruppe: 6 – 10 Jahre\nDie Teilnehmerzahl ist auf 10 Personen begrenzt\nTreffpunkt: Verwaltung\nKosten: 18 € / Person\nAnmeldung unter fon 0521 51 67 34 oder per E-Mail an: veranstaltungen-naturkundemuseum@bielefeld.de
URL:https://www.milkids.de/termin/seifenblasen%e2%81%9f-%e2%81%9ffliegende%e2%81%9ftraeume/2025-04-23/
LOCATION:Naturkunde-Museum Bielefeld\, Kreuzstraße\, Bielefeld\, Detmold\, 33602\, Germany
CATEGORIES:6 bis 12,Drinnen
GEO:52.0171375;8.5283683
X-APPLE-STRUCTURED-LOCATION;VALUE=URI;X-ADDRESS=Naturkunde-Museum Bielefeld Kreuzstraße Bielefeld Detmold 33602 Germany;X-APPLE-RADIUS=500;X-TITLE=Kreuzstraße:geo:8.5283683,52.0171375
END:VEVENT
BEGIN:VEVENT
DTSTART;TZID=Europe/Berlin:20250423T140000
DTEND;TZID=Europe/Berlin:20250423T170000
DTSTAMP:20260425T153824
CREATED:20250415T093516Z
LAST-MODIFIED:20250415T093516Z
UID:10002456-1745416800-1745427600@www.milkids.de
SUMMARY:Naturbegegnungen: Nistkastenbau für alle
DESCRIPTION:Nistkastenbau für alle.  \nOrt: Haus Düsterdieck\nMaterialkosten: 18 Euro pro Nistkasten\nInformation: Tel. 05231.706-104 oder infobuero.detmold@lwl.org
URL:https://www.milkids.de/termin/naturbegegnungen-nistkastenbau-fuer-alle/
LOCATION:LWL-Freilichtmuseum Detmold\, Krummes Haus Detmold\, Detmold\, 32760
CATEGORIES:Drinnen,Familie
ATTACH;FMTTYPE=image/jpeg:https://www.milkids.de/wp-content/uploads/2025/04/Nistbau.jpg
GEO:51.9083032;8.8941812
X-APPLE-STRUCTURED-LOCATION;VALUE=URI;X-ADDRESS=LWL-Freilichtmuseum Detmold Krummes Haus Detmold Detmold 32760;X-APPLE-RADIUS=500;X-TITLE=Krummes Haus Detmold:geo:8.8941812,51.9083032
END:VEVENT
BEGIN:VEVENT
DTSTART;TZID=Europe/Berlin:20250423T143000
DTEND;TZID=Europe/Berlin:20250423T170000
DTSTAMP:20260425T153824
CREATED:20250308T214804Z
LAST-MODIFIED:20250308T214941Z
UID:10002054-1745418600-1745427600@www.milkids.de
SUMMARY:Muster in der Natur
DESCRIPTION:In der Natur taucht die Mathematik in wunderschönen Formen auf. Die Teilnehmenden basteln einen “goldenen Zirkel” und erforschen in der Dauerausstellung des namu\, wo der goldene Schnitt überall zu finden ist. Zudem werden beispielhaft\, mit Farben\, die Muster der Fibonacci-Folge an Fichten- und Kiefern-Zapfen herausgearbeitet\, die als Erinnerung mitgenommen werden dürfen.  \nBei einem Besuch in der Sonderausstellung des namu dürfen weitere Phänomene der Mathematik spielerisch erforscht werden. \nfür Kinder v on 7-11 Jahren\nDie Teilnehmerzahl ist auf 10 Personen begrenzt\nKosten: 16 Euro/Person
URL:https://www.milkids.de/termin/muster%e2%81%9fin%e2%81%9fder%e2%81%9fnaturin-der-natur-taucht-die-mathematik-in-wunderschoenen-formen-auf-die-teilnehmenden-basteln-einen-goldenen-zirkel-und-erforschen-in-der-daue/
LOCATION:Naturkunde-Museum Bielefeld\, Kreuzstraße\, Bielefeld\, Detmold\, 33602\, Germany
CATEGORIES:Drinnen
GEO:52.0171375;8.5283683
X-APPLE-STRUCTURED-LOCATION;VALUE=URI;X-ADDRESS=Naturkunde-Museum Bielefeld Kreuzstraße Bielefeld Detmold 33602 Germany;X-APPLE-RADIUS=500;X-TITLE=Kreuzstraße:geo:8.5283683,52.0171375
END:VEVENT
BEGIN:VEVENT
DTSTART;TZID=Europe/Berlin:20250423T143000
DTEND;TZID=Europe/Berlin:20250423T183000
DTSTAMP:20260425T153824
CREATED:20250404T151023Z
LAST-MODIFIED:20250404T151023Z
UID:10002355-1745418600-1745433000@www.milkids.de
SUMMARY:Osterferienprogramm - Mario Cart Turnier
DESCRIPTION:Willkommen zum ultimativen Mario-Kart-Turnier! Tretet gegen andere Fahrer*innen an und zeigt euer Können auf der Rennstrecke. Bringt eure Lieblings-Charaktere mit und kämpft um den Titel des Mario Kart – Champions. Es erwarten euch spannende Rennen\, lustige Herausforderungen und natürlich jede Menge Spaß! Meldet euch jetzt an und sichert euch euren Platz auf dem Siegertreppchen. Mögen die besten Fahrer*innen gewinnen! \nFür Kinder von 6 – 13 Jahren. Altersnachweis: Bitte Schüler*innenausweis nicht vergessen!\nOrt: GamerSpace | 2. OG\nDer Eintritt ist frei. \nEine Anmeldung ist erforderlich.
URL:https://www.milkids.de/termin/osterferienprogramm-mario-cart-turnier/
LOCATION:Stadtbibliothek Bielefeld\, Neumarkt\, Bielefeld\, Detmold\, 33602\, Germany
CATEGORIES:Drinnen
ORGANIZER;CN="Stadtbibliothek Bielefeld":MAILTO:stadtbibliothek.events-bielefeld.de
GEO:52.0266981;8.5371282
X-APPLE-STRUCTURED-LOCATION;VALUE=URI;X-ADDRESS=Stadtbibliothek Bielefeld Neumarkt Bielefeld Detmold 33602 Germany;X-APPLE-RADIUS=500;X-TITLE=Neumarkt:geo:8.5371282,52.0266981
END:VEVENT
BEGIN:VEVENT
DTSTART;TZID=Europe/Berlin:20250423T150000
DTEND;TZID=Europe/Berlin:20250423T150000
DTSTAMP:20260425T153824
CREATED:20250414T201831Z
LAST-MODIFIED:20250414T201831Z
UID:10002438-1745420400-1745420400@www.milkids.de
SUMMARY:Paw-Patrol-Puppentheater im Gartenschaupark
DESCRIPTION:Beim Paw-Patrol-Puppentheater im Zirkuszelt im Parkteil Nord treffen die kleinen Besucher auf die beliebten Helden mit vier Pfoten: Chase\, Marshall\, Rocky\, Zuma\, Rubble und Skye. Gemeinsam meistern sie jede Herausforderung und erleben viele Abenteuer. Klar\, dass Bösewichte keine Chance haben…  \nfür Kinder von 2 bis etwa 8 Jahren\nEintritt zum Puppentheater ist im regulären Parkeintritt enthalten.\nErwachsene zahlen 6 Euro für die Tageskarte\, Kinder ab 4 Jahren 2 Euro. Jüngere Kinder und Inhaber einer Dauerkarte haben freien Eintritt.
URL:https://www.milkids.de/termin/paw-patrol-puppentheater-im-gartenschaupark/2025-04-23/
LOCATION:Gartenschaupark Rietberg\, Torfweg\, Rietberg\, Detmold\, 33397\, Germany
CATEGORIES:2 bis 5,6 bis 12,Draußen,Familie
GEO:51.8085541;8.4318766
X-APPLE-STRUCTURED-LOCATION;VALUE=URI;X-ADDRESS=Gartenschaupark Rietberg Torfweg Rietberg Detmold 33397 Germany;X-APPLE-RADIUS=500;X-TITLE=Torfweg:geo:8.4318766,51.8085541
END:VEVENT
BEGIN:VEVENT
DTSTART;TZID=Europe/Berlin:20250423T150000
DTEND;TZID=Europe/Berlin:20250423T170000
DTSTAMP:20260425T153824
CREATED:20250308T174004Z
LAST-MODIFIED:20250415T073933Z
UID:10002025-1745420400-1745427600@www.milkids.de
SUMMARY:Wassertiere aus Schaumstoff
DESCRIPTION:Puppenbau in den Osterferien. Alle können Riesenbastelspass haben\, aus einfachen Materialien werden im Theaterfoyer Tütenpuppen\, Stabfiguren aus Schaumstoff und Tiermasken gebastelt. \nDie Teilnehmerzahl ist begrenzt und die Arbeitsvorgänge sind leicht verständlich. So kann sich um jede/n Einzelnen gekümmert werden.\nWassertiere aus Schaumstoff: für Teilnehmer:innen ab 6 Jahren\nDauer ca. 120 Minuten\nPreis: 14 Euro pro Figur
URL:https://www.milkids.de/termin/wassertiere-aus-schaumstoff/2025-04-23/
LOCATION:Bielefelder Puppenspiele
CATEGORIES:6 bis 12,Drinnen
GEO:52.0241172;8.5339431
END:VEVENT
BEGIN:VEVENT
DTSTART;TZID=Europe/Berlin:20250423T150000
DTEND;TZID=Europe/Berlin:20250423T173000
DTSTAMP:20260425T153824
CREATED:20250209T171912Z
LAST-MODIFIED:20250218T124102Z
UID:10001502-1745420400-1745429400@www.milkids.de
SUMMARY:Torben Kuhlmanns „Lindbergh“ – Geschichtenzauber und Kreativabenteuer
DESCRIPTION:An diesem Nachmittag liest Julia Sandmann von der Stadtbibliothek\, aus Torben Kuhlmanns Kinderbuch „Lindbergh“ vor: Eine Geschichte über eine kleine\, außergewöhnliche Maus zu Beginn des 20. Jahrhunderts\, die auf der Suche nach ihren verschwundenen Freund:innen eine abenteuerliche Reise über den Atlantik unternimmt. Nach und nach lassen wir mit Druckstempeln\, Farbe\, Kreiden und Tusche eigene Bildergeschichten entstehen. \nAnmeldung über buchung@museumpab.de oder unter 05203.2961-220. \nFür Kinder von sechs bis zwölf Jahren.\nKosten: Aufgrund einer privaten Spende sind die Ferienspiele kostenlos.
URL:https://www.milkids.de/termin/torben-kuhlmanns-lindbergh-geschichtenzauber-und-kreativabenteuer/
LOCATION:Museum Peter August Böckstiegel\, Schloßstraße\, Werther (Westfalen)\, Detmold\, 33824\, Germany
CATEGORIES:6 bis 12,Drinnen
ATTACH;FMTTYPE=image/png:https://www.milkids.de/wp-content/uploads/2025/01/Cover-11.png
GEO:52.0743604;8.4411303
X-APPLE-STRUCTURED-LOCATION;VALUE=URI;X-ADDRESS=Museum Peter August Böckstiegel Schloßstraße Werther (Westfalen) Detmold 33824 Germany;X-APPLE-RADIUS=500;X-TITLE=Schloßstraße:geo:8.4411303,52.0743604
END:VEVENT
BEGIN:VEVENT
DTSTART;TZID=Europe/Berlin:20250423T150000
DTEND;TZID=Europe/Berlin:20250423T173000
DTSTAMP:20260425T153824
CREATED:20250301T165656Z
LAST-MODIFIED:20250301T165656Z
UID:10001961-1745420400-1745429400@www.milkids.de
SUMMARY:Astro-Workshop – Linoldruck
DESCRIPTION:In diesem galaktischen Kursus gehen die Teilnehmer:innen zuerst auf eine kleine Entdeckungsreise in die spannende Welt der Astrologie. Nach einem kindgerechten Rundgang durch die Sonderausstellung „Alles außer irdisch. Sternstunden der Astronomie“ werden sie selbst zu kleinen Künstlern.\nMit der Linoldruck-Technik können sie ihre eigenen Ideen umsetzen! Dabei lernen sie\, wie man mit Linoldruckplatten arbeitet und eigene Motive schnitzt und druckt. So können sie  Sternbilder\, Planeten oder einen glitzernden Nachthimmel gestalten und ihre ganz persönliche Postkarte erschaffen und mit nach Hause nehmen – ein Andenken oder ein besonderes Geschenk! \nfür Kinder ab 6 Jahren  \nKosten: 15 Euro pro Woche\nAnmeldung unter Tel. 05261.2502190 oder per Mail an kasse@museum-schloss-brake.de
URL:https://www.milkids.de/termin/astro-workshop-linoldruck/2025-04-23/
LOCATION:Weserrenaissance-Museum Schloss Brake\, Schloßstraße\, Lemgo\, Detmold\, 32657\, Germany
CATEGORIES:6 bis 12,Drinnen
GEO:52.0213361;8.916211
X-APPLE-STRUCTURED-LOCATION;VALUE=URI;X-ADDRESS=Weserrenaissance-Museum Schloss Brake Schloßstraße Lemgo Detmold 32657 Germany;X-APPLE-RADIUS=500;X-TITLE=Schloßstraße:geo:8.916211,52.0213361
END:VEVENT
BEGIN:VEVENT
DTSTART;TZID=Europe/Berlin:20250423T153000
DTEND;TZID=Europe/Berlin:20250423T173000
DTSTAMP:20260425T153824
CREATED:20241129T082054Z
LAST-MODIFIED:20250413T161034Z
UID:10002008-1745422200-1745429400@www.milkids.de
SUMMARY:Bubble Tea Science
DESCRIPTION:(Trinkbare) Experimente mit dem Kult-Getränk. Was ist das Geheimnis von Bubble-Tea? Also von diesen kleinen Kügelchen im Kult-Getränk? Hier kannst du es herausfinden und sogar selbst einen Bubble-Tea kreieren! So ganz „nebenbei“ erklären wir in unserer Versuchsküche das Geheimnis der Kügelchen\, das Prinzip der „Sphärisierung“\, und wo dies sonst in Wissenschaft und Praxis eine Rolle spielt. Denn die Bubbles können sogar\nmagnetisch oder leuchtend hergestellt werden!\nDas Workshop-Format wurde entwickelt in Kooperation mit dem Berufskolleg Senne (Bereich Naturwissenschaften).\nGerne ein leeres Marmeladenglas oder ein ähnliches Gefäß mitbringen\, dann können die  Bubbles auch mit nach Hause genommen werden.  \nBuchbar für alle ab 6 Jahren. Kinder zwischen 6-10 Jahren nur in Begleitung.\nKosten pro Person: 10 Euro Einzelticket\, auch für Begleitperson ein Ticket buchen\nBei Fragen: hallo@wissenswerkstatt.de
URL:https://www.milkids.de/termin/bubble-tea-sciencefamilien-termin-trinkbare-experimente-mit-dem-kult-getraenk-6/2025-04-23/
LOCATION:Wissenswerkstadt Bielefeld\, Wilhelmstraße\, Bielefeld\, Detmold\, 33602\, Germany
CATEGORIES:13 bis 18,6 bis 12,Drinnen
GEO:52.0238945;8.5350147
X-APPLE-STRUCTURED-LOCATION;VALUE=URI;X-ADDRESS=Wissenswerkstadt Bielefeld Wilhelmstraße Bielefeld Detmold 33602 Germany;X-APPLE-RADIUS=500;X-TITLE=Wilhelmstraße:geo:8.5350147,52.0238945
END:VEVENT
BEGIN:VEVENT
DTSTART;TZID=Europe/Berlin:20250423T180000
DTEND;TZID=Europe/Berlin:20250423T193000
DTSTAMP:20260425T153824
CREATED:20250219T154012Z
LAST-MODIFIED:20250219T154012Z
UID:10001928-1745431200-1745436600@www.milkids.de
SUMMARY:Elternabend: Mein Baby im neuen Zuhause
DESCRIPTION:Der Elternabend „Mein Baby im neuen Zuhause“ behandelt Themen wie: Kinderklinik\, Kinderarzt\, Vorsorgeuntersuchungen\, Hilfen für die erste Zeit zu Hause\nDie Referenten kommen aus dem Bereich Geburtshilfe\, Hebammen\, Stillberaterinnen\, Kinderklinik \nDie Veranstaltungsreihe „Elternabend im Klinikum“ widmet sich fünf verschiedenen Themenbereichen.Im Anschluss an die jeweiligen Vorträge und Fragerunden kann der Kreißsaal besichtigt werden.\nEine Anmeldung zur Veranstaltung ist nicht notwendig. \nVeranstaltungsort: Konferenzbereich im Medicum Detmold\, Röntgenstraße 16\, Detmold
URL:https://www.milkids.de/termin/elternabend-mein-baby-im-neuen-zuhause/2025-04-23/
LOCATION:Medicum Detmold\, Röntgenstraße 16\, Detmold\, 32756
CATEGORIES:Drinnen,Erwachsene
GEO:51.9416518;8.8783439
X-APPLE-STRUCTURED-LOCATION;VALUE=URI;X-ADDRESS=Medicum Detmold Röntgenstraße 16 Detmold 32756;X-APPLE-RADIUS=500;X-TITLE=Röntgenstraße 16:geo:8.8783439,51.9416518
END:VEVENT
END:VCALENDAR