BEGIN:VCALENDAR
VERSION:2.0
PRODID:-//milkids - ECPv6.15.18//NONSGML v1.0//EN
CALSCALE:GREGORIAN
METHOD:PUBLISH
X-ORIGINAL-URL:https://www.milkids.de
X-WR-CALDESC:Veranstaltungen für milkids
REFRESH-INTERVAL;VALUE=DURATION:PT1H
X-Robots-Tag:noindex
X-PUBLISHED-TTL:PT1H
BEGIN:VTIMEZONE
TZID:Europe/Berlin
BEGIN:DAYLIGHT
TZOFFSETFROM:+0100
TZOFFSETTO:+0200
TZNAME:CEST
DTSTART:20240331T010000
END:DAYLIGHT
BEGIN:STANDARD
TZOFFSETFROM:+0200
TZOFFSETTO:+0100
TZNAME:CET
DTSTART:20241027T010000
END:STANDARD
BEGIN:DAYLIGHT
TZOFFSETFROM:+0100
TZOFFSETTO:+0200
TZNAME:CEST
DTSTART:20250330T010000
END:DAYLIGHT
BEGIN:STANDARD
TZOFFSETFROM:+0200
TZOFFSETTO:+0100
TZNAME:CET
DTSTART:20251026T010000
END:STANDARD
BEGIN:DAYLIGHT
TZOFFSETFROM:+0100
TZOFFSETTO:+0200
TZNAME:CEST
DTSTART:20260329T010000
END:DAYLIGHT
BEGIN:STANDARD
TZOFFSETFROM:+0200
TZOFFSETTO:+0100
TZNAME:CET
DTSTART:20261025T010000
END:STANDARD
END:VTIMEZONE
BEGIN:VEVENT
DTSTART;TZID=Europe/Berlin:20250418T110000
DTEND;TZID=Europe/Berlin:20250418T110000
DTSTAMP:20260425T204100
CREATED:20250414T202827Z
LAST-MODIFIED:20250414T202908Z
UID:10002440-1744974000-1744974000@www.milkids.de
SUMMARY:Zaubershow im Zirkuszelt
DESCRIPTION:Verzaubern lassen können sich die Besucher des Gartenschauparks bei der Zaubershow\, die in den Osterferien im Zirkuszelt im Parkteil Nord aufgeführt wird. Die etwa 30-minütige Show bietet viele Überraschungen. Im Programm tauchen nämlich immer wieder bekannte Disney-Figuren auf\, die gern mitzaubern möchten. Zu viel soll noch nicht verraten werden\, aber Micky Maus und Co. dürften die Show zu einer Besonderheit machen.\nLos geht’s an den Wochenenden und Feiertagen jeweils um 11 Uhr. \nKosten: Eintritt zur Zaubershow ist im regulären Parkeintritt enthalten.\nErwachsene zahlen 6 Euro für die Tageskarte\, Kinder ab 4 Jahren 2 Euro.\nJüngere Kinder und Inhaber einer Dauerkarte haben freien Eintritt.
URL:https://www.milkids.de/termin/11494/2025-04-18/
LOCATION:Gartenschaupark Rietberg\, Torfweg\, Rietberg\, Detmold\, 33397\, Germany
CATEGORIES:Draußen,Familie
GEO:51.8085541;8.4318766
X-APPLE-STRUCTURED-LOCATION;VALUE=URI;X-ADDRESS=Gartenschaupark Rietberg Torfweg Rietberg Detmold 33397 Germany;X-APPLE-RADIUS=500;X-TITLE=Torfweg:geo:8.4318766,51.8085541
END:VEVENT
BEGIN:VEVENT
DTSTART;TZID=Europe/Berlin:20250418T110000
DTEND;TZID=Europe/Berlin:20250418T170000
DTSTAMP:20260425T204100
CREATED:20250415T092119Z
LAST-MODIFIED:20250415T092119Z
UID:10002450-1744974000-1744995600@www.milkids.de
SUMMARY:Naturbegegnungen: Eierfärben nach Urgroßmutterart
DESCRIPTION:Eine Augenweide für den Ostertisch: Auf natürliche Art gefärbte und mit Pflanzenmustern geschmückte Eier. Bitte mitbringen: evtl. eigene rohe oder ausgeblasene\, braune oder weiße Eier \nOrt: Haus Düsterdieck\nMaterialkosten: 1 Euro pro Ei inkl. Färben\, 0\,50 Euro fürs Färben mitgebrachter Eier \nInfo: Tel. 05231.706-104 oder infobuero.detmold@lwl.org
URL:https://www.milkids.de/termin/naturbegegnungen-eierfaerben-nach-urgrossmutterart/
LOCATION:LWL-Freilichtmuseum Detmold\, Krummes Haus Detmold\, Detmold\, 32760
CATEGORIES:Drinnen,Familie
ATTACH;FMTTYPE=image/jpeg:https://www.milkids.de/wp-content/uploads/2025/04/Ostereierei.jpg
GEO:51.9083032;8.8941812
X-APPLE-STRUCTURED-LOCATION;VALUE=URI;X-ADDRESS=LWL-Freilichtmuseum Detmold Krummes Haus Detmold Detmold 32760;X-APPLE-RADIUS=500;X-TITLE=Krummes Haus Detmold:geo:8.8941812,51.9083032
END:VEVENT
BEGIN:VEVENT
DTSTART;TZID=Europe/Berlin:20250418T123000
DTEND;TZID=Europe/Berlin:20250418T143000
DTSTAMP:20260425T204100
CREATED:20250309T090455Z
LAST-MODIFIED:20250309T090455Z
UID:10002063-1744979400-1744986600@www.milkids.de
SUMMARY:Bunte Osterzeit – Ostereier filzen
DESCRIPTION:Mit bunter Wolle und warmem Wasser entstehen wollige Osterdekorationen! In diesem Mitmach-Angebot lernen Besucher:innen die Technik des Nassfilzens kennen und gestalten ihre eigenen\, farbenfrohen Ostereier. Ob als Frühlingsschmuck oder als Geschenk – jedes Filzei ist ein kleines Unikat.
URL:https://www.milkids.de/termin/bunte-osterzeit-ostereier-filzen/
LOCATION:Archäologisches Freilichtmuseum Oerlinghausen\, Am Barkhauser Berg\, Oerlinghausen\, Detmold\, 33813\, Germany
CATEGORIES:Drinnen
GEO:51.9512454;8.6634107
X-APPLE-STRUCTURED-LOCATION;VALUE=URI;X-ADDRESS=Archäologisches Freilichtmuseum Oerlinghausen Am Barkhauser Berg Oerlinghausen Detmold 33813 Germany;X-APPLE-RADIUS=500;X-TITLE=Am Barkhauser Berg:geo:8.6634107,51.9512454
END:VEVENT
END:VCALENDAR