BEGIN:VCALENDAR
VERSION:2.0
PRODID:-//milkids - ECPv6.15.18//NONSGML v1.0//EN
CALSCALE:GREGORIAN
METHOD:PUBLISH
X-WR-CALNAME:milkids
X-ORIGINAL-URL:https://www.milkids.de
X-WR-CALDESC:Veranstaltungen für milkids
REFRESH-INTERVAL;VALUE=DURATION:PT1H
X-Robots-Tag:noindex
X-PUBLISHED-TTL:PT1H
BEGIN:VTIMEZONE
TZID:Europe/Berlin
BEGIN:DAYLIGHT
TZOFFSETFROM:+0100
TZOFFSETTO:+0200
TZNAME:CEST
DTSTART:20240331T010000
END:DAYLIGHT
BEGIN:STANDARD
TZOFFSETFROM:+0200
TZOFFSETTO:+0100
TZNAME:CET
DTSTART:20241027T010000
END:STANDARD
BEGIN:DAYLIGHT
TZOFFSETFROM:+0100
TZOFFSETTO:+0200
TZNAME:CEST
DTSTART:20250330T010000
END:DAYLIGHT
BEGIN:STANDARD
TZOFFSETFROM:+0200
TZOFFSETTO:+0100
TZNAME:CET
DTSTART:20251026T010000
END:STANDARD
BEGIN:DAYLIGHT
TZOFFSETFROM:+0100
TZOFFSETTO:+0200
TZNAME:CEST
DTSTART:20260329T010000
END:DAYLIGHT
BEGIN:STANDARD
TZOFFSETFROM:+0200
TZOFFSETTO:+0100
TZNAME:CET
DTSTART:20261025T010000
END:STANDARD
END:VTIMEZONE
BEGIN:VEVENT
DTSTART;TZID=Europe/Berlin:20250413T100000
DTEND;TZID=Europe/Berlin:20250413T180000
DTSTAMP:20260425T130444
CREATED:20250309T231046Z
LAST-MODIFIED:20250404T160701Z
UID:10002262-1744538400-1744567200@www.milkids.de
SUMMARY:Sachen-machen-Tag
DESCRIPTION:Am Sachen-Machen-Tag lädt das HNF zum Basteln und Selbermachen ein. Flinke und trotzdem ruhige Hände sind gefragt auf dem Parkour aus Geschicklichkeitsspielen. Bastelaktionen für Jüngere\, eine Rope-Skipping-Show des TSV Wewer\, die Vorführung der Verschlüsselungsmaschine Enigma und eines Bankautomaten sind weitere Attraktionen. \nEinige Stationen knüpfen an die Hobbys und Vorlieben von Heinz Nixdorf an. Sie sind sportlich und geistig fordernd\, aber immer mit Spaß verbunden.\nDer Eintritt ins gesamte HNF ist an diesem Tag frei!
URL:https://www.milkids.de/termin/sachen-machen-tag/
LOCATION:Heinz Nixdorf MuseumsForum Paderborn\, Fürstenallee 7\, Paderborn\, Detmold\, 33102\, Germany
CATEGORIES:Drinnen,Familie
ATTACH;FMTTYPE=image/jpeg:https://www.milkids.de/wp-content/uploads/2025/03/Sachen-machen-Tag.jpg
GEO:51.73121;8.73616
X-APPLE-STRUCTURED-LOCATION;VALUE=URI;X-ADDRESS=Heinz Nixdorf MuseumsForum Paderborn Fürstenallee 7 Paderborn Detmold 33102 Germany;X-APPLE-RADIUS=500;X-TITLE=Fürstenallee 7:geo:8.73616,51.73121
END:VEVENT
BEGIN:VEVENT
DTSTART;TZID=Europe/Berlin:20250413T110000
DTEND;TZID=Europe/Berlin:20250413T180000
DTSTAMP:20260425T130444
CREATED:20250309T230708Z
LAST-MODIFIED:20250309T230708Z
UID:10002310-1744542000-1744567200@www.milkids.de
SUMMARY:Frühlingsmarkt auf Hof Ramsbrock
DESCRIPTION:Tauche ein in eine Welt handgemachter Schätze und Fundstücke\, die von lokalen Künstler:innen und Handwerker:innen geschaffen wurden. Hier dreht sich alles um Selbstgemachtes und Upcycling – vom Vintage-Schmuck über handgefertigte Dekoartikel bis hin zu kunstvollen Textilien.  \nDer Frühlingsmarkt auf Hof Ramsbrock ist nicht nur ein Fest für die Sinne\, sondern auch ein Beitrag zum Klimaschutz. Die Waren sind nicht nur Ausdruck von Kreativität\, sondern auch Teil einer nachhaltigen Lebensweise. Hier wird Wert auf Ressourcenschonung gelegt\, indem alte Materialien in neue Kunstwerke verwandelt werden.
URL:https://www.milkids.de/termin/fruehlingsmarkt-auf-hof-ramsbrock/
LOCATION:Hof Ramsbrock Bielefeld\, Ramsweg 2\, Bielefeld\, 33647
CATEGORIES:Drinnen,Familie
GEO:51.9511359;8.4782542
X-APPLE-STRUCTURED-LOCATION;VALUE=URI;X-ADDRESS=Hof Ramsbrock Bielefeld Ramsweg 2 Bielefeld 33647;X-APPLE-RADIUS=500;X-TITLE=Ramsweg 2:geo:8.4782542,51.9511359
END:VEVENT
BEGIN:VEVENT
DTSTART;TZID=Europe/Berlin:20250413T110000
DTEND;TZID=Europe/Berlin:20250413T170000
DTSTAMP:20260425T130444
CREATED:20250309T214714Z
LAST-MODIFIED:20250309T214714Z
UID:10002234-1744542000-1744563600@www.milkids.de
SUMMARY:Et labora! Handwerk im Kloster
DESCRIPTION:Der Familientag mit Handwerksvorführungen und Mitmachprogramm für Kinder lädt zu einem Tagesausflug in das ehemalige Kloster Dalheim ein. Von der Bäckerei bis zur Weberei machen hier mehr als zehn traditionelle Gewerke historische Handwerkskunst auf dem 7\,5 ha großen Klostergelände erlebbar. \nWährend die Besucher:innen den Handwerkern bei ihrer Arbeit an den historischen Standorten über die Schulter schauen\, gehen Kinder auf Entdeckertour und üben sich selbst in klösterlicher Handwerkskunst an den unterschiedlichsten Mitmachstationen.  \nRegelmäßige Kutschfahrten über das Klostergelände und den Ort runden das Familienerlebnis ab.
URL:https://www.milkids.de/termin/et-labora-handwerk-im-kloster/
LOCATION:Stiftung Kloster Dalheim\, Am Kloster 9\, Lichtenau\, 33165
CATEGORIES:Draußen,Familie
GEO:51.5666356;8.8409638
X-APPLE-STRUCTURED-LOCATION;VALUE=URI;X-ADDRESS=Stiftung Kloster Dalheim Am Kloster 9 Lichtenau 33165;X-APPLE-RADIUS=500;X-TITLE=Am Kloster 9:geo:8.8409638,51.5666356
END:VEVENT
BEGIN:VEVENT
DTSTART;TZID=Europe/Berlin:20250413T110000
DTEND;TZID=Europe/Berlin:20250413T170000
DTSTAMP:20260425T130444
CREATED:20250309T222952Z
LAST-MODIFIED:20250309T222952Z
UID:10002244-1744542000-1744563600@www.milkids.de
SUMMARY:Trollenspaß und Elfenzauber
DESCRIPTION:Die einzigartige Spielwelt der Elfen und Trolle ist seit Jahren das Highlight der  kleinen Gartenschau-Besucher. Aus diesem Grund findet zum ersten Mal der Aktionstag Trollenspaß & Elfenzauber statt mit einem abwechslungsreichen\, bunten Programm für die ganze Familie.
URL:https://www.milkids.de/termin/trollenspass-und-elfenzauber/
LOCATION:Gartenschau Bad Lippspringe\, Lindenstraße\, Bad Lippspringe\, Detmold\, 33175\, Germany
CATEGORIES:Draußen,Familie
GEO:51.7857729;8.8140173
X-APPLE-STRUCTURED-LOCATION;VALUE=URI;X-ADDRESS=Gartenschau Bad Lippspringe Lindenstraße Bad Lippspringe Detmold 33175 Germany;X-APPLE-RADIUS=500;X-TITLE=Lindenstraße:geo:8.8140173,51.7857729
END:VEVENT
BEGIN:VEVENT
DTSTART;TZID=Europe/Berlin:20250413T113000
DTEND;TZID=Europe/Berlin:20250413T133000
DTSTAMP:20260425T130444
CREATED:20250309T154511Z
LAST-MODIFIED:20250309T154511Z
UID:10002141-1744543800-1744551000@www.milkids.de
SUMMARY:Handlettering for families - Osteredition
DESCRIPTION:Gestalte dieses Ostern besonders persönlich. Werdet im Museum kreativ und erstellt mit uns Osterkarten und -bilder mit besonderen Schriftzügen und fröhlichen Ostermotiven. In diesem Kurs erlernt ihr die Kunst des Handletterings. In Kombination mit Aquarellfarben entstehen schöne Kunstwerke.  \nfür Familien mit Kindern ab 9 Jahren\nKosten inkl. Material: 10 Euro für Kinder\, 8 Euro für Erwachsene\nAnmeldung unter: veranstaltungen- museumhuelsmann@bielefeld.de oder Telefon 0521 513774
URL:https://www.milkids.de/termin/handlettering-for-families-osteredition/
LOCATION:Museum Huelsmann Bielefeld und Historisches Museum\, Ravensberger Park\, Bielefeld\, Detmold\, 33607\, Germany
CATEGORIES:Drinnen,Familie
GEO:52.0224573;8.5457388
X-APPLE-STRUCTURED-LOCATION;VALUE=URI;X-ADDRESS=Museum Huelsmann Bielefeld und Historisches Museum Ravensberger Park Bielefeld Detmold 33607 Germany;X-APPLE-RADIUS=500;X-TITLE=Ravensberger Park:geo:8.5457388,52.0224573
END:VEVENT
BEGIN:VEVENT
DTSTART;TZID=Europe/Berlin:20250413T130000
DTEND;TZID=Europe/Berlin:20250413T163000
DTSTAMP:20260425T130444
CREATED:20250411T124348Z
LAST-MODIFIED:20250411T130344Z
UID:10002414-1744549200-1744561800@www.milkids.de
SUMMARY:Flohmarkt in Kita Bökenkampstraße
DESCRIPTION:Kommt stöbern: Verkauft wird vieles rund um Baby\, Schwangerschaft und Kids sowie Frauensachen gibt’s noch dazu.\nDie Kids können auch unseren Spielbereich (draußen) nutzen\, die Aufsicht liegt natürlich bei euch.
URL:https://www.milkids.de/termin/flohmarkt-in-kita-boekenkampstrasse/
LOCATION:Städt. Kita Bökenkampstraße\, Bökenkampstraße 16-20\, Bielefeld\, NRW\, 33613\, Germany
CATEGORIES:Drinnen,Märkte
GEO:52.0339616;8.5280034
X-APPLE-STRUCTURED-LOCATION;VALUE=URI;X-ADDRESS=Städt. Kita Bökenkampstraße Bökenkampstraße 16-20 Bielefeld NRW 33613 Germany;X-APPLE-RADIUS=500;X-TITLE=Bökenkampstraße 16-20:geo:8.5280034,52.0339616
END:VEVENT
BEGIN:VEVENT
DTSTART;TZID=Europe/Berlin:20250413T140000
DTEND;TZID=Europe/Berlin:20250413T140000
DTSTAMP:20260425T130444
CREATED:20250313T152930Z
LAST-MODIFIED:20250313T152930Z
UID:10002202-1744552800-1744552800@www.milkids.de
SUMMARY:Sonntagsatelier im Marta
DESCRIPTION:Sonntagsatelier Kinder und Erwachsene sind eingeladen im Marta-Ateier zu experimentieren. Es werden wechselnde künstlerische Techniken angeboten. \nKosten 5 Euro (ohne Eintritt in die Ausstellungen)\nbegrenzte Teilnehmer*innenzahl\nTickets im Online-Shop oder an der Museumskasse
URL:https://www.milkids.de/termin/sonntagsatelier-im-marta-7/
LOCATION:Marta Herford
CATEGORIES:Drinnen
GEO:52.1209264;8.6683005
END:VEVENT
BEGIN:VEVENT
DTSTART;TZID=Europe/Berlin:20250413T140000
DTEND;TZID=Europe/Berlin:20250413T150000
DTSTAMP:20260425T130444
CREATED:20250209T171121Z
LAST-MODIFIED:20250209T171121Z
UID:10001496-1744552800-1744556400@www.milkids.de
SUMMARY:Mitmachführung für Groß und Klein
DESCRIPTION:Im Künstlerhaus und im Museum gibt es viele spannende Sachen zu entdecken: bunte Möbel\, kleine Tiere\, steinerne Köpfe und natürlich auch viele Gemälde\, die wir gemeinsam entdecken können. Diese Führung lädt Kinder ab 3 Jahren in Begleitung von den (Groß)Eltern\, der Patentante oder einer erwachsenen Person dazu ein\, die Ausstellung aus einer kindlichen Perspektive zu erleben und in einer kleinen Mitmachaktion selbst kreativ zu werden. \nAnmeldung über buchung@museumpab.de oder unter 05203.2961-220.
URL:https://www.milkids.de/termin/mitmachfuehrung-fuer-gross-und-klein-5/
LOCATION:Museum Peter August Böckstiegel\, Schloßstraße\, Werther (Westfalen)\, Detmold\, 33824\, Germany
CATEGORIES:2 bis 5,Drinnen,Familie
GEO:52.0743604;8.4411303
X-APPLE-STRUCTURED-LOCATION;VALUE=URI;X-ADDRESS=Museum Peter August Böckstiegel Schloßstraße Werther (Westfalen) Detmold 33824 Germany;X-APPLE-RADIUS=500;X-TITLE=Schloßstraße:geo:8.4411303,52.0743604
END:VEVENT
BEGIN:VEVENT
DTSTART;TZID=Europe/Berlin:20250413T140000
DTEND;TZID=Europe/Berlin:20250413T170000
DTSTAMP:20260425T130444
CREATED:20250309T095020Z
LAST-MODIFIED:20250309T154646Z
UID:10002077-1744552800-1744563600@www.milkids.de
SUMMARY:Mitmachaktion "Osternester flechten"
DESCRIPTION:Aus Naturmaterialien. Einfach vorbei kommen und jederzeit mit in den Workshop einsteigen  \nnur für Kinder ab 6 Jahren\nKosten: 8\,00 €/Kind\nBegleitperson: Eintritt\nohne Anmeldung
URL:https://www.milkids.de/termin/mitmachaktion-osternester-flechtenaus-naturmaterialien-einfach-vorbei-kommen-und-jederzeit-mit-in-den-worshop-einsteigen-nur-fuer-kinder-ab-6-jahren-kinder-800-e-begleitperson-eintritt-ohne/
LOCATION:Bauernhausmuseum Bielefeld\, Dornberger Straße\, Bielefeld\, Detmold\, 33619\, Germany
CATEGORIES:Drinnen
GEO:52.023784;8.5077865
X-APPLE-STRUCTURED-LOCATION;VALUE=URI;X-ADDRESS=Bauernhausmuseum Bielefeld Dornberger Straße Bielefeld Detmold 33619 Germany;X-APPLE-RADIUS=500;X-TITLE=Dornberger Straße:geo:8.5077865,52.023784
END:VEVENT
BEGIN:VEVENT
DTSTART;TZID=Europe/Berlin:20250413T140000
DTEND;TZID=Europe/Berlin:20250413T220000
DTSTAMP:20260425T130444
CREATED:20250403T204525Z
LAST-MODIFIED:20250403T205607Z
UID:10002390-1744552800-1744581600@www.milkids.de
SUMMARY:Frühjahrskirmes
DESCRIPTION:Von alt bewährten Fahrgeschäften bis hin zu neuen Highlights bietet die Radrennbahn wieder Kirmesvergnügen für Groß und Klein.\n4. April: Eröffnungstag mit Brilliant-Feuerwerk um ca. 21 Uhr\n9. April: Familientag\, reduzierte Preise an allen Geschäften
URL:https://www.milkids.de/termin/fruehjahrskirmes/2025-04-13/
LOCATION:Radrennbahn Bielefeld\, Heeper Str. 301\, Bielefeld\, 33607
CATEGORIES:Draußen,Familie
GEO:52.03;8.57935
X-APPLE-STRUCTURED-LOCATION;VALUE=URI;X-ADDRESS=Radrennbahn Bielefeld Heeper Str. 301 Bielefeld 33607;X-APPLE-RADIUS=500;X-TITLE=Heeper Str. 301:geo:8.57935,52.03
END:VEVENT
BEGIN:VEVENT
DTSTART;TZID=Europe/Berlin:20250413T143000
DTEND;TZID=Europe/Berlin:20250413T170000
DTSTAMP:20260425T130444
CREATED:20250407T211346Z
LAST-MODIFIED:20250407T211346Z
UID:10002400-1744554600-1744563600@www.milkids.de
SUMMARY:Eröffnung Mitmachausstellung "Die kleine Hexe"
DESCRIPTION:Die kleine Hexe landet in Lemgo! Die große Mitmach-Ausstellung nach dem Kinderbuchklassiker von Otfried Preußler beginnt am Sonntag\, 13. April\, mit einem bunten Programm für Kinder und Erwachsene. Freuen dürfen sich die Besucher:innen unter anderem auf eine kleine szenische Lesung aus der „Kleinen Hexe“ und vor allem auf die bunte und spannende Mitmach-Ausstellung. Kinder zwischen 4 und 14 Jahren können auch einen eigenen Reisigbesen bauen. \nKosten: Eintritt frei und ohne Anmeldung
URL:https://www.milkids.de/termin/eroeffnung-mitmachausstellung-die-kleine-hexe/
LOCATION:Museum Hexenbürgermeisterhaus Lemgo\, Breite Str. 17-19\, Lemgo\, 32657
CATEGORIES:Drinnen,Familie
GEO:52.0250986;8.8995241
X-APPLE-STRUCTURED-LOCATION;VALUE=URI;X-ADDRESS=Museum Hexenbürgermeisterhaus Lemgo Breite Str. 17-19 Lemgo 32657;X-APPLE-RADIUS=500;X-TITLE=Breite Str. 17-19:geo:8.8995241,52.0250986
END:VEVENT
BEGIN:VEVENT
DTSTART;TZID=Europe/Berlin:20250413T150000
DTEND;TZID=Europe/Berlin:20250413T150000
DTSTAMP:20260425T130444
CREATED:20250309T200738Z
LAST-MODIFIED:20250309T200738Z
UID:10002218-1744556400-1744556400@www.milkids.de
SUMMARY:ZauberSalon für Kinder
DESCRIPTION:Zauberer Ralf aus Hiddenhausen nimmt die Kinder mit zu den Anfängen seiner Zauberei. In einem bunten und abwechslungsreichen Programm können die Kinder staunen und lachen. Die Kinder werden aktiv in die Zauberei mit einbezogen und somit selbst zu Zauberern. \nDas speziell auf Kinder abgestimmte Programm wird ein unvergessliches Erlebnis bleiben – auch bei den Erwachsenen. \nEintritt frei(willig)
URL:https://www.milkids.de/termin/zaubersalon-fuer-kinder/
LOCATION:Druckerei Begegnungszentrum Bad Oeynhausen\, Kaiserstr. 14\, Bad Oeynhausen\, 32545
CATEGORIES:Drinnen,Familie
GEO:52.2036953;8.8017302
X-APPLE-STRUCTURED-LOCATION;VALUE=URI;X-ADDRESS=Druckerei Begegnungszentrum Bad Oeynhausen Kaiserstr. 14 Bad Oeynhausen 32545;X-APPLE-RADIUS=500;X-TITLE=Kaiserstr. 14:geo:8.8017302,52.2036953
END:VEVENT
BEGIN:VEVENT
DTSTART;TZID=Europe/Berlin:20250413T150000
DTEND;TZID=Europe/Berlin:20250413T150000
DTSTAMP:20260425T130444
CREATED:20250313T152850Z
LAST-MODIFIED:20250313T152850Z
UID:10002191-1744556400-1744556400@www.milkids.de
SUMMARY:Buddeln
DESCRIPTION:Nao\, Olm und Melek sind schon immer beste Freund*innen. Sie machen alles zusammen. Ein eingespieltes Team. Zu dritt. Alles läuft super. Immer. Zumindest bis zu dem Tag\, als Olm plötzlich nicht mehr richtig spielen will und stattdessen anfängt zu buddeln. Und gar nicht mehr damit aufhört. \nWährend Olm sich immer tiefer einbuddelt\, kippt die Stimmung\, und alles droht aus dem Gleichgewicht zu geraten. Aber dann machen sich Nao und Melek auf die Suche und folgen ihrem Freund in den dunklen Tunnel … \nfür Zuschauer:innen ab 8 Jahren\nKosten: 4 Euro für Kinder bis 14 Jahren\, Normalpreis 7\,50 Euro
URL:https://www.milkids.de/termin/buddeln-2/
LOCATION:Theater Paderborn
CATEGORIES:Drinnen,Familie
GEO:51.7170977;8.7552912
END:VEVENT
BEGIN:VEVENT
DTSTART;TZID=Europe/Berlin:20250413T150000
DTEND;TZID=Europe/Berlin:20250413T163000
DTSTAMP:20260425T130444
CREATED:20250313T152939Z
LAST-MODIFIED:20250313T152939Z
UID:10002283-1744556400-1744561800@www.milkids.de
SUMMARY:EiEiEi\, ein Osterei!
DESCRIPTION:In der Vorfreude auf das Osterfest wurden ein paar Eier im Museum versteckt! Ihr ahnt es schon\, noch sind sie ganz weiß! Das muss nicht so bleiben\, wenn ihr sie in unserer Osterwerkstatt bemalt\, beklebt\, marmoriert oder fantastisch umgestaltet. \nfür Kinder ab 4 Jahre\, mit und ohne Begleitung\nKosten: 6 Euro\nAnmeldung erforderlich unter Telefon 0521 51-3635
URL:https://www.milkids.de/termin/eieiei-ein-osterei-3/
LOCATION:Historisches Museum Bielefeld\, Ravensberger Park\, Bielefeld\, Detmold\, 33607\, Germany
CATEGORIES:Drinnen,Familie
GEO:52.0223731;8.546227
X-APPLE-STRUCTURED-LOCATION;VALUE=URI;X-ADDRESS=Historisches Museum Bielefeld Ravensberger Park Bielefeld Detmold 33607 Germany;X-APPLE-RADIUS=500;X-TITLE=Ravensberger Park:geo:8.546227,52.0223731
END:VEVENT
BEGIN:VEVENT
DTSTART;TZID=Europe/Berlin:20250413T150000
DTEND;TZID=Europe/Berlin:20250413T173000
DTSTAMP:20260425T130444
CREATED:20250309T114104Z
LAST-MODIFIED:20250309T114104Z
UID:10002098-1744556400-1744565400@www.milkids.de
SUMMARY:Easter Egg Hunt
DESCRIPTION:Kommt zum Easter Egg Hunt von The English Speaking Area und erlebt ein spannendes Ostereiersuchen. Taucht ein in ein fröhlichen englischen Nachmittag für Kindergarten- und Grundschulkinder\, bastelt mit uns\, lernt neue Wörter und spielt lustige Spiele mit uns und all das auf Englisch.\nVerpasst nicht den Spaß – sichert euch euren Platz und seid dabei\, wenn es heißt: seach\, find and celebrate!\nOstervokabular\, -deko & -eiersuche
URL:https://www.milkids.de/termin/easter-egg-hunt/
LOCATION:The English Speaking Area\, Herforder Str. 237\, Bielefeld\, 33609
CATEGORIES:Drinnen
GEO:52.0378394;8.5620452
X-APPLE-STRUCTURED-LOCATION;VALUE=URI;X-ADDRESS=The English Speaking Area Herforder Str. 237 Bielefeld 33609;X-APPLE-RADIUS=500;X-TITLE=Herforder Str. 237:geo:8.5620452,52.0378394
END:VEVENT
BEGIN:VEVENT
DTSTART;TZID=Europe/Berlin:20250413T160000
DTEND;TZID=Europe/Berlin:20250413T170000
DTSTAMP:20260425T130444
CREATED:20250313T152902Z
LAST-MODIFIED:20250313T152902Z
UID:10002016-1744560000-1744563600@www.milkids.de
SUMMARY:Das Bärenabenteuer im Ostermeer
DESCRIPTION:An einem heißen Tag merkt Brumm Bär\, dass er’s so heiß nicht mag. Er denkt: mein Auto her\, ich muss ans Meer. Beim Baden im Meer findet er dann\, ein seltsames Ei: Was ist da drin\, wo kommt es her? Seine Hasenfreunde Ka und Ninchen raten mit. Es ist ein Vogeltier vom Ostermeer.  \nUnd schon sind wir mittendrin in einer zauberhaften Geschichte um Heimweh\, Fernweh und einer bärenstarken Freundschaft. Auf einer eher schlichten Bühne erzählen der Bär und die Solospielerin gemeinsam die Geschichte und sie entfaltet sich liebevoll\, wie in einem Bilderbuch.\nOffenes Figurenspiel in Reimform zur Sprachförderung\nDauer ca. 40 Minuten \nfür Zuschauer ab 4 Jahren \nSa 12. April | 16:00 Uhr\nSo 13. April | 16:00 Uhr\nMo 21. April | 16:00 Uhr
URL:https://www.milkids.de/termin/das-baerenabenteuer-im-ostermeer-4/
LOCATION:Bielefelder Puppenspiele
CATEGORIES:Drinnen,Familie
GEO:52.0241172;8.5339431
END:VEVENT
END:VCALENDAR