BEGIN:VCALENDAR
VERSION:2.0
PRODID:-//milkids - ECPv6.15.18//NONSGML v1.0//EN
CALSCALE:GREGORIAN
METHOD:PUBLISH
X-ORIGINAL-URL:https://www.milkids.de
X-WR-CALDESC:Veranstaltungen für milkids
REFRESH-INTERVAL;VALUE=DURATION:PT1H
X-Robots-Tag:noindex
X-PUBLISHED-TTL:PT1H
BEGIN:VTIMEZONE
TZID:Europe/Berlin
BEGIN:DAYLIGHT
TZOFFSETFROM:+0100
TZOFFSETTO:+0200
TZNAME:CEST
DTSTART:20240331T010000
END:DAYLIGHT
BEGIN:STANDARD
TZOFFSETFROM:+0200
TZOFFSETTO:+0100
TZNAME:CET
DTSTART:20241027T010000
END:STANDARD
BEGIN:DAYLIGHT
TZOFFSETFROM:+0100
TZOFFSETTO:+0200
TZNAME:CEST
DTSTART:20250330T010000
END:DAYLIGHT
BEGIN:STANDARD
TZOFFSETFROM:+0200
TZOFFSETTO:+0100
TZNAME:CET
DTSTART:20251026T010000
END:STANDARD
BEGIN:DAYLIGHT
TZOFFSETFROM:+0100
TZOFFSETTO:+0200
TZNAME:CEST
DTSTART:20260329T010000
END:DAYLIGHT
BEGIN:STANDARD
TZOFFSETFROM:+0200
TZOFFSETTO:+0100
TZNAME:CET
DTSTART:20261025T010000
END:STANDARD
END:VTIMEZONE
BEGIN:VEVENT
DTSTART;TZID=Europe/Berlin:20250329T093000
DTEND;TZID=Europe/Berlin:20250329T123000
DTSTAMP:20260422T010002
CREATED:20250211T222837Z
LAST-MODIFIED:20250211T222837Z
UID:10001870-1743240600-1743251400@www.milkids.de
SUMMARY:Flohmarkt
DESCRIPTION:
URL:https://www.milkids.de/termin/flohmarkt-4/
LOCATION:Ev. Kita Lydia Bielefeld\, Gunststr. 20a\, Bielefeld\, 33613
CATEGORIES:Drinnen,Märkte
GEO:52.0447023;8.525615
X-APPLE-STRUCTURED-LOCATION;VALUE=URI;X-ADDRESS=Ev. Kita Lydia Bielefeld Gunststr. 20a Bielefeld 33613;X-APPLE-RADIUS=500;X-TITLE=Gunststr. 20a:geo:8.525615,52.0447023
END:VEVENT
BEGIN:VEVENT
DTSTART;TZID=Europe/Berlin:20250329T100000
DTEND;TZID=Europe/Berlin:20250329T120000
DTSTAMP:20260422T010002
CREATED:20250115T225950Z
LAST-MODIFIED:20250115T225950Z
UID:10001755-1743242400-1743249600@www.milkids.de
SUMMARY:Die Moorfrösche in Aktion
DESCRIPTION:Die NAJU-Kindergruppe „Moorfrösche“ heißt alle interessierten Kinder zwischen 7 und 14 Jahren herzlich willkommen. Sie treffen sich jeden Monat zu verschiedenen Aktionen\, u.a. kreative Basteleien\, Wanderungen durch das Große Torfmoor\, Nistkastenbau und vielem mehr. Dabei ist die erste Teilnahme kostenfrei.\nWer im Anschluss Teil der NAJU werden möchte\, für den ist der\nAbschluss einer NABU-Mitgliedschaft notwendig.
URL:https://www.milkids.de/termin/die-moorfroesche-in-aktion/
LOCATION:Moorhus Besucherzentrum\, Frotheimer Straße 57a\, Lübbecke\, Detmold\, 32312\, Germany
CATEGORIES:Draußen,Drinnen
GEO:52.3280563;8.6694707
X-APPLE-STRUCTURED-LOCATION;VALUE=URI;X-ADDRESS=Moorhus Besucherzentrum Frotheimer Straße 57a Lübbecke Detmold 32312 Germany;X-APPLE-RADIUS=500;X-TITLE=Frotheimer Straße 57a:geo:8.6694707,52.3280563
END:VEVENT
BEGIN:VEVENT
DTSTART;TZID=Europe/Berlin:20250329T100000
DTEND;TZID=Europe/Berlin:20250329T130000
DTSTAMP:20260422T010002
CREATED:20250211T225849Z
LAST-MODIFIED:20250211T225849Z
UID:10001876-1743242400-1743253200@www.milkids.de
SUMMARY:Avenwedder Flöhchen-Kiste
DESCRIPTION:Kinderkleidung bis Größe 176\, Kinderschuhe\, Umstandsmode\, Babyausstattung\, Bücher\, Fahrzeuge\, Kinderzimmerdeko\nEinlass für Schwangere mit Begleitperson ab 9.30 Uhr
URL:https://www.milkids.de/termin/avenwedder-floehchen-kiste/
LOCATION:Familienzentrum Auerhahnstraße\, Auerhahnstr. 30\, Bielefeld\, 33335
CATEGORIES:Drinnen,Märkte
GEO:51.9396892;8.4450385
X-APPLE-STRUCTURED-LOCATION;VALUE=URI;X-ADDRESS=Familienzentrum Auerhahnstraße Auerhahnstr. 30 Bielefeld 33335;X-APPLE-RADIUS=500;X-TITLE=Auerhahnstr. 30:geo:8.4450385,51.9396892
END:VEVENT
BEGIN:VEVENT
DTSTART;TZID=Europe/Berlin:20250329T100000
DTEND;TZID=Europe/Berlin:20250329T140000
DTSTAMP:20260422T010002
CREATED:20250211T230227Z
LAST-MODIFIED:20250211T230227Z
UID:10001877-1743242400-1743256800@www.milkids.de
SUMMARY:Flohmarkt Kita Möllernest
DESCRIPTION:Kinderkleidung\, Babyausstattung\, Spielsachen und mehr
URL:https://www.milkids.de/termin/flohmarkt-kita-moellernest/
LOCATION:Tiefgarage OurOffice\, Gütersloher Str. 52\, Bielefeld\, 33649
CATEGORIES:Drinnen,Märkte
GEO:51.9916835;8.4926253
X-APPLE-STRUCTURED-LOCATION;VALUE=URI;X-ADDRESS=Tiefgarage OurOffice Gütersloher Str. 52 Bielefeld 33649;X-APPLE-RADIUS=500;X-TITLE=Gütersloher Str. 52:geo:8.4926253,51.9916835
END:VEVENT
BEGIN:VEVENT
DTSTART;TZID=Europe/Berlin:20250329T103000
DTEND;TZID=Europe/Berlin:20250329T111500
DTSTAMP:20260422T010002
CREATED:20250309T115305Z
LAST-MODIFIED:20250309T115305Z
UID:10002099-1743244200-1743246900@www.milkids.de
SUMMARY:Mutter-Tochter Yoga
DESCRIPTION:Gemeinsam spielerisch die Welt des Yogas entdecken: Diese Yogastunde bietet Müttern und ihren Töchtern (4-6 Jahre) die Möglichkeit\, ihre Verbindung auf eine sanfte und liebevolle Weise zu stärken. Durch einfache Yoga-Posen\, beruhigende Atemübungen und entspannende Momente können Mütter und Töchter gemeinsam im Einklang miteinander kommen.  \nDer Fokus liegt auf Achtsamkeit und dem gemeinsamen Erleben von Ruhe und Freude\, während wir in einer harmonischen Atmosphäre Zeit miteinander verbringen. Ein Raum\, um die Beziehung zwischen Mutter und Tochter zu vertiefen und die innere Balance zu fördern.\nDiese 45-minütige Stunde findet im Kulturhof Bielefeld statt.  \nAnmeldung per E-Mail an info@yogaforbielefeld.com.\nPreis: 20 Euro pro Team
URL:https://www.milkids.de/termin/mutter-tochter-yoga/2025-03-29/
LOCATION:Umweltzentrum Bielefeld\, August-Bebel-Str. 16\, Bielefeld\, 33602
CATEGORIES:Drinnen,Familie
GEO:52.0308737;8.5395533
X-APPLE-STRUCTURED-LOCATION;VALUE=URI;X-ADDRESS=Umweltzentrum Bielefeld August-Bebel-Str. 16 Bielefeld 33602;X-APPLE-RADIUS=500;X-TITLE=August-Bebel-Str. 16:geo:8.5395533,52.0308737
END:VEVENT
BEGIN:VEVENT
DTSTART;TZID=Europe/Berlin:20250329T110000
DTEND;TZID=Europe/Berlin:20250329T110000
DTSTAMP:20260422T010002
CREATED:20250322T082926Z
LAST-MODIFIED:20250322T082926Z
UID:10002331-1743246000-1743246000@www.milkids.de
SUMMARY:Versteigerung Fundräder
DESCRIPTION:Das Ordnungsamt Bielefeld versteigert ab 11 Uhr wieder Fundräder. Etwa 80 Räder werden angeboten. Gezahlt werden muss vor Ort\, dies kann in bar oder mit EC-Karte erfolgen.  \nDie Versteigerung findet vor dem mittleren Eingang des Ordnungsamtes\, Ravensberger Park 5\, statt.
URL:https://www.milkids.de/termin/versteigerung-fundraeder/
LOCATION:Ravensberger Park
CATEGORIES:Draußen,Familie
GEO:52.0215491;8.5437038
END:VEVENT
BEGIN:VEVENT
DTSTART;TZID=Europe/Berlin:20250329T110000
DTEND;TZID=Europe/Berlin:20250329T130000
DTSTAMP:20260422T010002
CREATED:20241121T170728Z
LAST-MODIFIED:20250108T141949Z
UID:10001733-1743246000-1743253200@www.milkids.de
SUMMARY:Kunsthalle für Kinder
DESCRIPTION:Möchtest du die Kunsthalle mit ihren Ausstellungen kennen lernen? Bilder anschauen\, darüber reden und selbst kreativ sein?\nWenn du zwischen 5 und 12 Jahre bist\, dann bist du an jedem Samstag (außer in den Schulferien) von 11 bis 13 Uhr in der Malstube der Kunsthalle willkommen! \nAngebot für Kinder ohne Begleitung durch Erwachsene\nPreis: 5 €
URL:https://www.milkids.de/termin/kunsthalle-fuer-kinder-13/
LOCATION:Kunsthalle Bielefeld\, Artur-Ladebeck-Straße 5\, Bielefeld\, 33602
CATEGORIES:Drinnen
GEO:52.0157209;8.5226397
X-APPLE-STRUCTURED-LOCATION;VALUE=URI;X-ADDRESS=Kunsthalle Bielefeld Artur-Ladebeck-Straße 5 Bielefeld 33602;X-APPLE-RADIUS=500;X-TITLE=Artur-Ladebeck-Straße 5:geo:8.5226397,52.0157209
END:VEVENT
BEGIN:VEVENT
DTSTART;TZID=Europe/Berlin:20250329T110000
DTEND;TZID=Europe/Berlin:20250329T130000
DTSTAMP:20260422T010002
CREATED:20250114T234627Z
LAST-MODIFIED:20250114T234627Z
UID:10001693-1743246000-1743253200@www.milkids.de
SUMMARY:Stofftaschen bedrucken
DESCRIPTION:Heute bedrucken und bemalen wir mit bunten NaturfarbenStofftaschen. \nKinder-Museumsclub\nKosten: 5 €\nBuchung: info-stadtmuseum@herford.de oder Tel. 05221 189-689
URL:https://www.milkids.de/termin/stofftaschen-bedrucken/
LOCATION:Städtisches Museum Herford\, Deichtorwall 2\, Herford\, Detmold\, 32052\, Germany
CATEGORIES:Drinnen
GEO:52.1152251;8.6633269
X-APPLE-STRUCTURED-LOCATION;VALUE=URI;X-ADDRESS=Städtisches Museum Herford Deichtorwall 2 Herford Detmold 32052 Germany;X-APPLE-RADIUS=500;X-TITLE=Deichtorwall 2:geo:8.6633269,52.1152251
END:VEVENT
BEGIN:VEVENT
DTSTART;TZID=Europe/Berlin:20250329T110000
DTEND;TZID=Europe/Berlin:20250329T133000
DTSTAMP:20260422T010002
CREATED:20250322T083509Z
LAST-MODIFIED:20250322T083815Z
UID:10001941-1743246000-1743255000@www.milkids.de
SUMMARY:Vorsortierter Kinderflohmarkt
DESCRIPTION:Vorsortierter Kinderflohmarkt\, Frühlings- und Sommerkleidung\, Umstandsmode\, Spiele\, Bücher\, Fahrzeuge und noch viel mehr verkauft.\nZutritt für Schwangere und eine Begleitperson bereits um 10.30 Uhr möglich\nDas Parken ist entlang der Carl-Severing-Straße möglich.
URL:https://www.milkids.de/termin/vorsortierter-kinderflohmarkt-in-der-kita-am-lichtebach-in-bi-quelle/
LOCATION:Städt. Kita am Lichtebach\, Carl-Severing-Str. 150\, Bielefeld\, 33649\, Germany
CATEGORIES:Drinnen,Märkte
ATTACH;FMTTYPE=image/jpeg:https://www.milkids.de/wp-content/uploads/2025/02/Flohmarkt-2025.jpg
GEO:51.9976132;8.4707957
X-APPLE-STRUCTURED-LOCATION;VALUE=URI;X-ADDRESS=Städt. Kita am Lichtebach Carl-Severing-Str. 150 Bielefeld 33649 Germany;X-APPLE-RADIUS=500;X-TITLE=Carl-Severing-Str. 150:geo:8.4707957,51.9976132
END:VEVENT
BEGIN:VEVENT
DTSTART;TZID=Europe/Berlin:20250329T113000
DTEND;TZID=Europe/Berlin:20250329T120000
DTSTAMP:20260422T010002
CREATED:20241121T170728Z
LAST-MODIFIED:20250106T180845Z
UID:10001735-1743247800-1743249600@www.milkids.de
SUMMARY:Geschichtenzeit
DESCRIPTION:Jeden Samstag um 11.30 Uhr ist es soweit! Lauschen und Lachen in gemütlicher Runde in der Stadtbibliothek am Neumarkt. \nFür Kinder von 3 bis 6 Jahren\nKinderzimmer Erdgeschoss\nOhne Anmeldung\nDer Eintritt ist frei!
URL:https://www.milkids.de/termin/geschichtenzeit-24/
LOCATION:Stadtbibliothek Bielefeld\, Neumarkt\, Bielefeld\, Detmold\, 33602\, Germany
CATEGORIES:Drinnen
GEO:52.0266981;8.5371282
X-APPLE-STRUCTURED-LOCATION;VALUE=URI;X-ADDRESS=Stadtbibliothek Bielefeld Neumarkt Bielefeld Detmold 33602 Germany;X-APPLE-RADIUS=500;X-TITLE=Neumarkt:geo:8.5371282,52.0266981
END:VEVENT
BEGIN:VEVENT
DTSTART;TZID=Europe/Berlin:20250329T113000
DTEND;TZID=Europe/Berlin:20250329T121500
DTSTAMP:20260422T010002
CREATED:20250309T115828Z
LAST-MODIFIED:20250309T115828Z
UID:10002103-1743247800-1743250500@www.milkids.de
SUMMARY:Yoga für Klein und Groß
DESCRIPTION:Gemeinsam entdecken wir spielerisch die Welt des Yogas: In dieser besonderen Yogastunde für Kinder zwischen 4 und 6 Jahren kommen die Kleinen zusammen mit einer Begleitperson. Egal\, ob Papa und Tochter\, Mama und Sohn\, Onkel und Neffe oder jedes andere Familien- oder Betreuungskonstrukt – alle Kombinationen sind willkommen!  \nGemeinsam entdecken sie spielerisch die Welt des Yogas – mit einfachen Bewegungen\, Atemübungen und Entspannungsübungen\, die sowohl den Kindern als auch den Erwachsenen Freude bereiten. Diese Stunde fördert die Beweglichkeit\, Achtsamkeit und das Vertrauen\, während wir in einer entspannten und freundlichen Atmosphäre zusammen wachsen. Ideal für Eltern oder andere Begleitpersonen\, die mit ihren Kindern eine wertvolle Zeit verbringen möchten\, um Körper und Geist in Einklang zu bringen. \nAnmeldung per E-Mail an info@yogaforbielefeld.com.\nPreis: 20 Euro pro Team \nDiese 45-minütige Stunde findet jeden letzten Samstag im Monat um 11:30 Uhr im Kulturhof Bielefeld statt. Anmeldung per E-Mail an info@yogaforbielefeld.com.
URL:https://www.milkids.de/termin/yoga-fuer-klein-und-gross/
LOCATION:Umweltzentrum Bielefeld\, August-Bebel-Str. 16\, Bielefeld\, 33602
CATEGORIES:Drinnen,Familie
GEO:52.0308737;8.5395533
X-APPLE-STRUCTURED-LOCATION;VALUE=URI;X-ADDRESS=Umweltzentrum Bielefeld August-Bebel-Str. 16 Bielefeld 33602;X-APPLE-RADIUS=500;X-TITLE=August-Bebel-Str. 16:geo:8.5395533,52.0308737
END:VEVENT
BEGIN:VEVENT
DTSTART;TZID=Europe/Berlin:20250329T140000
DTEND;TZID=Europe/Berlin:20250329T163000
DTSTAMP:20260422T010002
CREATED:20250211T222107Z
LAST-MODIFIED:20250211T222107Z
UID:10001868-1743256800-1743265800@www.milkids.de
SUMMARY:Vorsortierter Flohmarkt
DESCRIPTION:Frühjahr- & Sommerkleidung bis Größe 140\, Kinderspielzeug\nab 13:30 Uhr für Schwangere mit Mutterpass und einer Begleitperson
URL:https://www.milkids.de/termin/vorsortierter-flohmarkt-5/
LOCATION:Ev. Versöhnungskindergarten Schloß Holte-Stukenbrock\, Orffweg 1-3\, Schloß Holte-Stukenbrock\, 33758
CATEGORIES:Drinnen,Märkte
GEO:51.8949122;8.6200994
X-APPLE-STRUCTURED-LOCATION;VALUE=URI;X-ADDRESS=Ev. Versöhnungskindergarten Schloß Holte-Stukenbrock Orffweg 1-3 Schloß Holte-Stukenbrock 33758;X-APPLE-RADIUS=500;X-TITLE=Orffweg 1-3:geo:8.6200994,51.8949122
END:VEVENT
BEGIN:VEVENT
DTSTART;TZID=Europe/Berlin:20250329T140000
DTEND;TZID=Europe/Berlin:20250329T170000
DTSTAMP:20260422T010002
CREATED:20250112T142757Z
LAST-MODIFIED:20250112T142757Z
UID:10001534-1743256800-1743267600@www.milkids.de
SUMMARY:Frühlingsboten
DESCRIPTION:Nach einem harten Winter freut sich so gut wie jeder auf die wärmeren Tage im Jahr. Wenn wir aufmerksam durch das Ziegeleigelände gehen\, werden wir sehen\, dass viele Pflanzen den Frühling ankündigen. Zum Beispiel gehören auch Krokusse zu den ersten Frühlingsboten – und womit startet dein Frühling?  \nWorkshop für Kinder ab 7 Jahre\nKosten: 10 Euro
URL:https://www.milkids.de/termin/fruehlingsboten/
LOCATION:LWL-Museum Ziegelei Lage\, Sprikernheide 77\, Lage\, Detmold\, 32791\, Germany
CATEGORIES:Draußen
GEO:52.0244672;8.7778806
X-APPLE-STRUCTURED-LOCATION;VALUE=URI;X-ADDRESS=LWL-Museum Ziegelei Lage Sprikernheide 77 Lage Detmold 32791 Germany;X-APPLE-RADIUS=500;X-TITLE=Sprikernheide 77:geo:8.7778806,52.0244672
END:VEVENT
BEGIN:VEVENT
DTSTART;TZID=Europe/Berlin:20250329T143000
DTEND;TZID=Europe/Berlin:20250329T160000
DTSTAMP:20260422T010002
CREATED:20250116T072619Z
LAST-MODIFIED:20250116T072619Z
UID:10001574-1743258600-1743264000@www.milkids.de
SUMMARY:Dinosaurier-Workshop
DESCRIPTION:Im Museum dürfen die Kinder auf den Spuren der Urzeitgiganten entdecken\, welche Dinosaurier in unserer Region ihre Fossilien hinterlassen haben. Nachdem Trittsiegel\, Zähne und Knochen vorgestellt wurden\, geht es ans Werk: Die Kinder dürfen ihren eigenen Dinosaurier aus Ton formen.  \nEmpfohlen ab 6 Jahren\nPreis: 6\,50 € + 0\,85 € Material / Person\,\nMindestteilnehmerzahl 5 Personen\nWir empfehlen alte Kleidung.
URL:https://www.milkids.de/termin/dinosaurier-workshop-5/
LOCATION:Bergwerk Kleinenbremen\, Rintelner Str. 396\, Porta Westfalica\, Detmold\, 32457\, Deutschland
CATEGORIES:Drinnen
GEO:52.2297222;9.0408333
X-APPLE-STRUCTURED-LOCATION;VALUE=URI;X-ADDRESS=Bergwerk Kleinenbremen Rintelner Str. 396 Porta Westfalica Detmold 32457 Deutschland;X-APPLE-RADIUS=500;X-TITLE=Rintelner Str. 396:geo:9.0408333,52.2297222
END:VEVENT
BEGIN:VEVENT
DTSTART;TZID=Europe/Berlin:20250329T143000
DTEND;TZID=Europe/Berlin:20250329T170000
DTSTAMP:20260422T010002
CREATED:20250322T090846Z
LAST-MODIFIED:20250322T090846Z
UID:10002325-1743258600-1743267600@www.milkids.de
SUMMARY:Flohmarkt im Martini-Gemeindehaus
DESCRIPTION:Verkaufen\, kaufen\, stöbern: Kindersachen\, Trödel\, Bücher und vieles mehr
URL:https://www.milkids.de/termin/flohmarkt-im-martini-gemeindehaus/
LOCATION:Gemeindehaus der ev. Martini-Kirchengemeinde Gadderbaum\, Pellaweg 4\, Bielefeld\, NRW\, 33617\, Germany
CATEGORIES:Drinnen,Familie,Märkte
ATTACH;FMTTYPE=image/jpeg:https://www.milkids.de/wp-content/uploads/2025/03/IMG_0226.jpeg
ORGANIZER;CN="ev. Martini-Kirchengemeinde":MAILTO:Martini@kirche-bielefeld.de
GEO:52.0007484;8.5161113
X-APPLE-STRUCTURED-LOCATION;VALUE=URI;X-ADDRESS=Gemeindehaus der ev. Martini-Kirchengemeinde Gadderbaum Pellaweg 4 Bielefeld NRW 33617 Germany;X-APPLE-RADIUS=500;X-TITLE=Pellaweg 4:geo:8.5161113,52.0007484
END:VEVENT
BEGIN:VEVENT
DTSTART;TZID=Europe/Berlin:20250329T150000
DTEND;TZID=Europe/Berlin:20250329T170000
DTSTAMP:20260422T010002
CREATED:20250112T235559Z
LAST-MODIFIED:20250112T235559Z
UID:10001627-1743260400-1743267600@www.milkids.de
SUMMARY:Färben mit Pflanzen
DESCRIPTION:Wir erkunden die Vielfalt der färbenden Pflanzen und stellen aus Naturmaterialien Farben zum Malen und Färben her \nfür Kinder ab 8 Jahre\nPreis: 16 Euro inkl. Turnbeutel\nnur mit Anmeldung unter Tel. 0521 5218550 oder info@bielefelder-bauernhausmuseum.de
URL:https://www.milkids.de/termin/faerben-mit-pflanzen/
LOCATION:Bauernhausmuseum Bielefeld\, Dornberger Straße\, Bielefeld\, Detmold\, 33619\, Germany
CATEGORIES:Drinnen
GEO:52.023784;8.5077865
X-APPLE-STRUCTURED-LOCATION;VALUE=URI;X-ADDRESS=Bauernhausmuseum Bielefeld Dornberger Straße Bielefeld Detmold 33619 Germany;X-APPLE-RADIUS=500;X-TITLE=Dornberger Straße:geo:8.5077865,52.023784
END:VEVENT
BEGIN:VEVENT
DTSTART;TZID=Europe/Berlin:20250329T160000
DTEND;TZID=Europe/Berlin:20250329T160000
DTSTAMP:20260422T010002
CREATED:20250116T081234Z
LAST-MODIFIED:20250116T081234Z
UID:10001555-1743264000-1743264000@www.milkids.de
SUMMARY:Die Tigerentenbande - der Film
DESCRIPTION:So viel Aufregung hat es um die Tigerentenbande ja noch nie gegeben. Schließlich wartet auf Hannes Strohkopp und seine Freunde dieses Mal nicht nur ein großes Abenteuer\, sondern gleich eine ganze Seifenkiste voll.\nAber wer dachte\, dass eine Schatzsuche\, alte Indianer-Geister und ein fieser und gemeiner Mäuse-Sheriff schon alle Herausforderungen sind\, die auf Hannes\, Laika und Co. warten\, der irrt gewaltig. Denn das war erst der Anfang für jede Menge Aufregung bei der Tigerentenbande.  \nDauer 65 Minuten FSK 0
URL:https://www.milkids.de/termin/die-tigerentenbande-der-film-2/
LOCATION:Lichtwerk & Kamera Filmkunst\, Ravensberger Park\, Bielefeld\, Detmold\, 33607\, Germany
CATEGORIES:Drinnen
GEO:52.0221966;8.5445781
X-APPLE-STRUCTURED-LOCATION;VALUE=URI;X-ADDRESS=Lichtwerk & Kamera Filmkunst Ravensberger Park Bielefeld Detmold 33607 Germany;X-APPLE-RADIUS=500;X-TITLE=Ravensberger Park:geo:8.5445781,52.0221966
END:VEVENT
BEGIN:VEVENT
DTSTART;TZID=Europe/Berlin:20250329T160000
DTEND;TZID=Europe/Berlin:20250329T165000
DTSTAMP:20260422T010003
CREATED:20250116T081256Z
LAST-MODIFIED:20250116T081256Z
UID:10001474-1743264000-1743267000@www.milkids.de
SUMMARY:Die Schnecke und der Buckelwal
DESCRIPTION:Die kleine Seeschnecke ist reiselustig: „Ich will fort\, ich will weg!“ vom immer gleichen schwarzen Felsen im Hafen\, auf dem sie mit ihren Geschwistern wohnt.\nSie träumt davon über das weite Meer davonzufahren\, während die anderen Schnecken diesen Wunsch überhaupt nicht verstehen. Doch die kleine Seeschnecke lässt sich nicht beirren und benutzt ihre Schleimspur zum Schreiben einer Anzeige: „Wer nimmt mich mit um die Welt?“\nEs ist ein Buckelwal\, so groß wie ein Schiff\, der das liest und der sie einlädt\, mit ihm um die Welt zu reisen.\nAufführung des Puppentheaters Pulcinella \nfür ZuschauerInnen ab 4 Jahren\nDauer ca. 50 Minuten
URL:https://www.milkids.de/termin/die-schnecke-und-der-buckelwal-2/
LOCATION:Bielefelder Puppenspiele
CATEGORIES:Drinnen
GEO:52.0241172;8.5339431
END:VEVENT
BEGIN:VEVENT
DTSTART;TZID=Europe/Berlin:20250329T160000
DTEND;TZID=Europe/Berlin:20250329T223000
DTSTAMP:20260422T010003
CREATED:20250325T215305Z
LAST-MODIFIED:20260120T011012Z
UID:10002345-1743264000-1743287400@www.milkids.de
SUMMARY:Waldleuchten
DESCRIPTION:Traditionell startet die Gartenschau Bad Lippspringe mit dem Waldleuchten in die neue Saison. Bereits zum achten Mal verwandeln hunderte von Strahlern und kunstvolle Lichtobjekte den Park in einen bunten Zauberwald. Natürlich darf die 3D-Videoinstallation mit neuen animierten Bildern nicht fehlen.\nDie Beleuchtung beginnt täglich ab Einbruch der Dämmerung und dauert bis 22.30 Uhr. Einlass ist jeweils bis 21.00 Uhr möglich. Das Waldleuchten findet bis 30. März statt.     \nKosten: für Jahreskarten-Inhaber kostenfrei.\n9\,50 Euro für Erwachsene\, 3 Euro für Kinder und Jugendliche von 3 bis einschließlich 17 Jahren.
URL:https://www.milkids.de/termin/waldleuchten-2/2025-03-29/
LOCATION:Gartenschau Bad Lippspringe\, Lindenstraße\, Bad Lippspringe\, Detmold\, 33175\, Germany
CATEGORIES:Draußen,Familie
GEO:51.7857729;8.8140173
X-APPLE-STRUCTURED-LOCATION;VALUE=URI;X-ADDRESS=Gartenschau Bad Lippspringe Lindenstraße Bad Lippspringe Detmold 33175 Germany;X-APPLE-RADIUS=500;X-TITLE=Lindenstraße:geo:8.8140173,51.7857729
END:VEVENT
END:VCALENDAR