BEGIN:VCALENDAR
VERSION:2.0
PRODID:-//milkids - ECPv6.15.18//NONSGML v1.0//EN
CALSCALE:GREGORIAN
METHOD:PUBLISH
X-ORIGINAL-URL:https://www.milkids.de
X-WR-CALDESC:Veranstaltungen für milkids
REFRESH-INTERVAL;VALUE=DURATION:PT1H
X-Robots-Tag:noindex
X-PUBLISHED-TTL:PT1H
BEGIN:VTIMEZONE
TZID:Europe/Berlin
BEGIN:DAYLIGHT
TZOFFSETFROM:+0100
TZOFFSETTO:+0200
TZNAME:CEST
DTSTART:20240331T010000
END:DAYLIGHT
BEGIN:STANDARD
TZOFFSETFROM:+0200
TZOFFSETTO:+0100
TZNAME:CET
DTSTART:20241027T010000
END:STANDARD
BEGIN:DAYLIGHT
TZOFFSETFROM:+0100
TZOFFSETTO:+0200
TZNAME:CEST
DTSTART:20250330T010000
END:DAYLIGHT
BEGIN:STANDARD
TZOFFSETFROM:+0200
TZOFFSETTO:+0100
TZNAME:CET
DTSTART:20251026T010000
END:STANDARD
BEGIN:DAYLIGHT
TZOFFSETFROM:+0100
TZOFFSETTO:+0200
TZNAME:CEST
DTSTART:20260329T010000
END:DAYLIGHT
BEGIN:STANDARD
TZOFFSETFROM:+0200
TZOFFSETTO:+0100
TZNAME:CET
DTSTART:20261025T010000
END:STANDARD
END:VTIMEZONE
BEGIN:VEVENT
DTSTART;TZID=Europe/Berlin:20250328T100000
DTEND;TZID=Europe/Berlin:20250328T100000
DTSTAMP:20260421T220424
CREATED:20250211T144535Z
LAST-MODIFIED:20250211T145714Z
UID:10001858-1743156000-1743156000@www.milkids.de
SUMMARY:Lesefrühling - Kinderliteraturtage: Jörg Isermeyer
DESCRIPTION:Kinder treffen ihre Lieblingsautorinnen und -autoren\, lernen aktuelle Bücher kennen und erleben die Freude am Lesen:\nJörg Isermeyer: »Dachs und Rakete – Ab in die Stadt«\nAb 6 Jahren\nEintritt 1 Euro
URL:https://www.milkids.de/termin/lesefruehling-kinderliteraturtage-joerg-isermeyer-2/
LOCATION:Stadtbibliothek Bielefeld\, Neumarkt\, Bielefeld\, Detmold\, 33602\, Germany
CATEGORIES:Drinnen,Familie
GEO:52.0266981;8.5371282
X-APPLE-STRUCTURED-LOCATION;VALUE=URI;X-ADDRESS=Stadtbibliothek Bielefeld Neumarkt Bielefeld Detmold 33602 Germany;X-APPLE-RADIUS=500;X-TITLE=Neumarkt:geo:8.5371282,52.0266981
END:VEVENT
BEGIN:VEVENT
DTSTART;TZID=Europe/Berlin:20250328T153000
DTEND;TZID=Europe/Berlin:20250328T161500
DTSTAMP:20260421T220424
CREATED:20250114T224437Z
LAST-MODIFIED:20250114T225422Z
UID:10001734-1743175800-1743178500@www.milkids.de
SUMMARY:Gütersloh liest vor
DESCRIPTION:Taucht mit uns in die fantastische Welt der Bücher ein: Wir lassen Figuren lebendig werden und erleben mit unseren Helden viele Abenteuer. Beim ersten Besuch bekommt jede/r einen Lesepass\, der bei jeder Teilnahme abgestempelt wird. Nach sechs Besuchen gibt es was Tolles aus der Schatzkiste. Alle sind spontan willkommen. Dauer: ca. 45 Minuten \nfür Kinder ab 5 Jahren\nKinderbibliothek\nOhne Anmeldung.\nDas Angebot ist kostenfrei.
URL:https://www.milkids.de/termin/guetersloh-liest-vor-7/
LOCATION:Stadtbibliothek Gütersloh\, Blessenstätte 1\, Gütersloh\, Detmold\, 33330\, Deutschland
CATEGORIES:Drinnen
GEO:51.9041407;8.3768231
X-APPLE-STRUCTURED-LOCATION;VALUE=URI;X-ADDRESS=Stadtbibliothek Gütersloh Blessenstätte 1 Gütersloh Detmold 33330 Deutschland;X-APPLE-RADIUS=500;X-TITLE=Blessenstätte 1:geo:8.3768231,51.9041407
END:VEVENT
BEGIN:VEVENT
DTSTART;TZID=Europe/Berlin:20250328T160000
DTEND;TZID=Europe/Berlin:20250328T223000
DTSTAMP:20260421T220424
CREATED:20250325T215305Z
LAST-MODIFIED:20260120T011012Z
UID:10002344-1743177600-1743201000@www.milkids.de
SUMMARY:Waldleuchten
DESCRIPTION:Traditionell startet die Gartenschau Bad Lippspringe mit dem Waldleuchten in die neue Saison. Bereits zum achten Mal verwandeln hunderte von Strahlern und kunstvolle Lichtobjekte den Park in einen bunten Zauberwald. Natürlich darf die 3D-Videoinstallation mit neuen animierten Bildern nicht fehlen.\nDie Beleuchtung beginnt täglich ab Einbruch der Dämmerung und dauert bis 22.30 Uhr. Einlass ist jeweils bis 21.00 Uhr möglich. Das Waldleuchten findet bis 30. März statt.     \nKosten: für Jahreskarten-Inhaber kostenfrei.\n9\,50 Euro für Erwachsene\, 3 Euro für Kinder und Jugendliche von 3 bis einschließlich 17 Jahren.
URL:https://www.milkids.de/termin/waldleuchten-2/2025-03-28/
LOCATION:Gartenschau Bad Lippspringe\, Lindenstraße\, Bad Lippspringe\, Detmold\, 33175\, Germany
CATEGORIES:Draußen,Familie
GEO:51.7857729;8.8140173
X-APPLE-STRUCTURED-LOCATION;VALUE=URI;X-ADDRESS=Gartenschau Bad Lippspringe Lindenstraße Bad Lippspringe Detmold 33175 Germany;X-APPLE-RADIUS=500;X-TITLE=Lindenstraße:geo:8.8140173,51.7857729
END:VEVENT
END:VCALENDAR