BEGIN:VCALENDAR
VERSION:2.0
PRODID:-//milkids - ECPv6.15.18//NONSGML v1.0//EN
CALSCALE:GREGORIAN
METHOD:PUBLISH
X-ORIGINAL-URL:https://www.milkids.de
X-WR-CALDESC:Veranstaltungen für milkids
REFRESH-INTERVAL;VALUE=DURATION:PT1H
X-Robots-Tag:noindex
X-PUBLISHED-TTL:PT1H
BEGIN:VTIMEZONE
TZID:Europe/Berlin
BEGIN:DAYLIGHT
TZOFFSETFROM:+0100
TZOFFSETTO:+0200
TZNAME:CEST
DTSTART:20240331T010000
END:DAYLIGHT
BEGIN:STANDARD
TZOFFSETFROM:+0200
TZOFFSETTO:+0100
TZNAME:CET
DTSTART:20241027T010000
END:STANDARD
BEGIN:DAYLIGHT
TZOFFSETFROM:+0100
TZOFFSETTO:+0200
TZNAME:CEST
DTSTART:20250330T010000
END:DAYLIGHT
BEGIN:STANDARD
TZOFFSETFROM:+0200
TZOFFSETTO:+0100
TZNAME:CET
DTSTART:20251026T010000
END:STANDARD
BEGIN:DAYLIGHT
TZOFFSETFROM:+0100
TZOFFSETTO:+0200
TZNAME:CEST
DTSTART:20260329T010000
END:DAYLIGHT
BEGIN:STANDARD
TZOFFSETFROM:+0200
TZOFFSETTO:+0100
TZNAME:CET
DTSTART:20261025T010000
END:STANDARD
END:VTIMEZONE
BEGIN:VEVENT
DTSTART;TZID=Europe/Berlin:20250327T150000
DTEND;TZID=Europe/Berlin:20250327T174500
DTSTAMP:20260421T203147
CREATED:20250116T074538Z
LAST-MODIFIED:20250309T163547Z
UID:10001407-1743087600-1743097500@www.milkids.de
SUMMARY:Gamer Space
DESCRIPTION:Für alle\, die gerne unsere Konsolen zum Glühen bringen möchten. Sei es die PlayStation\, die Xbox oder die Nintendo Switch. Aber auch jeder\, der einfach nur mal in die Gaming-Welt reinschnuppern möchte\, ist – alleine oder in Begleitung der Eltern – willkommen. \nFür Kinder und Jugendliche von 8 bis 15 Jahren.\nGamerSpace\, 2. OG\, Eingang über Kavalleriestraße 17.\nDer Eintritt ist frei. Keine Anmeldung
URL:https://www.milkids.de/termin/gamer-space-39/2025-03-27/
LOCATION:Stadtbibliothek Bielefeld\, Neumarkt\, Bielefeld\, Detmold\, 33602\, Germany
CATEGORIES:Drinnen
GEO:52.0266981;8.5371282
X-APPLE-STRUCTURED-LOCATION;VALUE=URI;X-ADDRESS=Stadtbibliothek Bielefeld Neumarkt Bielefeld Detmold 33602 Germany;X-APPLE-RADIUS=500;X-TITLE=Neumarkt:geo:8.5371282,52.0266981
END:VEVENT
BEGIN:VEVENT
DTSTART;TZID=Europe/Berlin:20250327T160000
DTEND;TZID=Europe/Berlin:20250327T223000
DTSTAMP:20260421T203147
CREATED:20250325T215305Z
LAST-MODIFIED:20260120T011012Z
UID:10002343-1743091200-1743114600@www.milkids.de
SUMMARY:Waldleuchten
DESCRIPTION:Traditionell startet die Gartenschau Bad Lippspringe mit dem Waldleuchten in die neue Saison. Bereits zum achten Mal verwandeln hunderte von Strahlern und kunstvolle Lichtobjekte den Park in einen bunten Zauberwald. Natürlich darf die 3D-Videoinstallation mit neuen animierten Bildern nicht fehlen.\nDie Beleuchtung beginnt täglich ab Einbruch der Dämmerung und dauert bis 22.30 Uhr. Einlass ist jeweils bis 21.00 Uhr möglich. Das Waldleuchten findet bis 30. März statt.     \nKosten: für Jahreskarten-Inhaber kostenfrei.\n9\,50 Euro für Erwachsene\, 3 Euro für Kinder und Jugendliche von 3 bis einschließlich 17 Jahren.
URL:https://www.milkids.de/termin/waldleuchten-2/2025-03-27/
LOCATION:Gartenschau Bad Lippspringe\, Lindenstraße\, Bad Lippspringe\, Detmold\, 33175\, Germany
CATEGORIES:Draußen,Familie
GEO:51.7857729;8.8140173
X-APPLE-STRUCTURED-LOCATION;VALUE=URI;X-ADDRESS=Gartenschau Bad Lippspringe Lindenstraße Bad Lippspringe Detmold 33175 Germany;X-APPLE-RADIUS=500;X-TITLE=Lindenstraße:geo:8.8140173,51.7857729
END:VEVENT
BEGIN:VEVENT
DTSTART;TZID=Europe/Berlin:20250327T163000
DTEND;TZID=Europe/Berlin:20250327T163000
DTSTAMP:20260421T203147
CREATED:20250211T144421Z
LAST-MODIFIED:20250211T145742Z
UID:10001857-1743093000-1743093000@www.milkids.de
SUMMARY:Lesefrühling - Kinderliteraturtage: Jörg Isermeyer
DESCRIPTION:Kinder treffen ihre Lieblingsautorinnen und -autoren\, lernen aktuelle Bücher kennen und erleben die Freude am Lesen:\nJörg Isermeyer: »Dachs und Rakete – Ab in die Stadt«\nAb 6 Jahren\nEintritt 1 Euro
URL:https://www.milkids.de/termin/lesefruehling-kinderliteraturtage-joerg-isermeyer/
LOCATION:Stadtbibliothek Gütersloh\, Blessenstätte 1\, Gütersloh\, Detmold\, 33330\, Deutschland
CATEGORIES:Drinnen,Familie
GEO:51.9041407;8.3768231
X-APPLE-STRUCTURED-LOCATION;VALUE=URI;X-ADDRESS=Stadtbibliothek Gütersloh Blessenstätte 1 Gütersloh Detmold 33330 Deutschland;X-APPLE-RADIUS=500;X-TITLE=Blessenstätte 1:geo:8.3768231,51.9041407
END:VEVENT
END:VCALENDAR