BEGIN:VCALENDAR
VERSION:2.0
PRODID:-//milkids - ECPv6.15.18//NONSGML v1.0//EN
CALSCALE:GREGORIAN
METHOD:PUBLISH
X-ORIGINAL-URL:https://www.milkids.de
X-WR-CALDESC:Veranstaltungen für milkids
REFRESH-INTERVAL;VALUE=DURATION:PT1H
X-Robots-Tag:noindex
X-PUBLISHED-TTL:PT1H
BEGIN:VTIMEZONE
TZID:Europe/Berlin
BEGIN:DAYLIGHT
TZOFFSETFROM:+0100
TZOFFSETTO:+0200
TZNAME:CEST
DTSTART:20240331T010000
END:DAYLIGHT
BEGIN:STANDARD
TZOFFSETFROM:+0200
TZOFFSETTO:+0100
TZNAME:CET
DTSTART:20241027T010000
END:STANDARD
BEGIN:DAYLIGHT
TZOFFSETFROM:+0100
TZOFFSETTO:+0200
TZNAME:CEST
DTSTART:20250330T010000
END:DAYLIGHT
BEGIN:STANDARD
TZOFFSETFROM:+0200
TZOFFSETTO:+0100
TZNAME:CET
DTSTART:20251026T010000
END:STANDARD
BEGIN:DAYLIGHT
TZOFFSETFROM:+0100
TZOFFSETTO:+0200
TZNAME:CEST
DTSTART:20260329T010000
END:DAYLIGHT
BEGIN:STANDARD
TZOFFSETFROM:+0200
TZOFFSETTO:+0100
TZNAME:CET
DTSTART:20261025T010000
END:STANDARD
END:VTIMEZONE
BEGIN:VEVENT
DTSTART;TZID=Europe/Berlin:20250318T100000
DTEND;TZID=Europe/Berlin:20250318T100000
DTSTAMP:20260421T220308
CREATED:20250211T142855Z
LAST-MODIFIED:20250211T150030Z
UID:10001850-1742292000-1742292000@www.milkids.de
SUMMARY:Lesefrühling - Kinderliteraturtage: Maren Graf
DESCRIPTION:Kinder treffen ihre Lieblingsautorinnen und -autoren\, lernen aktuelle Bücher kennen und erleben die Freude am Lesen:\nMaren Graf: »Ein Leuchtturmsommer voller Geheimnisse«\nAb 7 Jahren\nEintritt 1 Euro
URL:https://www.milkids.de/termin/lesefruehling-kinderliteraturtage-maren-graf-2/
LOCATION:Stadtbibliothek Gütersloh\, Blessenstätte 1\, Gütersloh\, Detmold\, 33330\, Deutschland
CATEGORIES:Drinnen,Familie
GEO:51.9041407;8.3768231
X-APPLE-STRUCTURED-LOCATION;VALUE=URI;X-ADDRESS=Stadtbibliothek Gütersloh Blessenstätte 1 Gütersloh Detmold 33330 Deutschland;X-APPLE-RADIUS=500;X-TITLE=Blessenstätte 1:geo:8.3768231,51.9041407
END:VEVENT
BEGIN:VEVENT
DTSTART;TZID=Europe/Berlin:20250318T150000
DTEND;TZID=Europe/Berlin:20250318T160000
DTSTAMP:20260421T220308
CREATED:20241121T164059Z
LAST-MODIFIED:20250111T175239Z
UID:10001751-1742310000-1742313600@www.milkids.de
SUMMARY:Kreative Stunde im Museum
DESCRIPTION:Eine Stunde lang haben Kinder die Gelegenheit\, gemeinsam mit einem Elternteil den Werkstoff Ton auszuprobieren. Der Kreativität sind hierbei keine Grenzen gesetzt.  \nWorkshop für Kinder ab 3 Jahre mit Begleitung\nAnmeldung erforderlich unter ziegelei-lage@lwl.org oder Tel. 05232 9490-0\nKosten 6 Euro zzgl. 4 Euro Eintritt für die Begleitperson.
URL:https://www.milkids.de/termin/kreative-stunde-im-museum-workshop-fuer-kinder-ab-3-jahremit-begleitung-2/
LOCATION:Ziegeleimuseum Lage\, Sprikernheide\, Lage\, Detmold\, 32791\, Germany
CATEGORIES:Drinnen
GEO:52.0244672;8.7778806
X-APPLE-STRUCTURED-LOCATION;VALUE=URI;X-ADDRESS=Ziegeleimuseum Lage Sprikernheide Lage Detmold 32791 Germany;X-APPLE-RADIUS=500;X-TITLE=Sprikernheide:geo:8.7778806,52.0244672
END:VEVENT
BEGIN:VEVENT
DTSTART;TZID=Europe/Berlin:20250318T150000
DTEND;TZID=Europe/Berlin:20250318T160000
DTSTAMP:20260421T220308
CREATED:20250116T075727Z
LAST-MODIFIED:20250116T075727Z
UID:10001521-1742310000-1742313600@www.milkids.de
SUMMARY:Kreative Stunde im Museum
DESCRIPTION:Eine Stunde lang haben Kinder die Gelegenheit\, gemeinsam mit einem Elternteil den Werkstoff Ton auszuprobieren. Der Kreativität sind hierbei keine Grenzen gesetzt.  \nWorkshop für Kinder ab 3 Jahre mit Begleitung\nAnmeldung erforderlich unter ziegelei-lage@lwl.org oder Tel. 05232 9490-0\nKosten 6 Euro zzgl. 4 Euro Eintritt für die Begleitperson.
URL:https://www.milkids.de/termin/kreative-stunde-im-museum-4/
LOCATION:Ziegeleimuseum Lage\, Sprikernheide\, Lage\, Detmold\, 32791\, Germany
CATEGORIES:Drinnen
GEO:52.0244672;8.7778806
X-APPLE-STRUCTURED-LOCATION;VALUE=URI;X-ADDRESS=Ziegeleimuseum Lage Sprikernheide Lage Detmold 32791 Germany;X-APPLE-RADIUS=500;X-TITLE=Sprikernheide:geo:8.7778806,52.0244672
END:VEVENT
BEGIN:VEVENT
DTSTART;TZID=Europe/Berlin:20250318T150000
DTEND;TZID=Europe/Berlin:20250318T170000
DTSTAMP:20260421T220308
CREATED:20250209T160243Z
LAST-MODIFIED:20250209T160243Z
UID:10001825-1742310000-1742317200@www.milkids.de
SUMMARY:Weberei-Minis – Kinderbetreuung mit Spiel & Spaß
DESCRIPTION:Die Weberei-Minis treffen sich jeden Dienstag in der Zeit von 15:00 bis 17:00 Uhr unter der Aufsicht der Pädagogin Angelika Richter. Dabei handelt es sich um eine kostenfreie Kinderbetreuung für Kinder im Alter zwischen vier und sieben Jahren. \nEs findet bei dem Angebot für die Kinder eine bunte Mischung aus allem statt\, was Spaß macht: Es wird gemalt\, gebastelt und gespielt – die Interessen der Kinder werden dabei miteinbezogen.  \nOhne Anmeldung\nkostenfreies Angebot im Studio der Weberei\, Treffpunkt ist in der Bogenstraße.
URL:https://www.milkids.de/termin/weberei-minis-kinderbetreuung-mit-spiel-spass/2025-03-18/
LOCATION:Die Weberei\, Bogenstraße\, Gütersloh\, Detmold\, 33330\, Germany
CATEGORIES:2 bis 5,6 bis 12,Drinnen
GEO:51.9020126;8.3756466
X-APPLE-STRUCTURED-LOCATION;VALUE=URI;X-ADDRESS=Die Weberei Bogenstraße Gütersloh Detmold 33330 Germany;X-APPLE-RADIUS=500;X-TITLE=Bogenstraße:geo:8.3756466,51.9020126
END:VEVENT
BEGIN:VEVENT
DTSTART;TZID=Europe/Berlin:20250318T150000
DTEND;TZID=Europe/Berlin:20250318T174500
DTSTAMP:20260421T220308
CREATED:20250116T074517Z
LAST-MODIFIED:20250116T074517Z
UID:10001404-1742310000-1742319900@www.milkids.de
SUMMARY:Gamer Space
DESCRIPTION:Für alle\, die gerne unsere Konsolen zum Glühen bringen möchten. Sei es die PlayStation\, die Xbox oder die Nintendo Switch. Aber auch jeder\, der einfach nur mal in die Gaming-Welt reinschnuppern möchte\, ist – alleine oder in Begleitung der Eltern – willkommen. \nFür Kinder und Jugendliche von 8 bis 15 Jahren.\nGamerSpace\, 2. OG\, Eingang über Kavalleriestraße 17.\nDer Eintritt ist frei. Keine Anmeldung
URL:https://www.milkids.de/termin/gamer-space-36/
LOCATION:Stadtbibliothek Bielefeld\, Neumarkt\, Bielefeld\, Detmold\, 33602\, Germany
CATEGORIES:Drinnen
GEO:52.0266981;8.5371282
X-APPLE-STRUCTURED-LOCATION;VALUE=URI;X-ADDRESS=Stadtbibliothek Bielefeld Neumarkt Bielefeld Detmold 33602 Germany;X-APPLE-RADIUS=500;X-TITLE=Neumarkt:geo:8.5371282,52.0266981
END:VEVENT
BEGIN:VEVENT
DTSTART;TZID=Europe/Berlin:20250318T153000
DTEND;TZID=Europe/Berlin:20250318T161500
DTSTAMP:20260421T220308
CREATED:20250116T072319Z
LAST-MODIFIED:20250116T072319Z
UID:10001674-1742311800-1742314500@www.milkids.de
SUMMARY:Gütersloh liest vor
DESCRIPTION:Taucht mit uns in die fantastische Welt der Bücher ein: Wir lassen Figuren lebendig werden und erleben mit unseren Helden viele Abenteuer. Beim ersten Besuch bekommt jede/r einen Lesepass\, der bei jeder Teilnahme abgestempelt wird. Nach sechs Besuchen gibt es was Tolles aus der Schatzkiste. Alle sind spontan willkommen. Dauer: ca. 45 Minuten \nfür Kinder ab 5 Jahren\nKinderbibliothek\nOhne Anmeldung.\nDas Angebot ist kostenfrei.
URL:https://www.milkids.de/termin/guetersloh-liest-vor-15/
LOCATION:Stadtbibliothek Gütersloh\, Blessenstätte 1\, Gütersloh\, Detmold\, 33330\, Deutschland
CATEGORIES:Drinnen
GEO:51.9041407;8.3768231
X-APPLE-STRUCTURED-LOCATION;VALUE=URI;X-ADDRESS=Stadtbibliothek Gütersloh Blessenstätte 1 Gütersloh Detmold 33330 Deutschland;X-APPLE-RADIUS=500;X-TITLE=Blessenstätte 1:geo:8.3768231,51.9041407
END:VEVENT
BEGIN:VEVENT
DTSTART;TZID=Europe/Berlin:20250318T160000
DTEND;TZID=Europe/Berlin:20250318T223000
DTSTAMP:20260421T220308
CREATED:20250325T215305Z
LAST-MODIFIED:20260120T011012Z
UID:10002334-1742313600-1742337000@www.milkids.de
SUMMARY:Waldleuchten
DESCRIPTION:Traditionell startet die Gartenschau Bad Lippspringe mit dem Waldleuchten in die neue Saison. Bereits zum achten Mal verwandeln hunderte von Strahlern und kunstvolle Lichtobjekte den Park in einen bunten Zauberwald. Natürlich darf die 3D-Videoinstallation mit neuen animierten Bildern nicht fehlen.\nDie Beleuchtung beginnt täglich ab Einbruch der Dämmerung und dauert bis 22.30 Uhr. Einlass ist jeweils bis 21.00 Uhr möglich. Das Waldleuchten findet bis 30. März statt.     \nKosten: für Jahreskarten-Inhaber kostenfrei.\n9\,50 Euro für Erwachsene\, 3 Euro für Kinder und Jugendliche von 3 bis einschließlich 17 Jahren.
URL:https://www.milkids.de/termin/waldleuchten-2/2025-03-18/
LOCATION:Gartenschau Bad Lippspringe\, Lindenstraße\, Bad Lippspringe\, Detmold\, 33175\, Germany
CATEGORIES:Draußen,Familie
GEO:51.7857729;8.8140173
X-APPLE-STRUCTURED-LOCATION;VALUE=URI;X-ADDRESS=Gartenschau Bad Lippspringe Lindenstraße Bad Lippspringe Detmold 33175 Germany;X-APPLE-RADIUS=500;X-TITLE=Lindenstraße:geo:8.8140173,51.7857729
END:VEVENT
BEGIN:VEVENT
DTSTART;TZID=Europe/Berlin:20250318T163000
DTEND;TZID=Europe/Berlin:20250318T163000
DTSTAMP:20260421T220308
CREATED:20250211T142800Z
LAST-MODIFIED:20250211T150051Z
UID:10001849-1742315400-1742315400@www.milkids.de
SUMMARY:Lesefrühling - Kinderliteraturtage: Maren Graf
DESCRIPTION:Kinder treffen ihre Lieblingsautorinnen und -autoren\, lernen aktuelle Bücher kennen und erleben die Freude am Lesen:\nMaren Graf: »Ein Leuchtturmsommer voller Geheimnisse«\nAb 7 Jahren\nEintritt 1 Euro
URL:https://www.milkids.de/termin/lesefruehling-kinderliteraturtage-maren-graf/
LOCATION:Stadtbibliothek Bielefeld\, Neumarkt\, Bielefeld\, Detmold\, 33602\, Germany
CATEGORIES:Drinnen,Familie
GEO:52.0266981;8.5371282
X-APPLE-STRUCTURED-LOCATION;VALUE=URI;X-ADDRESS=Stadtbibliothek Bielefeld Neumarkt Bielefeld Detmold 33602 Germany;X-APPLE-RADIUS=500;X-TITLE=Neumarkt:geo:8.5371282,52.0266981
END:VEVENT
END:VCALENDAR