BEGIN:VCALENDAR
VERSION:2.0
PRODID:-//milkids - ECPv6.15.18//NONSGML v1.0//EN
CALSCALE:GREGORIAN
METHOD:PUBLISH
X-ORIGINAL-URL:https://www.milkids.de
X-WR-CALDESC:Veranstaltungen für milkids
REFRESH-INTERVAL;VALUE=DURATION:PT1H
X-Robots-Tag:noindex
X-PUBLISHED-TTL:PT1H
BEGIN:VTIMEZONE
TZID:Europe/Berlin
BEGIN:DAYLIGHT
TZOFFSETFROM:+0100
TZOFFSETTO:+0200
TZNAME:CEST
DTSTART:20240331T010000
END:DAYLIGHT
BEGIN:STANDARD
TZOFFSETFROM:+0200
TZOFFSETTO:+0100
TZNAME:CET
DTSTART:20241027T010000
END:STANDARD
BEGIN:DAYLIGHT
TZOFFSETFROM:+0100
TZOFFSETTO:+0200
TZNAME:CEST
DTSTART:20250330T010000
END:DAYLIGHT
BEGIN:STANDARD
TZOFFSETFROM:+0200
TZOFFSETTO:+0100
TZNAME:CET
DTSTART:20251026T010000
END:STANDARD
BEGIN:DAYLIGHT
TZOFFSETFROM:+0100
TZOFFSETTO:+0200
TZNAME:CEST
DTSTART:20260329T010000
END:DAYLIGHT
BEGIN:STANDARD
TZOFFSETFROM:+0200
TZOFFSETTO:+0100
TZNAME:CET
DTSTART:20261025T010000
END:STANDARD
END:VTIMEZONE
BEGIN:VEVENT
DTSTART;TZID=Europe/Berlin:20250316T100000
DTEND;TZID=Europe/Berlin:20250316T120000
DTSTAMP:20260421T220309
CREATED:20250115T221638Z
LAST-MODIFIED:20250115T221638Z
UID:10001498-1742119200-1742126400@www.milkids.de
SUMMARY:Gewebte Bilder
DESCRIPTION:Weben ist ein altes Handwerk. Auch heute noch steht in Bielefeld neben der Altstädter Nicolaikirche das Leineweberdenkmal aus dem Jahre 1909. Die auf dem Leineweberbrunnen stehende Skulptur erinnert an die Leineweber\, die einst in und um Bielefeld eine große wirtschaftliche Bedeutung besaßen.\nAuch zuhause bei Peter August Böckstiegel in Werther wurde gewebt: Die Mutter in der Wohnstube am Webstuhl sitzend\, das war für Böckstiegel ein vertrautes Bild. Wir werfen einen Blick in das Künstlerhaus und insbesondere in diesen Raum und lassen anschließend mit farbigen Garnen\, bunten Bändern\, Perlen und anderen Materialien kleine\, gewebte Kunstwerke entstehen. \nAnmeldung über buchung@museumpab.de oder unter 05203.2961-220. \nFür Kinder von sechs bis zwölf Jahren.
URL:https://www.milkids.de/termin/gewebte-bilder/
LOCATION:Museum Peter August Böckstiegel\, Schloßstraße\, Werther (Westfalen)\, Detmold\, 33824\, Germany
CATEGORIES:6 bis 12,Drinnen
ORGANIZER;CN="Museum Peter August B%C3%B6ckstiegel":MAILTO:info@museumpab.de
GEO:52.0743604;8.4411303
X-APPLE-STRUCTURED-LOCATION;VALUE=URI;X-ADDRESS=Museum Peter August Böckstiegel Schloßstraße Werther (Westfalen) Detmold 33824 Germany;X-APPLE-RADIUS=500;X-TITLE=Schloßstraße:geo:8.4411303,52.0743604
END:VEVENT
BEGIN:VEVENT
DTSTART;TZID=Europe/Berlin:20250316T110000
DTEND;TZID=Europe/Berlin:20250316T120000
DTSTAMP:20260421T220309
CREATED:20250311T145037Z
LAST-MODIFIED:20250311T145037Z
UID:10002297-1742122800-1742126400@www.milkids.de
SUMMARY:Sonntagsführung für Familien – “Mini-Mathematikum”
DESCRIPTION:Familienführung durch die Mitmach-Sonderausstellung „Mini-Mathematikum“ lädt zu einer kurzweiligen und informativen Reise durch die Welt der Zahlen\, Formen und Muster ein.\nDie Teilnehmerzahl ist auf 15 Personen begrenzt. \nfür Familien mit Kindern ab 6 Jahren\nKosten: 2 Euro pro Person + Eintritt\nAnmeldung erforderlich unter
URL:https://www.milkids.de/termin/sonntagsfuehrung%e2%81%9ffuer%e2%81%9ffamilien%e2%81%9f-%e2%81%9fmini-mathematikum/
LOCATION:Naturkunde-Museum Bielefeld\, Kreuzstraße\, Bielefeld\, Detmold\, 33602\, Germany
CATEGORIES:Drinnen,Familie
GEO:52.0171375;8.5283683
X-APPLE-STRUCTURED-LOCATION;VALUE=URI;X-ADDRESS=Naturkunde-Museum Bielefeld Kreuzstraße Bielefeld Detmold 33602 Germany;X-APPLE-RADIUS=500;X-TITLE=Kreuzstraße:geo:8.5283683,52.0171375
END:VEVENT
BEGIN:VEVENT
DTSTART;TZID=Europe/Berlin:20250316T110000
DTEND;TZID=Europe/Berlin:20250316T170000
DTSTAMP:20260421T220309
CREATED:20250115T180055Z
LAST-MODIFIED:20250115T180055Z
UID:10001769-1742122800-1742144400@www.milkids.de
SUMMARY:Manufakturen Markt mit dem Special Baby & Kind
DESCRIPTION:Design\, Handmade\, Schmuck\, Kunsthandwerk\, Mode\, Dekoration und vieles mehr… Als Special erwartet die BesucherInnen ein Baby & Kind Markt mit Produkten aus den Bereichen Kleidung\, Spielzeug\, Ausstattung und mehr.  \nEintritt: 3 Euro; Kinder bis einschl. 12 Jahren frei.
URL:https://www.milkids.de/termin/manufakturen-markt-mit-dem-special-baby-kind/
LOCATION:Schützenhof Paderborn\, Schützenplatz 1\, Paderborn\, 33102
CATEGORIES:Drinnen
GEO:51.7304915;8.7500069
X-APPLE-STRUCTURED-LOCATION;VALUE=URI;X-ADDRESS=Schützenhof Paderborn Schützenplatz 1 Paderborn 33102;X-APPLE-RADIUS=500;X-TITLE=Schützenplatz 1:geo:8.7500069,51.7304915
END:VEVENT
BEGIN:VEVENT
DTSTART;TZID=Europe/Berlin:20250316T143000
DTEND;TZID=Europe/Berlin:20250316T143000
DTSTAMP:20260421T220309
CREATED:20250112T160819Z
LAST-MODIFIED:20250112T160819Z
UID:10001771-1742135400-1742135400@www.milkids.de
SUMMARY:Michel in der Suppenschüssel
DESCRIPTION:Michel kann machen\, was er will. Er kann es noch so gut meinen\, irgendwie geht alles\, was er anpackt\, schief. Streiche plant Michel eigentlich nie – allerdings denkt er auch nicht lange genug über seine fabelhaften Ideen nach.\nDer Titel Michel in der Suppenschüssel sagt eigentlich schon alles: Als es Zuhause wunderbare Fleischsuppe gibt\, leert die ganze Familie genüsslich ihre Teller. Wieso die letzten Reste verkommen lassen\, fragt sich Michel und möchte die letzte Brühe aus der Suppenschüssel schlürfen. Dabei passiert das Unglück. Michel bleibt mit dem Kopf in der Schüssel stecken\, die auch noch ziemlich teuer war. Da muss Michel wohl wieder Männchen schnitzen gehen\, was? \nDauer 95 Minuten FSK 6
URL:https://www.milkids.de/termin/michel-in-der-suppenschuessel/
LOCATION:Lichtwerk & Kamera Filmkunst\, Ravensberger Park\, Bielefeld\, Detmold\, 33607\, Germany
CATEGORIES:Drinnen
GEO:52.0221966;8.5445781
X-APPLE-STRUCTURED-LOCATION;VALUE=URI;X-ADDRESS=Lichtwerk & Kamera Filmkunst Ravensberger Park Bielefeld Detmold 33607 Germany;X-APPLE-RADIUS=500;X-TITLE=Ravensberger Park:geo:8.5445781,52.0221966
END:VEVENT
BEGIN:VEVENT
DTSTART;TZID=Europe/Berlin:20250316T150000
DTEND;TZID=Europe/Berlin:20250316T150000
DTSTAMP:20260421T220309
CREATED:20250112T215746Z
LAST-MODIFIED:20250112T215746Z
UID:10001608-1742137200-1742137200@www.milkids.de
SUMMARY:Die Löffelpiraten
DESCRIPTION:Die Löffelpiraten sind wie das Meer\, mal wild und stürmisch\, mal besinnlich und ruhig. Und so sind ihre Konzerte.\nDie Band feiert 3 ½ Jahrzehnte Kindermusik an Bord der „Walross“ in der Neuen Schmiede. Gesungene Seeräuber-Geschichten\, das Publikum als Piraten-Chor\, clownesk Gespieltes und Lieder zum Lauschen werden zu einem mitreißenden Programm. Auf den musikalischen Wogen unterwegs sind Norbert\, Klaus und Klaus\, außerdem Harald (Schifferklavier)\, David (Drums) und Marcus (Percussion).\nNeben den beliebten Hits gibt es neue Songs vom kommenden Album. Musik für Kinder\, die auch Erwachsene gerne hören. \nEintritt: VVK / AK 8\,70 €
URL:https://www.milkids.de/termin/die-loeffelpiraten/
LOCATION:Neue Schmiede Bielefeld\, Handwerkerstraße 7\, Bielefeld\, Detmold\, 33617\, Germany
CATEGORIES:Drinnen
GEO:52.0087046;8.5235092
X-APPLE-STRUCTURED-LOCATION;VALUE=URI;X-ADDRESS=Neue Schmiede Bielefeld Handwerkerstraße 7 Bielefeld Detmold 33617 Germany;X-APPLE-RADIUS=500;X-TITLE=Handwerkerstraße 7:geo:8.5235092,52.0087046
END:VEVENT
BEGIN:VEVENT
DTSTART;TZID=Europe/Berlin:20250316T150000
DTEND;TZID=Europe/Berlin:20250316T170000
DTSTAMP:20260421T220309
CREATED:20250301T164914Z
LAST-MODIFIED:20260118T085857Z
UID:10001959-1742137200-1742144400@www.milkids.de
SUMMARY:Es ist nicht alles Gold\, was glänzt
DESCRIPTION:Graf Simon VI.\, der seinerzeit auf Schloss Brake lebte und regierte\, wollte möglichst viel von dem edlen Metall\, Gold\, besitzen. Deshalb engagierte er Alchemisten\, die angeblich wussten\, wie man Gold herstellt. Im Museum sind viele goldene bzw. vergoldete Ausstellungsstücke zu finden. Die Besucher:innen erfahren\, wofür sie gedacht waren und was sie bedeuten. Außerdem können sie im Schlossturm einen Blick in die  Alchemistenkammer“ werfen und so der geheimen Wissenschaft auf die Spur kommen.\nIm Anschluss können die Besucher:innen versuchen\, im „Labor“ mit Forscherkittel und Schutzbrille selbst Gold herzustellen. Das Ergebnis dürfen sie mit nach Hause nehmen.\nErlebnisführung\, Dauer: 2 Stunden  \nAnmeldung unter Tel. 05261 2502190 oder per Mail an kasse@museum-schloss-brake.de
URL:https://www.milkids.de/termin/es-ist-nicht-alles-gold-was-glaenzt/2025-03-16/
LOCATION:Weserrenaissance-Museum Schloss Brake\, Schloßstraße\, Lemgo\, Detmold\, 32657\, Germany
CATEGORIES:Drinnen,Familie
GEO:52.0213361;8.916211
X-APPLE-STRUCTURED-LOCATION;VALUE=URI;X-ADDRESS=Weserrenaissance-Museum Schloss Brake Schloßstraße Lemgo Detmold 32657 Germany;X-APPLE-RADIUS=500;X-TITLE=Schloßstraße:geo:8.916211,52.0213361
END:VEVENT
BEGIN:VEVENT
DTSTART;TZID=Europe/Berlin:20250316T160000
DTEND;TZID=Europe/Berlin:20250316T164000
DTSTAMP:20260421T220309
CREATED:20250106T205210Z
LAST-MODIFIED:20250112T150243Z
UID:10001772-1742140800-1742143200@www.milkids.de
SUMMARY:Das Traumfresserchen
DESCRIPTION:Anna hat zum Geburtstag ein riesengroßes Bilderbuch bekommen. Als ihre Mutter am nächsten Tag aufräumt\, stöbert sie darin herum und schon wird die wunderbare Geschichte um Prinzessin Schlafittchen lebendig.\nDie Arme wird von furchtbaren Alpträumen geplagt. Ihr Vater\, der König\, lässt nichts unversucht\, um ihr zu helfen. Er läuft sogar bis an das Ende der Welt\, als er fast aufgeben will\, trifft er auf das Traumfresserchen.\nDer kleine kauzige Kerl kann helfen\, er muss nur mit dem richtigen Spruch eingeladen werden.\nPoetisches Tischtheater nach dem gleichnamigen Buch von M. Ende \nfür ZuschauerInnen ab 4 Jahren\nDauer ca. 40 Minuten
URL:https://www.milkids.de/termin/das-traumfresserchen/
LOCATION:Bielefelder Puppenspiele
CATEGORIES:Drinnen
GEO:52.0241172;8.5339431
END:VEVENT
BEGIN:VEVENT
DTSTART;TZID=Europe/Berlin:20250316T160000
DTEND;TZID=Europe/Berlin:20250316T223000
DTSTAMP:20260421T220309
CREATED:20250311T144419Z
LAST-MODIFIED:20250311T150257Z
UID:10002295-1742140800-1742164200@www.milkids.de
SUMMARY:Waldleuchten
DESCRIPTION:Traditionell startet die Gartenschau Bad Lippspringe mit dem Waldleuchten in die neue Saison. Bereits zum achten Mal verwandeln hunderte von Strahlern und kunstvolle Lichtobjekte den Park in einen bunten Zauberwald. Natürlich darf die 3D-Videoinstallation mit neuen animierten Bildern nicht fehlen.\nDie Beleuchtung beginnt täglich ab Einbruch der Dämmerung und dauert bis 22.30 Uhr. Einlass ist jeweils bis 21.00 Uhr möglich. Das Waldleuchten findet bis 30. März statt.     \nKosten: für Jahreskarten-Inhaber kostenfrei.\n9\,50 Euro für Erwachsene\, 3 Euro für Kinder und Jugendliche von 3 bis einschließlich 17 Jahren.
URL:https://www.milkids.de/termin/waldleuchten/2025-03-16/
LOCATION:Gartenschau Bad Lippspringe\, Lindenstraße\, Bad Lippspringe\, Detmold\, 33175\, Germany
CATEGORIES:Draußen,Familie
GEO:51.7857729;8.8140173
X-APPLE-STRUCTURED-LOCATION;VALUE=URI;X-ADDRESS=Gartenschau Bad Lippspringe Lindenstraße Bad Lippspringe Detmold 33175 Germany;X-APPLE-RADIUS=500;X-TITLE=Lindenstraße:geo:8.8140173,51.7857729
END:VEVENT
END:VCALENDAR