BEGIN:VCALENDAR
VERSION:2.0
PRODID:-//milkids - ECPv6.15.18//NONSGML v1.0//EN
CALSCALE:GREGORIAN
METHOD:PUBLISH
X-ORIGINAL-URL:https://www.milkids.de
X-WR-CALDESC:Veranstaltungen für milkids
REFRESH-INTERVAL;VALUE=DURATION:PT1H
X-Robots-Tag:noindex
X-PUBLISHED-TTL:PT1H
BEGIN:VTIMEZONE
TZID:Europe/Berlin
BEGIN:DAYLIGHT
TZOFFSETFROM:+0100
TZOFFSETTO:+0200
TZNAME:CEST
DTSTART:20240331T010000
END:DAYLIGHT
BEGIN:STANDARD
TZOFFSETFROM:+0200
TZOFFSETTO:+0100
TZNAME:CET
DTSTART:20241027T010000
END:STANDARD
BEGIN:DAYLIGHT
TZOFFSETFROM:+0100
TZOFFSETTO:+0200
TZNAME:CEST
DTSTART:20250330T010000
END:DAYLIGHT
BEGIN:STANDARD
TZOFFSETFROM:+0200
TZOFFSETTO:+0100
TZNAME:CET
DTSTART:20251026T010000
END:STANDARD
BEGIN:DAYLIGHT
TZOFFSETFROM:+0100
TZOFFSETTO:+0200
TZNAME:CEST
DTSTART:20260329T010000
END:DAYLIGHT
BEGIN:STANDARD
TZOFFSETFROM:+0200
TZOFFSETTO:+0100
TZNAME:CET
DTSTART:20261025T010000
END:STANDARD
END:VTIMEZONE
BEGIN:VEVENT
DTSTART;TZID=Europe/Berlin:20250311T100000
DTEND;TZID=Europe/Berlin:20250311T100000
DTSTAMP:20260422T005843
CREATED:20250211T141730Z
LAST-MODIFIED:20250211T150251Z
UID:10001845-1741687200-1741687200@www.milkids.de
SUMMARY:Lesefrühling - Kinderliteraturtage: Britta Roscher
DESCRIPTION:Kinder treffen ihre Lieblingsautorinnen und -autoren\, lernen aktuelle Bücher kennen und erleben die Freude am Lesen:\nBritta Roscher: »Pusten\, Prusten\, Blubbern\, Klappern«\nab 4 Jahren\nEintritt 1 Euro
URL:https://www.milkids.de/termin/lesefruehling-kinderliteraturtage-britta-roscher/
LOCATION:Stadtbibliothek Gütersloh\, Blessenstätte 1\, Gütersloh\, Detmold\, 33330\, Deutschland
CATEGORIES:Drinnen,Familie
GEO:51.9041407;8.3768231
X-APPLE-STRUCTURED-LOCATION;VALUE=URI;X-ADDRESS=Stadtbibliothek Gütersloh Blessenstätte 1 Gütersloh Detmold 33330 Deutschland;X-APPLE-RADIUS=500;X-TITLE=Blessenstätte 1:geo:8.3768231,51.9041407
END:VEVENT
BEGIN:VEVENT
DTSTART;TZID=Europe/Berlin:20250311T150000
DTEND;TZID=Europe/Berlin:20250311T170000
DTSTAMP:20260422T005843
CREATED:20250209T160243Z
LAST-MODIFIED:20250209T160243Z
UID:10001824-1741705200-1741712400@www.milkids.de
SUMMARY:Weberei-Minis – Kinderbetreuung mit Spiel & Spaß
DESCRIPTION:Die Weberei-Minis treffen sich jeden Dienstag in der Zeit von 15:00 bis 17:00 Uhr unter der Aufsicht der Pädagogin Angelika Richter. Dabei handelt es sich um eine kostenfreie Kinderbetreuung für Kinder im Alter zwischen vier und sieben Jahren. \nEs findet bei dem Angebot für die Kinder eine bunte Mischung aus allem statt\, was Spaß macht: Es wird gemalt\, gebastelt und gespielt – die Interessen der Kinder werden dabei miteinbezogen.  \nOhne Anmeldung\nkostenfreies Angebot im Studio der Weberei\, Treffpunkt ist in der Bogenstraße.
URL:https://www.milkids.de/termin/weberei-minis-kinderbetreuung-mit-spiel-spass/2025-03-11/
LOCATION:Die Weberei\, Bogenstraße\, Gütersloh\, Detmold\, 33330\, Germany
CATEGORIES:2 bis 5,6 bis 12,Drinnen
GEO:51.9020126;8.3756466
X-APPLE-STRUCTURED-LOCATION;VALUE=URI;X-ADDRESS=Die Weberei Bogenstraße Gütersloh Detmold 33330 Germany;X-APPLE-RADIUS=500;X-TITLE=Bogenstraße:geo:8.3756466,51.9020126
END:VEVENT
BEGIN:VEVENT
DTSTART;TZID=Europe/Berlin:20250311T150000
DTEND;TZID=Europe/Berlin:20250311T174500
DTSTAMP:20260422T005843
CREATED:20250116T074509Z
LAST-MODIFIED:20250116T074509Z
UID:10001402-1741705200-1741715100@www.milkids.de
SUMMARY:Gamer Space
DESCRIPTION:Für alle\, die gerne unsere Konsolen zum Glühen bringen möchten. Sei es die PlayStation\, die Xbox oder die Nintendo Switch. Aber auch jeder\, der einfach nur mal in die Gaming-Welt reinschnuppern möchte\, ist – alleine oder in Begleitung der Eltern – willkommen. \nFür Kinder und Jugendliche von 8 bis 15 Jahren.\nGamerSpace\, 2. OG\, Eingang über Kavalleriestraße 17.\nDer Eintritt ist frei. Keine Anmeldung
URL:https://www.milkids.de/termin/gamer-space-34/
LOCATION:Stadtbibliothek Bielefeld\, Neumarkt\, Bielefeld\, Detmold\, 33602\, Germany
CATEGORIES:Drinnen
GEO:52.0266981;8.5371282
X-APPLE-STRUCTURED-LOCATION;VALUE=URI;X-ADDRESS=Stadtbibliothek Bielefeld Neumarkt Bielefeld Detmold 33602 Germany;X-APPLE-RADIUS=500;X-TITLE=Neumarkt:geo:8.5371282,52.0266981
END:VEVENT
BEGIN:VEVENT
DTSTART;TZID=Europe/Berlin:20250311T163000
DTEND;TZID=Europe/Berlin:20250311T163000
DTSTAMP:20260422T005843
CREATED:20250211T141919Z
LAST-MODIFIED:20250211T150209Z
UID:10001846-1741710600-1741710600@www.milkids.de
SUMMARY:Lesefrühling - Kinderliteraturtage: Britta Roscher
DESCRIPTION:Kinder treffen ihre Lieblingsautorinnen und -autoren\, lernen aktuelle Bücher kennen und erleben die Freude am Lesen:\nBritta Roscher: »Pusten\, Prusten\, Blubbern\, Klappern«\nab 4 Jahren\nEintritt 1 Euro
URL:https://www.milkids.de/termin/lesefruehling-kinderliteraturtage-britta-roscher-2/
LOCATION:Stadtbibliothek Bielefeld\, Neumarkt\, Bielefeld\, Detmold\, 33602\, Germany
CATEGORIES:Drinnen,Familie
GEO:52.0266981;8.5371282
X-APPLE-STRUCTURED-LOCATION;VALUE=URI;X-ADDRESS=Stadtbibliothek Bielefeld Neumarkt Bielefeld Detmold 33602 Germany;X-APPLE-RADIUS=500;X-TITLE=Neumarkt:geo:8.5371282,52.0266981
END:VEVENT
END:VCALENDAR