BEGIN:VCALENDAR
VERSION:2.0
PRODID:-//milkids - ECPv6.15.18//NONSGML v1.0//EN
CALSCALE:GREGORIAN
METHOD:PUBLISH
X-ORIGINAL-URL:https://www.milkids.de
X-WR-CALDESC:Veranstaltungen für milkids
REFRESH-INTERVAL;VALUE=DURATION:PT1H
X-Robots-Tag:noindex
X-PUBLISHED-TTL:PT1H
BEGIN:VTIMEZONE
TZID:Europe/Berlin
BEGIN:DAYLIGHT
TZOFFSETFROM:+0100
TZOFFSETTO:+0200
TZNAME:CEST
DTSTART:20240331T010000
END:DAYLIGHT
BEGIN:STANDARD
TZOFFSETFROM:+0200
TZOFFSETTO:+0100
TZNAME:CET
DTSTART:20241027T010000
END:STANDARD
BEGIN:DAYLIGHT
TZOFFSETFROM:+0100
TZOFFSETTO:+0200
TZNAME:CEST
DTSTART:20250330T010000
END:DAYLIGHT
BEGIN:STANDARD
TZOFFSETFROM:+0200
TZOFFSETTO:+0100
TZNAME:CET
DTSTART:20251026T010000
END:STANDARD
BEGIN:DAYLIGHT
TZOFFSETFROM:+0100
TZOFFSETTO:+0200
TZNAME:CEST
DTSTART:20260329T010000
END:DAYLIGHT
BEGIN:STANDARD
TZOFFSETFROM:+0200
TZOFFSETTO:+0100
TZNAME:CET
DTSTART:20261025T010000
END:STANDARD
END:VTIMEZONE
BEGIN:VEVENT
DTSTART;TZID=Europe/Berlin:20250310T080000
DTEND;TZID=Europe/Berlin:20250310T170000
DTSTAMP:20260421T220423
CREATED:20250310T000456Z
LAST-MODIFIED:20250310T000456Z
UID:10002274-1741593600-1741626000@www.milkids.de
SUMMARY:Frühlings- und Osterwerkstatt
DESCRIPTION:Ja ist denn schon wieder Frühling? In der Museumssammlung gibt es viele bunt Schokoladenverpackungen mit zarten Frühlings- und Ostermotiven. Die dienen uns heute als Vorlagen für unsere eigenen Bilder mit zarten Aquarellfarben auf echtem Aquarellpapier. Wir zeigen Euch\, wie es geht.  \nUnd wer Lust hat\, kann aus buntem Filz ganz einfach Filzhasen oder Frühlingsvögel nähen. Wir zeigen Euch einen ganz einfachen Schlingstich dafür. Probiert es einfach mal aus!  \nFür Kinder ab 6 Jahre.\nVoranmeldung und Infos unter info-stadtmuseum@herford.de oder telefonisch 05221 / 189-689
URL:https://www.milkids.de/termin/fruehlings-und-osterwerkstatt/
LOCATION:Städtisches Museum Herford\, Deichtorwall 2\, Herford\, Detmold\, 32052\, Germany
CATEGORIES:Drinnen
GEO:52.1152251;8.6633269
X-APPLE-STRUCTURED-LOCATION;VALUE=URI;X-ADDRESS=Städtisches Museum Herford Deichtorwall 2 Herford Detmold 32052 Germany;X-APPLE-RADIUS=500;X-TITLE=Deichtorwall 2:geo:8.6633269,52.1152251
END:VEVENT
END:VCALENDAR