BEGIN:VCALENDAR
VERSION:2.0
PRODID:-//milkids - ECPv6.15.18//NONSGML v1.0//EN
CALSCALE:GREGORIAN
METHOD:PUBLISH
X-WR-CALNAME:milkids
X-ORIGINAL-URL:https://www.milkids.de
X-WR-CALDESC:Veranstaltungen für milkids
REFRESH-INTERVAL;VALUE=DURATION:PT1H
X-Robots-Tag:noindex
X-PUBLISHED-TTL:PT1H
BEGIN:VTIMEZONE
TZID:Europe/Berlin
BEGIN:DAYLIGHT
TZOFFSETFROM:+0100
TZOFFSETTO:+0200
TZNAME:CEST
DTSTART:20240331T010000
END:DAYLIGHT
BEGIN:STANDARD
TZOFFSETFROM:+0200
TZOFFSETTO:+0100
TZNAME:CET
DTSTART:20241027T010000
END:STANDARD
BEGIN:DAYLIGHT
TZOFFSETFROM:+0100
TZOFFSETTO:+0200
TZNAME:CEST
DTSTART:20250330T010000
END:DAYLIGHT
BEGIN:STANDARD
TZOFFSETFROM:+0200
TZOFFSETTO:+0100
TZNAME:CET
DTSTART:20251026T010000
END:STANDARD
BEGIN:DAYLIGHT
TZOFFSETFROM:+0100
TZOFFSETTO:+0200
TZNAME:CEST
DTSTART:20260329T010000
END:DAYLIGHT
BEGIN:STANDARD
TZOFFSETFROM:+0200
TZOFFSETTO:+0100
TZNAME:CET
DTSTART:20261025T010000
END:STANDARD
END:VTIMEZONE
BEGIN:VEVENT
DTSTART;TZID=Europe/Berlin:20250309T100000
DTEND;TZID=Europe/Berlin:20250309T120000
DTSTAMP:20260421T202419
CREATED:20250115T230645Z
LAST-MODIFIED:20250115T230645Z
UID:10001731-1741514400-1741521600@www.milkids.de
SUMMARY:Das große Torfmoor\, alles was man wissen sollte
DESCRIPTION:Erwachsene und Familien erfahren bei dieser Moorführung jede Menge Grundlagenwissen zum Thema „Großes Torfmoor“: Wie ist es entstanden – und warum gerade hier?\nWas sind die Besonderheiten der Tier- und Pflanzenwelt? Wozu wurde und wird Torf genutzt? Landwirtschaft und Moore\, ein Gegensatz? Was sagen Moore über unsere Vergangenheit aus? Und vor allem: Welche Bedeutung haben Moore für die Artenvielfalt und für unser Klima? Das erklärt Erich Sommer\, zertifizierter Natur- und Landschaftsführer.  \nfür Familien\nAnmeldung vorab unter kontakt@moorhus.eu oder 05741 2409505.
URL:https://www.milkids.de/termin/das-grosse-torfmoor-alles-was-man-wissen-sollte-2/
LOCATION:Das Große Torfmoor\, Moorbadstraße\, Lübbecke\, Detmold\, 32312\, Germany
CATEGORIES:Draußen
GEO:52.3326337;8.6970868
X-APPLE-STRUCTURED-LOCATION;VALUE=URI;X-ADDRESS=Das Große Torfmoor Moorbadstraße Lübbecke Detmold 32312 Germany;X-APPLE-RADIUS=500;X-TITLE=Moorbadstraße:geo:8.6970868,52.3326337
END:VEVENT
BEGIN:VEVENT
DTSTART;TZID=Europe/Berlin:20250309T111500
DTEND;TZID=Europe/Berlin:20250309T111500
DTSTAMP:20260421T202419
CREATED:20250116T080658Z
LAST-MODIFIED:20250116T080658Z
UID:10001616-1741518900-1741518900@www.milkids.de
SUMMARY:Klassik ab 3
DESCRIPTION:Diese Veranstaltung verbindet eine Instrumentenvorstellung mit einem kleinen Konzert für Kinder von drei bis fünf Jahren\, die mit ihren Eltern mehr über Orchestermusik erfahren möchten. Pro Termin wird ein Instrument näher unter die Lupe genommen. Eine kindgerechte Musikauswahl\, gepaart mit Spiel und Interaktion vermittelt Wissenswertes und macht Lust auf mehr Musik! \nfür Zuhörer ab 3 Jahren\nKosten: 8\,00 Euro\nBitte beachten: Karten gibt es nur im Vorverkauf über die Theater- und Konzertkasse sowie über das Kartentelefon (0521 51-5454).\nDer Vorverkauf startet immer am 1. des jeweiligen Vormonats.
URL:https://www.milkids.de/termin/klassik-ab-3-3/
LOCATION:Rudolf-Oetker-Halle\, Lampingstraße\, Bielefeld\, Detmold\, 33615\, Germany
GEO:52.0283081;8.5131887
X-APPLE-STRUCTURED-LOCATION;VALUE=URI;X-ADDRESS=Rudolf-Oetker-Halle Lampingstraße Bielefeld Detmold 33615 Germany;X-APPLE-RADIUS=500;X-TITLE=Lampingstraße:geo:8.5131887,52.0283081
END:VEVENT
BEGIN:VEVENT
DTSTART;TZID=Europe/Berlin:20250309T130000
DTEND;TZID=Europe/Berlin:20250309T160000
DTSTAMP:20260421T202419
CREATED:20250114T214037Z
LAST-MODIFIED:20250114T214037Z
UID:10001663-1741525200-1741536000@www.milkids.de
SUMMARY:Kinder-Flohmarkt
DESCRIPTION:Verkaufsforum für Kinderkleidung\, Spielzeug\, Bücher. . . einfach alles rund um die Familie!\nMit betreuter Spielecke für Kinder ab 4 Jahren
URL:https://www.milkids.de/termin/kinder-flohmarkt/
LOCATION:Freizeitzentrum Stieghorst\, Glatzer Straße 13 — 21\, Bielefeld\, 33605
CATEGORIES:Drinnen,Märkte
GEO:52.0000725;8.5968685
X-APPLE-STRUCTURED-LOCATION;VALUE=URI;X-ADDRESS=Freizeitzentrum Stieghorst Glatzer Straße 13 — 21 Bielefeld 33605;X-APPLE-RADIUS=500;X-TITLE=Glatzer Straße 13 — 21:geo:8.5968685,52.0000725
END:VEVENT
BEGIN:VEVENT
DTSTART;TZID=Europe/Berlin:20250309T140000
DTEND;TZID=Europe/Berlin:20250309T150000
DTSTAMP:20260421T202419
CREATED:20250115T221544Z
LAST-MODIFIED:20250115T221544Z
UID:10001495-1741528800-1741532400@www.milkids.de
SUMMARY:Mitmachführung für Groß und Klein
DESCRIPTION:Im Künstlerhaus und im Museum gibt es viele spannende Sachen zu entdecken: bunte Möbel\, kleine Tiere\, steinerne Köpfe und natürlich auch viele Gemälde\, die wir gemeinsam entdecken können. Diese Führung lädt Kinder ab 3 Jahren in Begleitung von den (Groß)Eltern\, der Patentante oder einer erwachsenen Person dazu ein\, die Ausstellung aus einer kindlichen Perspektive zu erleben und in einer kleinen Mitmachaktion selbst kreativ zu werden. \nAnmeldung über buchung@museumpab.de oder unter 05203.2961-220.
URL:https://www.milkids.de/termin/mitmachfuehrung-fuer-gross-und-klein-4/
LOCATION:Museum Peter August Böckstiegel\, Schloßstraße\, Werther (Westfalen)\, Detmold\, 33824\, Germany
CATEGORIES:2 bis 5,Drinnen,Familie
ORGANIZER;CN="Museum Peter August B%C3%B6ckstiegel":MAILTO:info@museumpab.de
GEO:52.0743604;8.4411303
X-APPLE-STRUCTURED-LOCATION;VALUE=URI;X-ADDRESS=Museum Peter August Böckstiegel Schloßstraße Werther (Westfalen) Detmold 33824 Germany;X-APPLE-RADIUS=500;X-TITLE=Schloßstraße:geo:8.4411303,52.0743604
END:VEVENT
BEGIN:VEVENT
DTSTART;TZID=Europe/Berlin:20250309T140000
DTEND;TZID=Europe/Berlin:20250309T170000
DTSTAMP:20260421T202419
CREATED:20250112T234917Z
LAST-MODIFIED:20250112T234917Z
UID:10001625-1741528800-1741539600@www.milkids.de
SUMMARY:Mitmachaktion „Backen“
DESCRIPTION:Süße Kleinigkeiten selbstgemacht. Einfach vorbei kommen und jederzeit mit in den Workshop einsteigen \nnur für Kinder ab 6 Jahren\nohne Anmeldung\nKosten: Kinder 8 Euro\, Begleitperson Eintritt \nKosten: Kinder 18\,00 Euro\, Begleitperson Eintritt\nnur mit Anmeldung unter Tel. 0521 5218550 oder info@bielefelder-bauernhausmuseum.de
URL:https://www.milkids.de/termin/mitmachaktion-backen/
LOCATION:Bauernhausmuseum Bielefeld\, Dornberger Straße\, Bielefeld\, Detmold\, 33619\, Germany
CATEGORIES:Drinnen
GEO:52.023784;8.5077865
X-APPLE-STRUCTURED-LOCATION;VALUE=URI;X-ADDRESS=Bauernhausmuseum Bielefeld Dornberger Straße Bielefeld Detmold 33619 Germany;X-APPLE-RADIUS=500;X-TITLE=Dornberger Straße:geo:8.5077865,52.023784
END:VEVENT
BEGIN:VEVENT
DTSTART;TZID=Europe/Berlin:20250309T140000
DTEND;TZID=Europe/Berlin:20250309T170000
DTSTAMP:20260421T202419
CREATED:20250116T075332Z
LAST-MODIFIED:20260112T232003Z
UID:10001344-1741528800-1741539600@www.milkids.de
SUMMARY:Eishallenspaß mit dem Kinderclown Ati Atze
DESCRIPTION:Eishallenspaß mit dem Kinderclown Ati Atze\, er begeistert mit seinen beliebten Ballonfiguren und lustigen Zaubertricks und sorgt für ordentlich Stimmung
URL:https://www.milkids.de/termin/eishallenspass-mit-dem-kinderclown-ati-atze-6/2025-03-09/
LOCATION:Eishalle Herford\, Westring 108\, Herford\, Detmold\, 32051\, Germany
CATEGORIES:Drinnen,Familie
GEO:52.1150322;8.6507861
X-APPLE-STRUCTURED-LOCATION;VALUE=URI;X-ADDRESS=Eishalle Herford Westring 108 Herford Detmold 32051 Germany;X-APPLE-RADIUS=500;X-TITLE=Westring 108:geo:8.6507861,52.1150322
END:VEVENT
BEGIN:VEVENT
DTSTART;TZID=Europe/Berlin:20250309T143000
DTEND;TZID=Europe/Berlin:20250309T143000
DTSTAMP:20260421T202419
CREATED:20250112T160516Z
LAST-MODIFIED:20250112T160516Z
UID:10001765-1741530600-1741530600@www.milkids.de
SUMMARY:Harold und die Zauberkreide
DESCRIPTION:In seinem Buch kann der abenteuerlustige Harold (ZACHARY LEVI) alles zum Leben erwecken\, einfach indem er es mit seiner Zauberkreide malt. Als Erwachsener wendet er sich jedoch immer mehr von seinem Buch ab und dem echten Leben in der realen Welt zu. Dabei findet Harold heraus\, dass er noch eine ganze Menge zu lernen hat über das wahre Leben. Und dass seine geliebte Zauberkreide mehr Chaos stiften kann\, als er es für möglich gehalten hätte. Als die Kraft der grenzenlosen Fantasie in die falschen Hände gerät\, müssen Harold und seine Freunde all ihre Kreativität und ihren ganzen Einfallsreichtum einsetzen\, um sowohl die echte Welt als auch seine eigene zu retten. \nDauer 90 Minuten FSK 6
URL:https://www.milkids.de/termin/harold-und-die-zauberkreide/
LOCATION:Lichtwerk & Kamera Filmkunst\, Ravensberger Park\, Bielefeld\, Detmold\, 33607\, Germany
CATEGORIES:Drinnen
GEO:52.0221966;8.5445781
X-APPLE-STRUCTURED-LOCATION;VALUE=URI;X-ADDRESS=Lichtwerk & Kamera Filmkunst Ravensberger Park Bielefeld Detmold 33607 Germany;X-APPLE-RADIUS=500;X-TITLE=Ravensberger Park:geo:8.5445781,52.0221966
END:VEVENT
BEGIN:VEVENT
DTSTART;TZID=Europe/Berlin:20250309T150000
DTEND;TZID=Europe/Berlin:20250309T150000
DTSTAMP:20260421T202419
CREATED:20250112T215547Z
LAST-MODIFIED:20250112T215547Z
UID:10001607-1741532400-1741532400@www.milkids.de
SUMMARY:Happy Birthday Joaquino Payaso
DESCRIPTION:Der Geburtstag ist einer der schönsten Tage des Jahres für Kinder. So auch für den Clown Joaquino Payaso. Und er bekommt einen ganzen Haufen Geschenke. Beim Auspacken der Geschenke haben die Zuschauer genau so viel Spaß wie er selber.\nDas Theaterstück von und mit Achim Sonntag enthält artistische Kunststückchen\, musikalische Elemente\, viel Clownerie und selbstverständlich\, wie in all seinen Stücken\, Mitmachaktionen für die Kinder. \nEintritt: VVK / AK 8\,70 €
URL:https://www.milkids.de/termin/happy-birthday-joaquino-payaso/
LOCATION:Neue Schmiede Bielefeld\, Handwerkerstraße 7\, Bielefeld\, Detmold\, 33617\, Germany
CATEGORIES:Drinnen
GEO:52.0087046;8.5235092
X-APPLE-STRUCTURED-LOCATION;VALUE=URI;X-ADDRESS=Neue Schmiede Bielefeld Handwerkerstraße 7 Bielefeld Detmold 33617 Germany;X-APPLE-RADIUS=500;X-TITLE=Handwerkerstraße 7:geo:8.5235092,52.0087046
END:VEVENT
BEGIN:VEVENT
DTSTART;TZID=Europe/Berlin:20250309T150000
DTEND;TZID=Europe/Berlin:20250309T170000
DTSTAMP:20260421T202419
CREATED:20250114T222940Z
LAST-MODIFIED:20250114T222940Z
UID:10001665-1741532400-1741539600@www.milkids.de
SUMMARY:Der kleine Drache Kokosnuss - das Musical
DESCRIPTION:Wie passt ein ganzes Land in eine kleine Flasche? Wieso ist Zauberer Holunder auf einmal gar nicht mehr nett zu seinen Untertanen? Und was können der kleine Drache Kokosnuss und seine Freunde tun\, damit im Flaschenland alles wieder gut wird?\nWichtige Fragen\, die dringend geklärt werden müssen.\nAlso bricht der kleine Feuerdrache zu einem ganz besonderen Abenteuer auf. Mit dabei sind natürlich auch das schlaue Stachelschwein Matilda und der Fressdrache Oskar (keine Angst\, er ist Vegetarier).\nAlle Drachenfans haben jetzt die Möglichkeit\, ihre Helden hautnah und live zu erleben\, denn Ingo Siegners großer Bucherfolg kommt als aufwändiges Kindermusical auf die große Bühne. Drachen\, Zwerge und Zauberer spielen\, singen und tanzen vor einem wandelbaren Bühnenbild durch die spannende Geschichte. Eine märchenhafte Welt wartet darauf\, neu entdeckt zu werden. \nfür ZuschauerInnen ab 4 Jahren
URL:https://www.milkids.de/termin/der-kleine-drache-kokosnuss-das-musical/
LOCATION:Stadthalle Gütersloh\, Friedrichstraße 10\, Gütersloh\, Detmold\, 33330\, Germany
CATEGORIES:Drinnen
GEO:51.9064526;8.3716983
X-APPLE-STRUCTURED-LOCATION;VALUE=URI;X-ADDRESS=Stadthalle Gütersloh Friedrichstraße 10 Gütersloh Detmold 33330 Germany;X-APPLE-RADIUS=500;X-TITLE=Friedrichstraße 10:geo:8.3716983,51.9064526
END:VEVENT
BEGIN:VEVENT
DTSTART;TZID=Europe/Berlin:20250309T160000
DTEND;TZID=Europe/Berlin:20250309T164500
DTSTAMP:20260421T202419
CREATED:20250115T205203Z
LAST-MODIFIED:20250115T205453Z
UID:10001714-1741536000-1741538700@www.milkids.de
SUMMARY:Das Neinhorn
DESCRIPTION:Glücksklee\, Kuschelwölkchen\, Feenstaub und Regenbogenrutsche: Eigentlich könnte es dem Nachwuchs der Einhornfamilie supidupimegagut gehen. So wie es allen Tieren im Herzwald supidupimegagut geht.\nDoch statt den Erwartungen seiner Eltern zu entsprechen\, widersetzt sich das Einhorn-Baby jedem Familienglück und sagt zu allem und jedem »NEIN!« – auch zu den zuckersüßesten Erziehungsversuchen seiner Eltern. Auf der Suche nach Ruhe und ein bisschen Platz für miese Laune verlässt das kleine NEINhorn die Zuckerwattewelt und trifft auf Tiere\, mit denen es so richtig bockig\, unzufrieden und schlecht gelaunt sein kann.\nKurz: auf richtig gute Freund*innen! \nfür ZuschauerInnen ab 4 Jahren
URL:https://www.milkids.de/termin/das-neinhorn/
LOCATION:Junges Theater Detmold\, Bahnhofstraße\, Detmold\, Detmold\, 32756\, Germany
CATEGORIES:Drinnen
GEO:51.9393543;8.8752375
X-APPLE-STRUCTURED-LOCATION;VALUE=URI;X-ADDRESS=Junges Theater Detmold Bahnhofstraße Detmold Detmold 32756 Germany;X-APPLE-RADIUS=500;X-TITLE=Bahnhofstraße:geo:8.8752375,51.9393543
END:VEVENT
BEGIN:VEVENT
DTSTART;TZID=Europe/Berlin:20250309T160000
DTEND;TZID=Europe/Berlin:20250309T165000
DTSTAMP:20260421T202419
CREATED:20250106T204821Z
LAST-MODIFIED:20250112T150509Z
UID:10001766-1741536000-1741539000@www.milkids.de
SUMMARY:Kasper heilt Prinzessin Viola
DESCRIPTION:Im Schloss ist die Prinzessin krank\, aber alle Bemühungen sie wieder gesund zu machen\, schlagen fehl.\nDahinter steckt vielleicht der blaue Zauberer\, der sie gerne heiraten möchte. Doch die Prinzessin will nicht und zur Strafe zaubert er ihre Stimme fort. Große Trauer legt sich über das Land. Das Geheimnis um die Stimme und wie man den Zauberer besiegen kann\, kennt nur die geschwätzige blaue Hexe.\nKasper stöbert sie des nachts auf\, doch nur mit den echten mitternachtsblauen Samtpantoffeln\, die auch Wahrheitsschuhe genannt werden\, gelingt es ihm das Geheimnis zu entlocken.\nUnheimliches Kasperabenteuer in einer blauen Zauberwelt \nfür ZuschauerInnen ab 4 Jahren\nDauer ca. 50 Minuten
URL:https://www.milkids.de/termin/kasper-heilt-prinzessin-viola/
LOCATION:Bielefelder Puppenspiele
GEO:52.0241172;8.5339431
END:VEVENT
END:VCALENDAR