BEGIN:VCALENDAR
VERSION:2.0
PRODID:-//milkids - ECPv6.15.18//NONSGML v1.0//EN
CALSCALE:GREGORIAN
METHOD:PUBLISH
X-ORIGINAL-URL:https://www.milkids.de
X-WR-CALDESC:Veranstaltungen für milkids
REFRESH-INTERVAL;VALUE=DURATION:PT1H
X-Robots-Tag:noindex
X-PUBLISHED-TTL:PT1H
BEGIN:VTIMEZONE
TZID:Europe/Berlin
BEGIN:DAYLIGHT
TZOFFSETFROM:+0100
TZOFFSETTO:+0200
TZNAME:CEST
DTSTART:20240331T010000
END:DAYLIGHT
BEGIN:STANDARD
TZOFFSETFROM:+0200
TZOFFSETTO:+0100
TZNAME:CET
DTSTART:20241027T010000
END:STANDARD
BEGIN:DAYLIGHT
TZOFFSETFROM:+0100
TZOFFSETTO:+0200
TZNAME:CEST
DTSTART:20250330T010000
END:DAYLIGHT
BEGIN:STANDARD
TZOFFSETFROM:+0200
TZOFFSETTO:+0100
TZNAME:CET
DTSTART:20251026T010000
END:STANDARD
BEGIN:DAYLIGHT
TZOFFSETFROM:+0100
TZOFFSETTO:+0200
TZNAME:CEST
DTSTART:20260329T010000
END:DAYLIGHT
BEGIN:STANDARD
TZOFFSETFROM:+0200
TZOFFSETTO:+0100
TZNAME:CET
DTSTART:20261025T010000
END:STANDARD
END:VTIMEZONE
BEGIN:VEVENT
DTSTART;TZID=Europe/Berlin:20250308T080000
DTEND;TZID=Europe/Berlin:20250308T100000
DTSTAMP:20260421T203121
CREATED:20250115T230349Z
LAST-MODIFIED:20250115T230349Z
UID:10001730-1741420800-1741428000@www.milkids.de
SUMMARY:Vogelstimmen für Anfänger
DESCRIPTION:Die ersten Vogelgesänge ertönen am Morgen in der Kälte. Noch sind wenige Vögel dabei\, im morgendlichen Chor ihre Reviere gegenüber den Artgenossen abzugrenzen.\nDiese Zeit im Frühjahr\, wenn die Zahl der Sänger überschaubar ist\, nutzen wir um die ersten Vogelgesänge zu lernen\, die wir später auch im Garten oder Park vielleicht wiedererkennen können.\nFalls vorhanden: Bitte Fernglas mitbringen. Mit Heiner Härtel\, zertifizierter Natur- und Landschaftsführer. \nfür Familien mit Kindern ab 12 Jahren\nAnmeldung vorab unter kontakt@moorhus.eu oder Tel. 05741 2409505.
URL:https://www.milkids.de/termin/vogelstimmen-fuer-anfaenger/
LOCATION:Moorhus Besucherzentrum\, Frotheimer Straße 57a\, Lübbecke\, Detmold\, 32312\, Germany
CATEGORIES:Draußen
GEO:52.3280563;8.6694707
X-APPLE-STRUCTURED-LOCATION;VALUE=URI;X-ADDRESS=Moorhus Besucherzentrum Frotheimer Straße 57a Lübbecke Detmold 32312 Germany;X-APPLE-RADIUS=500;X-TITLE=Frotheimer Straße 57a:geo:8.6694707,52.3280563
END:VEVENT
BEGIN:VEVENT
DTSTART;TZID=Europe/Berlin:20250308T100000
DTEND;TZID=Europe/Berlin:20250308T123000
DTSTAMP:20260421T203121
CREATED:20250210T182425Z
LAST-MODIFIED:20250210T182425Z
UID:10001841-1741428000-1741437000@www.milkids.de
SUMMARY:Vorsortierter Flohmarkt
DESCRIPTION:Flohmarkt alles rund ums Kind der ev. Stifts-Kita: Frühjahrs-/Sommerkleidung Gr. 44-164\, Spielzeug\, Babyzubehör und vieles mehr\nEinlass für Schwangere mit Mutterpass & einer Begleitung ab 9:30 Uhr
URL:https://www.milkids.de/termin/vorsortierter-flohmarkt-6/
LOCATION:Gemeindehaus Schildesche\, Johannisstr. 13\, Bielefeld\, 33611
CATEGORIES:Drinnen,Märkte
GEO:52.0560524;8.5505929
X-APPLE-STRUCTURED-LOCATION;VALUE=URI;X-ADDRESS=Gemeindehaus Schildesche Johannisstr. 13 Bielefeld 33611;X-APPLE-RADIUS=500;X-TITLE=Johannisstr. 13:geo:8.5505929,52.0560524
END:VEVENT
BEGIN:VEVENT
DTSTART;TZID=Europe/Berlin:20250308T100000
DTEND;TZID=Europe/Berlin:20250308T130000
DTSTAMP:20260421T203121
CREATED:20250211T224856Z
LAST-MODIFIED:20250211T224856Z
UID:10001874-1741428000-1741438800@www.milkids.de
SUMMARY:Vorsortierter Kinderflohmarkt
DESCRIPTION:
URL:https://www.milkids.de/termin/vorsortierter-kinderflohmarkt/
LOCATION:Kita Werksgarten\, Brüggemannstr. 9\, Bielefeld\, 33611
CATEGORIES:Drinnen,Familie
GEO:52.0373955;8.5403218
X-APPLE-STRUCTURED-LOCATION;VALUE=URI;X-ADDRESS=Kita Werksgarten Brüggemannstr. 9 Bielefeld 33611;X-APPLE-RADIUS=500;X-TITLE=Brüggemannstr. 9:geo:8.5403218,52.0373955
END:VEVENT
BEGIN:VEVENT
DTSTART;TZID=Europe/Berlin:20250308T100000
DTEND;TZID=Europe/Berlin:20250308T180000
DTSTAMP:20260421T203121
CREATED:20250305T221243Z
LAST-MODIFIED:20250305T221243Z
UID:10001970-1741428000-1741456800@www.milkids.de
SUMMARY:Modellflieger steigen auf
DESCRIPTION:Auf Europas größtem Segelflugplatz in Oerlinghausen geht es Samstag wieder hoch in die Lüfte! Zum 16. Mal können die Besucher in der Zeit von 10 – 18 Uhr beim Frühjahrsfliegen so manche Flugkünste miterleben. Gezeigt wird das gesamte Spektrum der Modellfliegerei: Motorflugzeug\, Düsenflugzeug\, Helikopter\, Styroporflieger und natürlich auch Segelflugzeuge. In einem Segelflugsimulator können die Gäste auch mal „Pilotenluft“ schnuppern.
URL:https://www.milkids.de/termin/modellflieger-steigen-auf/
LOCATION:Segelflugplatz Oerlinghausen\, Stukenbrocker Weg 43\, Oerlinghausen\, 33813
CATEGORIES:Draußen,Familie
GEO:51.9328128;8.6597604
X-APPLE-STRUCTURED-LOCATION;VALUE=URI;X-ADDRESS=Segelflugplatz Oerlinghausen Stukenbrocker Weg 43 Oerlinghausen 33813;X-APPLE-RADIUS=500;X-TITLE=Stukenbrocker Weg 43:geo:8.6597604,51.9328128
END:VEVENT
BEGIN:VEVENT
DTSTART;TZID=Europe/Berlin:20250308T103000
DTEND;TZID=Europe/Berlin:20250308T120000
DTSTAMP:20260421T203121
CREATED:20250116T080501Z
LAST-MODIFIED:20250116T080501Z
UID:10001647-1741429800-1741435200@www.milkids.de
SUMMARY:Stallgeflüster – psst… die kleinen Lämmer sind da!
DESCRIPTION:Kommt und erlebt die kleinen Lämmer in unserem Schafstall am Hof!\nSchäfer Thomas erklärt kindgerecht\, was in der Lammzeit passiert: Wie lange bleiben die Lämmer bei ihren Müttern? Was müssen sie alles lernen?\nGemeinsam erkunden wir\, wie die Lämmer aufwachsen und was sie zum Leben brauchen. Außerdem erklärt Thomas genau\, was seine Aufgaben als Schäfer sind und was er für seine Arbeit alles braucht.\nEine spannende Entdeckungsreise für alle neugierigen Kinder von 3 – 8 Jahren mit ihren (Groß-)Eltern. \nKosten: Kinder 5€\, Erwachsene 3€\nAnmeldung über info@hof-ramsbrock.de
URL:https://www.milkids.de/termin/stallgefluester-psst-die-kleinen-laemmer-sind-da-2/
LOCATION:Hof Ramsbrock Bielefeld\, Ramsweg 2\, Bielefeld\, 33647
CATEGORIES:Draußen
GEO:51.9511359;8.4782542
X-APPLE-STRUCTURED-LOCATION;VALUE=URI;X-ADDRESS=Hof Ramsbrock Bielefeld Ramsweg 2 Bielefeld 33647;X-APPLE-RADIUS=500;X-TITLE=Ramsweg 2:geo:8.4782542,51.9511359
END:VEVENT
BEGIN:VEVENT
DTSTART;TZID=Europe/Berlin:20250308T103000
DTEND;TZID=Europe/Berlin:20250308T130000
DTSTAMP:20260421T203121
CREATED:20250301T153403Z
LAST-MODIFIED:20250301T153403Z
UID:10001956-1741429800-1741438800@www.milkids.de
SUMMARY:Tag der offenen Tür der Musik- und Kunstschule
DESCRIPTION:Musik\, Kunst\, Tanz und Theater zum Ausprobieren\nDie Besucher:innen können sämtliche Instrumente\, Kunst- sowie Tanz- und Theaterangebote auszuprobieren und sich beraten zu lassen. Die Fachlehrer:innen stehen Rede und Antwort.
URL:https://www.milkids.de/termin/tag-der-offenen-tuer-der-musik-und-kunstschule/
LOCATION:Musik und Kunstschule Bielefeld\, Burgwiese 9\, Bielefeld\, Detmold\, 33602\, Deutschland
CATEGORIES:Drinnen,Familie
GEO:52.0146619;8.5248163
X-APPLE-STRUCTURED-LOCATION;VALUE=URI;X-ADDRESS=Musik und Kunstschule Bielefeld Burgwiese 9 Bielefeld Detmold 33602 Deutschland;X-APPLE-RADIUS=500;X-TITLE=Burgwiese 9:geo:8.5248163,52.0146619
END:VEVENT
BEGIN:VEVENT
DTSTART;TZID=Europe/Berlin:20250308T110000
DTEND;TZID=Europe/Berlin:20250308T130000
DTSTAMP:20260421T203121
CREATED:20250116T072130Z
LAST-MODIFIED:20250116T072130Z
UID:10001425-1741431600-1741438800@www.milkids.de
SUMMARY:Kunsthalle für Kinder
DESCRIPTION:Möchtest du die Kunsthalle mit ihren Ausstellungen kennen lernen? Bilder anschauen\, darüber reden und selbst kreativ sein?\nWenn du zwischen 5 und 12 Jahre bist\, dann bist du an jedem Samstag (außer in den Schulferien) von 11 bis 13 Uhr in der Malstube der Kunsthalle willkommen! \nAngebot für Kinder ohne Begleitung durch Erwachsene\nPreis: 5 €
URL:https://www.milkids.de/termin/kunsthalle-fuer-kinder-19/
LOCATION:Kunsthalle Bielefeld\, Artur-Ladebeck-Straße 5\, Bielefeld\, 33602
CATEGORIES:Drinnen
GEO:52.0157209;8.5226397
X-APPLE-STRUCTURED-LOCATION;VALUE=URI;X-ADDRESS=Kunsthalle Bielefeld Artur-Ladebeck-Straße 5 Bielefeld 33602;X-APPLE-RADIUS=500;X-TITLE=Artur-Ladebeck-Straße 5:geo:8.5226397,52.0157209
END:VEVENT
BEGIN:VEVENT
DTSTART;TZID=Europe/Berlin:20250308T110000
DTEND;TZID=Europe/Berlin:20250308T170000
DTSTAMP:20260421T203121
CREATED:20250114T230649Z
LAST-MODIFIED:20250114T230649Z
UID:10001680-1741431600-1741453200@www.milkids.de
SUMMARY:Schneeglöckchenfest auf Gut Bustedt
DESCRIPTION:Beim Schneeglöckchenfest auf Gut Bustedt präsentieren Spezialgärtnereien aus dem In- und Ausland ihr Sortiment und Raritäten. Es gibt auch wieder ein Schneeglöckchen-Café.\nVeranstalter ist die Gesellschaft zur Förderung der Gartenkultur e.V. Zweig Ostwestfalen. Der Erlös fließt in Gartenprojekte für Kinder und Jugendliche. \nEintritt: 4 € (Kinder und Jugendliche frei)
URL:https://www.milkids.de/termin/schneegloeckchenfest-auf-gut-bustedt/
LOCATION:Gut Bustedt Hiddenhausen\, Gutsweg 35\, Hiddenhausen\, 32120
CATEGORIES:Draußen
GEO:52.168321;8.6065548
X-APPLE-STRUCTURED-LOCATION;VALUE=URI;X-ADDRESS=Gut Bustedt Hiddenhausen Gutsweg 35 Hiddenhausen 32120;X-APPLE-RADIUS=500;X-TITLE=Gutsweg 35:geo:8.6065548,52.168321
END:VEVENT
BEGIN:VEVENT
DTSTART;TZID=Europe/Berlin:20250308T113000
DTEND;TZID=Europe/Berlin:20250308T120000
DTSTAMP:20260421T203121
CREATED:20250116T072436Z
LAST-MODIFIED:20250116T072436Z
UID:10001438-1741433400-1741435200@www.milkids.de
SUMMARY:Geschichtenzeit
DESCRIPTION:Jeden Samstag um 11.30 Uhr ist es soweit! Lauschen und Lachen in gemütlicher Runde in der Stadtbibliothek am Neumarkt. \nFür Kinder von 3 bis 6 Jahren\nKinderzimmer Erdgeschoss\nOhne Anmeldung\nDer Eintritt ist frei!
URL:https://www.milkids.de/termin/geschichtenzeit-28/
LOCATION:Stadtbibliothek Bielefeld\, Neumarkt\, Bielefeld\, Detmold\, 33602\, Germany
CATEGORIES:Drinnen
GEO:52.0266981;8.5371282
X-APPLE-STRUCTURED-LOCATION;VALUE=URI;X-ADDRESS=Stadtbibliothek Bielefeld Neumarkt Bielefeld Detmold 33602 Germany;X-APPLE-RADIUS=500;X-TITLE=Neumarkt:geo:8.5371282,52.0266981
END:VEVENT
BEGIN:VEVENT
DTSTART;TZID=Europe/Berlin:20250308T113000
DTEND;TZID=Europe/Berlin:20250308T130000
DTSTAMP:20260421T203121
CREATED:20250116T074953Z
LAST-MODIFIED:20250116T074953Z
UID:10001577-1741433400-1741438800@www.milkids.de
SUMMARY:Kleines Bergwerk für Kinder
DESCRIPTION:Im Kleinen Bergwerk dürfen die Kinder gemeinsam mit einem Museumsmitarbeiter und ausgestattet mit Helm mit Geleucht einen speziellen Bereich des Bergwerks betreten\, in dem sie nicht nur die Bewetterung spüren\, sondern auch einen echten Bohrhammer ausprobieren und eine Sprengung simulieren. Um 13:00 Uhr fährt die Gruppe gemeinsam aus.\nAnmeldeschluss ist Donnerstag\, der 21.11.2024. \nEmpfohlen ab 6 Jahren\nOrt: Kleines Bergwerk\nPreis: 9 € / Person\, Mindestteilnehmerzahl 5 Personen.\nWir empfehlen warme Kleidung und festes Schuhwerk.
URL:https://www.milkids.de/termin/kleines-bergwerk-fuer-kinder-6/
LOCATION:Bergwerk Kleinenbremen\, Rintelner Str. 396\, Porta Westfalica\, Detmold\, 32457\, Deutschland
CATEGORIES:Drinnen
GEO:52.2297222;9.0408333
X-APPLE-STRUCTURED-LOCATION;VALUE=URI;X-ADDRESS=Bergwerk Kleinenbremen Rintelner Str. 396 Porta Westfalica Detmold 32457 Deutschland;X-APPLE-RADIUS=500;X-TITLE=Rintelner Str. 396:geo:9.0408333,52.2297222
END:VEVENT
BEGIN:VEVENT
DTSTART;TZID=Europe/Berlin:20250308T130000
DTEND;TZID=Europe/Berlin:20250308T160000
DTSTAMP:20260421T203121
CREATED:20250218T182632Z
LAST-MODIFIED:20250218T182632Z
UID:10001885-1741438800-1741449600@www.milkids.de
SUMMARY:Vorsortierter Frühjahr/Sommer Flohmarkt
DESCRIPTION:alles rund ums Kind\nSchwangere mit Begleitperson und gültigem Mutterpass ab 11:30 Uhr
URL:https://www.milkids.de/termin/vorsortierter-fruehjahr-sommer-flohmarkt/
LOCATION:Städt. Kita Stedefreund\, Ledeburststr. 15\, Herford\, 32051
CATEGORIES:Drinnen,Märkte
GEO:52.1017418;8.5897784
X-APPLE-STRUCTURED-LOCATION;VALUE=URI;X-ADDRESS=Städt. Kita Stedefreund Ledeburststr. 15 Herford 32051;X-APPLE-RADIUS=500;X-TITLE=Ledeburststr. 15:geo:8.5897784,52.1017418
END:VEVENT
BEGIN:VEVENT
DTSTART;TZID=Europe/Berlin:20250308T133000
DTEND;TZID=Europe/Berlin:20250308T160000
DTSTAMP:20260421T203121
CREATED:20250211T223520Z
LAST-MODIFIED:20250211T223520Z
UID:10001872-1741440600-1741449600@www.milkids.de
SUMMARY:Second Hand vorsortiert
DESCRIPTION:Rund ums Kind\, Frühjahr/Sommer\nEinlass für Schwangere ab 13:00 Uhr
URL:https://www.milkids.de/termin/second-hand-vorsortiert/
LOCATION:Familienzentrum Emmaus\, Amshausener Str. 20\, Steinhagen\, 33803
CATEGORIES:Drinnen,Märkte
GEO:52.0238507;8.4110789
X-APPLE-STRUCTURED-LOCATION;VALUE=URI;X-ADDRESS=Familienzentrum Emmaus Amshausener Str. 20 Steinhagen 33803;X-APPLE-RADIUS=500;X-TITLE=Amshausener Str. 20:geo:8.4110789,52.0238507
END:VEVENT
BEGIN:VEVENT
DTSTART;TZID=Europe/Berlin:20250308T140000
DTEND;TZID=Europe/Berlin:20250308T170000
DTSTAMP:20260421T203121
CREATED:20250112T141852Z
LAST-MODIFIED:20250112T141901Z
UID:10001530-1741442400-1741453200@www.milkids.de
SUMMARY:Stiftehalter aus Ton
DESCRIPTION:Kinder ab 7 Jahre bauen aus Ton einen Halter für Stifte\, Radiergummi und vieles mehr.  \nAnmeldung erforderlich unter ziegelei-lage@lwl.org oder Tel. 05232 9490-0\nKosten: 10 Euro
URL:https://www.milkids.de/termin/stiftehalter-aus-ton/
LOCATION:LWL-Museum Ziegelei Lage\, Sprikernheide 77\, Lage\, Detmold\, 32791\, Germany
CATEGORIES:Drinnen
GEO:52.0244672;8.7778806
X-APPLE-STRUCTURED-LOCATION;VALUE=URI;X-ADDRESS=LWL-Museum Ziegelei Lage Sprikernheide 77 Lage Detmold 32791 Germany;X-APPLE-RADIUS=500;X-TITLE=Sprikernheide 77:geo:8.7778806,52.0244672
END:VEVENT
BEGIN:VEVENT
DTSTART;TZID=Europe/Berlin:20250308T140000
DTEND;TZID=Europe/Berlin:20250308T170000
DTSTAMP:20260421T203121
CREATED:20250225T222021Z
LAST-MODIFIED:20250225T222021Z
UID:10001944-1741442400-1741453200@www.milkids.de
SUMMARY:Kinderflohmarkt Schröttinghausen
DESCRIPTION:
URL:https://www.milkids.de/termin/kinderflohmarkt-schroettinghausen/
LOCATION:Arche-Noah-Kirche Schröttinghausen\, Horstkotterheide 55\, Bielefeld\, 33739
CATEGORIES:Drinnen,Märkte
GEO:52.0753496;8.4707742
X-APPLE-STRUCTURED-LOCATION;VALUE=URI;X-ADDRESS=Arche-Noah-Kirche Schröttinghausen Horstkotterheide 55 Bielefeld 33739;X-APPLE-RADIUS=500;X-TITLE=Horstkotterheide 55:geo:8.4707742,52.0753496
END:VEVENT
BEGIN:VEVENT
DTSTART;TZID=Europe/Berlin:20250308T150000
DTEND;TZID=Europe/Berlin:20250308T150000
DTSTAMP:20260421T203121
CREATED:20250101T170557Z
LAST-MODIFIED:20250604T114326Z
UID:10001764-1741446000-1741446000@www.milkids.de
SUMMARY:Workshop: Coole Handyhüllen
DESCRIPTION:Dieser Workshop bietet die ungewöhnliche Möglichkeit\, ein „echtes“ Stückchen Bielefelder Geschichte für sich zu gewinnen. Als Material für stylische Handyhüllen\, Stiftetuis und dergleichen bieten wir euch gut erhaltene Reste des ehemaligen – im Museum als Bodenbelag verlegten – Bielefeld-Luftbildes an. Mit Scheren\, Lochzangen und Schnüren geht es gemeinsam ans Werk. \nFür Kinder ab 10 Jahren\, Jugendliche und interessierte Erwachsene.\nMit Anmeldung unter 0521/ 51-3635
URL:https://www.milkids.de/termin/workshop-coole-handyhuellen/2025-03-08/
LOCATION:Historisches Museum Bielefeld\, Ravensberger Park\, Bielefeld\, Detmold\, 33607\, Germany
CATEGORIES:Drinnen
GEO:52.0223731;8.546227
X-APPLE-STRUCTURED-LOCATION;VALUE=URI;X-ADDRESS=Historisches Museum Bielefeld Ravensberger Park Bielefeld Detmold 33607 Germany;X-APPLE-RADIUS=500;X-TITLE=Ravensberger Park:geo:8.546227,52.0223731
END:VEVENT
BEGIN:VEVENT
DTSTART;TZID=Europe/Berlin:20250308T160000
DTEND;TZID=Europe/Berlin:20250308T160000
DTSTAMP:20260421T203121
CREATED:20250116T080605Z
LAST-MODIFIED:20250116T080605Z
UID:10001549-1741449600-1741449600@www.milkids.de
SUMMARY:Harold und die Zauberkreide
DESCRIPTION:In seinem Buch kann der abenteuerlustige Harold (ZACHARY LEVI) alles zum Leben erwecken\, einfach indem er es mit seiner Zauberkreide malt. Als Erwachsener wendet er sich jedoch immer mehr von seinem Buch ab und dem echten Leben in der realen Welt zu. Dabei findet Harold heraus\, dass er noch eine ganze Menge zu lernen hat über das wahre Leben. Und dass seine geliebte Zauberkreide mehr Chaos stiften kann\, als er es für möglich gehalten hätte. Als die Kraft der grenzenlosen Fantasie in die falschen Hände gerät\, müssen Harold und seine Freunde all ihre Kreativität und ihren ganzen Einfallsreichtum einsetzen\, um sowohl die echte Welt als auch seine eigene zu retten. \nDauer 90 Minuten FSK 6
URL:https://www.milkids.de/termin/harold-und-die-zauberkreide-2/
LOCATION:Lichtwerk & Kamera Filmkunst\, Ravensberger Park\, Bielefeld\, Detmold\, 33607\, Germany
CATEGORIES:Drinnen
GEO:52.0221966;8.5445781
X-APPLE-STRUCTURED-LOCATION;VALUE=URI;X-ADDRESS=Lichtwerk & Kamera Filmkunst Ravensberger Park Bielefeld Detmold 33607 Germany;X-APPLE-RADIUS=500;X-TITLE=Ravensberger Park:geo:8.5445781,52.0221966
END:VEVENT
BEGIN:VEVENT
DTSTART;TZID=Europe/Berlin:20250308T160000
DTEND;TZID=Europe/Berlin:20250308T165000
DTSTAMP:20260421T203121
CREATED:20250116T080634Z
LAST-MODIFIED:20250116T080634Z
UID:10001465-1741449600-1741452600@www.milkids.de
SUMMARY:Kasper heilt Prinzessin Viola
DESCRIPTION:Im Schloss ist die Prinzessin krank\, aber alle Bemühungen sie wieder gesund zu machen\, schlagen fehl.\nDahinter steckt vielleicht der blaue Zauberer\, der sie gerne heiraten möchte. Doch die Prinzessin will nicht und zur Strafe zaubert er ihre Stimme fort. Große Trauer legt sich über das Land. Das Geheimnis um die Stimme und wie man den Zauberer besiegen kann\, kennt nur die geschwätzige blaue Hexe.\nKasper stöbert sie des nachts auf\, doch nur mit den echten mitternachtsblauen Samtpantoffeln\, die auch Wahrheitsschuhe genannt werden\, gelingt es ihm das Geheimnis zu entlocken.\nUnheimliches Kasperabenteuer in einer blauen Zauberwelt \nfür ZuschauerInnen ab 4 Jahren\nDauer ca. 50 Minuten
URL:https://www.milkids.de/termin/kasper-heilt-prinzessin-viola-2/
LOCATION:Bielefelder Puppenspiele
GEO:52.0241172;8.5339431
END:VEVENT
END:VCALENDAR