BEGIN:VCALENDAR
VERSION:2.0
PRODID:-//milkids - ECPv6.15.18//NONSGML v1.0//EN
CALSCALE:GREGORIAN
METHOD:PUBLISH
X-ORIGINAL-URL:https://www.milkids.de
X-WR-CALDESC:Veranstaltungen für milkids
REFRESH-INTERVAL;VALUE=DURATION:PT1H
X-Robots-Tag:noindex
X-PUBLISHED-TTL:PT1H
BEGIN:VTIMEZONE
TZID:Europe/Berlin
BEGIN:DAYLIGHT
TZOFFSETFROM:+0100
TZOFFSETTO:+0200
TZNAME:CEST
DTSTART:20240331T010000
END:DAYLIGHT
BEGIN:STANDARD
TZOFFSETFROM:+0200
TZOFFSETTO:+0100
TZNAME:CET
DTSTART:20241027T010000
END:STANDARD
BEGIN:DAYLIGHT
TZOFFSETFROM:+0100
TZOFFSETTO:+0200
TZNAME:CEST
DTSTART:20250330T010000
END:DAYLIGHT
BEGIN:STANDARD
TZOFFSETFROM:+0200
TZOFFSETTO:+0100
TZNAME:CET
DTSTART:20251026T010000
END:STANDARD
BEGIN:DAYLIGHT
TZOFFSETFROM:+0100
TZOFFSETTO:+0200
TZNAME:CEST
DTSTART:20260329T010000
END:DAYLIGHT
BEGIN:STANDARD
TZOFFSETFROM:+0200
TZOFFSETTO:+0100
TZNAME:CET
DTSTART:20261025T010000
END:STANDARD
END:VTIMEZONE
BEGIN:VEVENT
DTSTART;TZID=Europe/Berlin:20250307T160000
DTEND;TZID=Europe/Berlin:20250307T160000
DTSTAMP:20260421T203123
CREATED:20250115T171640Z
LAST-MODIFIED:20250115T171640Z
UID:10001703-1741363200-1741363200@www.milkids.de
SUMMARY:Peppa Wutz live - Peppa auf Abenteuer
DESCRIPTION:
URL:https://www.milkids.de/termin/peppa-wutz-live-peppa-auf-abenteuer-2/
LOCATION:Paderhalle Paderborn\, Heiersmauer\, Paderborn\, Detmold\, 33098\, Germany
CATEGORIES:Drinnen
GEO:51.7225715;8.7547106
X-APPLE-STRUCTURED-LOCATION;VALUE=URI;X-ADDRESS=Paderhalle Paderborn Heiersmauer Paderborn Detmold 33098 Germany;X-APPLE-RADIUS=500;X-TITLE=Heiersmauer:geo:8.7547106,51.7225715
END:VEVENT
BEGIN:VEVENT
DTSTART;TZID=Europe/Berlin:20250307T190000
DTEND;TZID=Europe/Berlin:20250307T190000
DTSTAMP:20260421T203123
CREATED:20250116T073027Z
LAST-MODIFIED:20250116T073027Z
UID:10001632-1741374000-1741374000@www.milkids.de
SUMMARY:Nachts im Museum – Taschenlampenführung
DESCRIPTION:Wer war schon einmal nachts im Museum? Mit Eltern und Großeltern macht ihr eine Zeitreise in die Vergangenheit. Nur der Lichtstrahl eurer Taschenlampe durchbricht die Dunkelheit. Was verbirgt sich dort? Nach einem zauberhaften Rundgang wartet eine Schatzsuche auf euch…\nBitte Taschenlampen mitbringen!  \nFür Familien mit Kindern von 5-12 Jahren\nEintritt: 8 € für Kinder\, 6 € für Erwachsene\nAnmeldung unter 0521.51-3635
URL:https://www.milkids.de/termin/nachts-im-museum-taschenlampenfuehrung-6/
LOCATION:Historisches Museum Bielefeld\, Ravensberger Park\, Bielefeld\, Detmold\, 33607\, Germany
CATEGORIES:Drinnen
GEO:52.0223731;8.546227
X-APPLE-STRUCTURED-LOCATION;VALUE=URI;X-ADDRESS=Historisches Museum Bielefeld Ravensberger Park Bielefeld Detmold 33607 Germany;X-APPLE-RADIUS=500;X-TITLE=Ravensberger Park:geo:8.546227,52.0223731
END:VEVENT
BEGIN:VEVENT
DTSTART;TZID=Europe/Berlin:20250307T190000
DTEND;TZID=Europe/Berlin:20250307T220000
DTSTAMP:20260421T203123
CREATED:20250116T074847Z
LAST-MODIFIED:20250116T074847Z
UID:10001569-1741374000-1741384800@www.milkids.de
SUMMARY:Eisdisco
DESCRIPTION:powered by Zephyrus Discoteam
URL:https://www.milkids.de/termin/eisdisco-9/
LOCATION:Oetker Eisbahn\, Duisburger Straße\, Bielefeld\, Detmold\, 33647\, Deutschland
CATEGORIES:Draußen
GEO:51.9797919;8.4965191
X-APPLE-STRUCTURED-LOCATION;VALUE=URI;X-ADDRESS=Oetker Eisbahn Duisburger Straße Bielefeld Detmold 33647 Deutschland;X-APPLE-RADIUS=500;X-TITLE=Duisburger Straße:geo:8.4965191,51.9797919
END:VEVENT
END:VCALENDAR