BEGIN:VCALENDAR
VERSION:2.0
PRODID:-//milkids - ECPv6.15.18//NONSGML v1.0//EN
CALSCALE:GREGORIAN
METHOD:PUBLISH
X-ORIGINAL-URL:https://www.milkids.de
X-WR-CALDESC:Veranstaltungen für milkids
REFRESH-INTERVAL;VALUE=DURATION:PT1H
X-Robots-Tag:noindex
X-PUBLISHED-TTL:PT1H
BEGIN:VTIMEZONE
TZID:Europe/Berlin
BEGIN:DAYLIGHT
TZOFFSETFROM:+0100
TZOFFSETTO:+0200
TZNAME:CEST
DTSTART:20240331T010000
END:DAYLIGHT
BEGIN:STANDARD
TZOFFSETFROM:+0200
TZOFFSETTO:+0100
TZNAME:CET
DTSTART:20241027T010000
END:STANDARD
BEGIN:DAYLIGHT
TZOFFSETFROM:+0100
TZOFFSETTO:+0200
TZNAME:CEST
DTSTART:20250330T010000
END:DAYLIGHT
BEGIN:STANDARD
TZOFFSETFROM:+0200
TZOFFSETTO:+0100
TZNAME:CET
DTSTART:20251026T010000
END:STANDARD
BEGIN:DAYLIGHT
TZOFFSETFROM:+0100
TZOFFSETTO:+0200
TZNAME:CEST
DTSTART:20260329T010000
END:DAYLIGHT
BEGIN:STANDARD
TZOFFSETFROM:+0200
TZOFFSETTO:+0100
TZNAME:CET
DTSTART:20261025T010000
END:STANDARD
END:VTIMEZONE
BEGIN:VEVENT
DTSTART;TZID=Europe/Berlin:20250226T103000
DTEND;TZID=Europe/Berlin:20250226T113000
DTSTAMP:20260422T182245
CREATED:20250116T080240Z
LAST-MODIFIED:20250116T080240Z
UID:10001524-1740565800-1740569400@www.milkids.de
SUMMARY:Fühlen und Wohlfühlen
DESCRIPTION:Die Kinder erleben spielerisch die Unterschiede zwischen verschiedenen Materialien wie Wasser\, Stroh\, Steinen und Lehm.\nDie Eltern stellen anschließend einen kleinen Feierabendziegel her\, in den die Kinder ihren Fuß oder ihre Hand drücken dürfen. \nWorkkshop für Kinder von 1-3 Jahre mit Begleitung\nAnmeldung erforderlich unter ziegelei-lage@lwl.org oder Tel. 05232 9490-0\nKosten: 6 Euro zzgl. Eintritt für die Begleitperson
URL:https://www.milkids.de/termin/fuehlen-und-wohlfuehlen-4/
LOCATION:Ziegeleimuseum Lage\, Sprikernheide\, Lage\, Detmold\, 32791\, Germany
CATEGORIES:Drinnen
GEO:52.0244672;8.7778806
X-APPLE-STRUCTURED-LOCATION;VALUE=URI;X-ADDRESS=Ziegeleimuseum Lage Sprikernheide Lage Detmold 32791 Germany;X-APPLE-RADIUS=500;X-TITLE=Sprikernheide:geo:8.7778806,52.0244672
END:VEVENT
BEGIN:VEVENT
DTSTART;TZID=Europe/Berlin:20250226T150000
DTEND;TZID=Europe/Berlin:20250226T170000
DTSTAMP:20260422T182245
CREATED:20250112T140625Z
LAST-MODIFIED:20250112T140625Z
UID:10001526-1740582000-1740589200@www.milkids.de
SUMMARY:Oma\, Opa\, Enkel: Stadt aus Ton
DESCRIPTION:Kinder ab 6 Jahre mit Großeltern/-teil erkunden gemeinsam das Maschinenhaus und bauen im Anschluss eine Stadt aus Ton.  \nAnmeldung erforderlich unter ziegelei-lage@lwl.org oder Tel. 05232 9490-0\nKosten: 8 Euro zzgl. 4 Euro Eintritt pro Begleitperson.
URL:https://www.milkids.de/termin/oma-opa-enkel-stadt-aus-ton/
LOCATION:LWL-Museum Ziegelei Lage\, Sprikernheide 77\, Lage\, Detmold\, 32791\, Germany
CATEGORIES:Drinnen
GEO:52.0244672;8.7778806
X-APPLE-STRUCTURED-LOCATION;VALUE=URI;X-ADDRESS=LWL-Museum Ziegelei Lage Sprikernheide 77 Lage Detmold 32791 Germany;X-APPLE-RADIUS=500;X-TITLE=Sprikernheide 77:geo:8.7778806,52.0244672
END:VEVENT
BEGIN:VEVENT
DTSTART;TZID=Europe/Berlin:20250226T180000
DTEND;TZID=Europe/Berlin:20250226T193000
DTSTAMP:20260422T182245
CREATED:20250219T154012Z
LAST-MODIFIED:20250219T154012Z
UID:10001927-1740592800-1740598200@www.milkids.de
SUMMARY:Elternabend: Mein Baby im neuen Zuhause
DESCRIPTION:Der Elternabend „Mein Baby im neuen Zuhause“ behandelt Themen wie: Kinderklinik\, Kinderarzt\, Vorsorgeuntersuchungen\, Hilfen für die erste Zeit zu Hause\nDie Referenten kommen aus dem Bereich Geburtshilfe\, Hebammen\, Stillberaterinnen\, Kinderklinik \nDie Veranstaltungsreihe „Elternabend im Klinikum“ widmet sich fünf verschiedenen Themenbereichen.Im Anschluss an die jeweiligen Vorträge und Fragerunden kann der Kreißsaal besichtigt werden.\nEine Anmeldung zur Veranstaltung ist nicht notwendig. \nVeranstaltungsort: Konferenzbereich im Medicum Detmold\, Röntgenstraße 16\, Detmold
URL:https://www.milkids.de/termin/elternabend-mein-baby-im-neuen-zuhause/2025-02-26/
LOCATION:Medicum Detmold\, Röntgenstraße 16\, Detmold\, 32756
CATEGORIES:Drinnen,Erwachsene
GEO:51.9416518;8.8783439
X-APPLE-STRUCTURED-LOCATION;VALUE=URI;X-ADDRESS=Medicum Detmold Röntgenstraße 16 Detmold 32756;X-APPLE-RADIUS=500;X-TITLE=Röntgenstraße 16:geo:8.8783439,51.9416518
END:VEVENT
END:VCALENDAR