BEGIN:VCALENDAR
VERSION:2.0
PRODID:-//milkids - ECPv6.15.18//NONSGML v1.0//EN
CALSCALE:GREGORIAN
METHOD:PUBLISH
X-ORIGINAL-URL:https://www.milkids.de
X-WR-CALDESC:Veranstaltungen für milkids
REFRESH-INTERVAL;VALUE=DURATION:PT1H
X-Robots-Tag:noindex
X-PUBLISHED-TTL:PT1H
BEGIN:VTIMEZONE
TZID:Europe/Berlin
BEGIN:DAYLIGHT
TZOFFSETFROM:+0100
TZOFFSETTO:+0200
TZNAME:CEST
DTSTART:20240331T010000
END:DAYLIGHT
BEGIN:STANDARD
TZOFFSETFROM:+0200
TZOFFSETTO:+0100
TZNAME:CET
DTSTART:20241027T010000
END:STANDARD
BEGIN:DAYLIGHT
TZOFFSETFROM:+0100
TZOFFSETTO:+0200
TZNAME:CEST
DTSTART:20250330T010000
END:DAYLIGHT
BEGIN:STANDARD
TZOFFSETFROM:+0200
TZOFFSETTO:+0100
TZNAME:CET
DTSTART:20251026T010000
END:STANDARD
BEGIN:DAYLIGHT
TZOFFSETFROM:+0100
TZOFFSETTO:+0200
TZNAME:CEST
DTSTART:20260329T010000
END:DAYLIGHT
BEGIN:STANDARD
TZOFFSETFROM:+0200
TZOFFSETTO:+0100
TZNAME:CET
DTSTART:20261025T010000
END:STANDARD
END:VTIMEZONE
BEGIN:VEVENT
DTSTART;TZID=Europe/Berlin:20250225T150000
DTEND;TZID=Europe/Berlin:20250225T170000
DTSTAMP:20260422T165700
CREATED:20250116T080204Z
LAST-MODIFIED:20250116T080204Z
UID:10001688-1740495600-1740502800@www.milkids.de
SUMMARY:Spieleparkour im Marta
DESCRIPTION:Kita- und Kleinkinder mit ihren Begleitpersonen sind eingeladen im Marta HOch 2\, verschiedene Stationen zum Entdecken\, Bewegen und Gestalten zu nutzen.  \njede*r ist willkommen\nohne Anmeldung\nEintritt frei
URL:https://www.milkids.de/termin/spieleparkour-im-marta-3/
LOCATION:Marta Herford
CATEGORIES:Drinnen
GEO:52.1209264;8.6683005
END:VEVENT
BEGIN:VEVENT
DTSTART;TZID=Europe/Berlin:20250225T150000
DTEND;TZID=Europe/Berlin:20250225T170000
DTSTAMP:20260422T165700
CREATED:20250209T160243Z
LAST-MODIFIED:20250209T160243Z
UID:10001822-1740495600-1740502800@www.milkids.de
SUMMARY:Weberei-Minis – Kinderbetreuung mit Spiel & Spaß
DESCRIPTION:Die Weberei-Minis treffen sich jeden Dienstag in der Zeit von 15:00 bis 17:00 Uhr unter der Aufsicht der Pädagogin Angelika Richter. Dabei handelt es sich um eine kostenfreie Kinderbetreuung für Kinder im Alter zwischen vier und sieben Jahren. \nEs findet bei dem Angebot für die Kinder eine bunte Mischung aus allem statt\, was Spaß macht: Es wird gemalt\, gebastelt und gespielt – die Interessen der Kinder werden dabei miteinbezogen.  \nOhne Anmeldung\nkostenfreies Angebot im Studio der Weberei\, Treffpunkt ist in der Bogenstraße.
URL:https://www.milkids.de/termin/weberei-minis-kinderbetreuung-mit-spiel-spass/2025-02-25/
LOCATION:Die Weberei\, Bogenstraße\, Gütersloh\, Detmold\, 33330\, Germany
CATEGORIES:2 bis 5,6 bis 12,Drinnen
GEO:51.9020126;8.3756466
X-APPLE-STRUCTURED-LOCATION;VALUE=URI;X-ADDRESS=Die Weberei Bogenstraße Gütersloh Detmold 33330 Germany;X-APPLE-RADIUS=500;X-TITLE=Bogenstraße:geo:8.3756466,51.9020126
END:VEVENT
BEGIN:VEVENT
DTSTART;TZID=Europe/Berlin:20250225T150000
DTEND;TZID=Europe/Berlin:20250225T174500
DTSTAMP:20260422T165700
CREATED:20250116T074452Z
LAST-MODIFIED:20250116T074452Z
UID:10001398-1740495600-1740505500@www.milkids.de
SUMMARY:Gamer Space
DESCRIPTION:Für alle\, die gerne unsere Konsolen zum Glühen bringen möchten. Sei es die PlayStation\, die Xbox oder die Nintendo Switch. Aber auch jeder\, der einfach nur mal in die Gaming-Welt reinschnuppern möchte\, ist – alleine oder in Begleitung der Eltern – willkommen. \nFür Kinder und Jugendliche von 8 bis 15 Jahren.\nGamerSpace\, 2. OG\, Eingang über Kavalleriestraße 17.\nDer Eintritt ist frei. Keine Anmeldung
URL:https://www.milkids.de/termin/gamer-space-30/
LOCATION:Stadtbibliothek Bielefeld\, Neumarkt\, Bielefeld\, Detmold\, 33602\, Germany
CATEGORIES:Drinnen
GEO:52.0266981;8.5371282
X-APPLE-STRUCTURED-LOCATION;VALUE=URI;X-ADDRESS=Stadtbibliothek Bielefeld Neumarkt Bielefeld Detmold 33602 Germany;X-APPLE-RADIUS=500;X-TITLE=Neumarkt:geo:8.5371282,52.0266981
END:VEVENT
BEGIN:VEVENT
DTSTART;TZID=Europe/Berlin:20250225T153000
DTEND;TZID=Europe/Berlin:20250225T161500
DTSTAMP:20260422T165700
CREATED:20250116T072300Z
LAST-MODIFIED:20250116T072300Z
UID:10001670-1740497400-1740500100@www.milkids.de
SUMMARY:Gütersloh liest vor
DESCRIPTION:Taucht mit uns in die fantastische Welt der Bücher ein: Wir lassen Figuren lebendig werden und erleben mit unseren Helden viele Abenteuer. Beim ersten Besuch bekommt jede/r einen Lesepass\, der bei jeder Teilnahme abgestempelt wird. Nach sechs Besuchen gibt es was Tolles aus der Schatzkiste. Alle sind spontan willkommen. Dauer: ca. 45 Minuten \nfür Kinder ab 5 Jahren\nKinderbibliothek\nOhne Anmeldung.\nDas Angebot ist kostenfrei.
URL:https://www.milkids.de/termin/guetersloh-liest-vor-11/
LOCATION:Stadtbibliothek Gütersloh\, Blessenstätte 1\, Gütersloh\, Detmold\, 33330\, Deutschland
CATEGORIES:Drinnen
GEO:51.9041407;8.3768231
X-APPLE-STRUCTURED-LOCATION;VALUE=URI;X-ADDRESS=Stadtbibliothek Gütersloh Blessenstätte 1 Gütersloh Detmold 33330 Deutschland;X-APPLE-RADIUS=500;X-TITLE=Blessenstätte 1:geo:8.3768231,51.9041407
END:VEVENT
BEGIN:VEVENT
DTSTART;TZID=Europe/Berlin:20250225T160000
DTEND;TZID=Europe/Berlin:20250225T180000
DTSTAMP:20260422T165700
CREATED:20250116T074623Z
LAST-MODIFIED:20250210T174653Z
UID:10001832-1740499200-1740506400@www.milkids.de
SUMMARY:Naturpädagogischer Kindertreff auf Hof Ramsbrock
DESCRIPTION:Jeden Dienstag außerhalb der Ferien treffen wir uns auf dem Ramsbrockhof\, um gemeinsam Feuer ohne Streichholz zu machen\, zu schnitzen\, in der Natur zu sein und vieles mehr.\nWenn du zwischen sechs und elf Jahre alt bist und Spaß an der Natur hast\, bist du bei uns genau richtig. Komm einfach vorbei! \nfür Kinder von 6 – 11 Jahren\nKosten: kostenfreie Teilnahme\nohne Anmeldung
URL:https://www.milkids.de/termin/naturpaedagogischer-kindertreff-auf-hof-ramsbrock/2025-02-25/
LOCATION:Hof Ramsbrock\, Ramsweg\, Bielefeld\, Detmold\, 33647\, Germany
CATEGORIES:6 bis 12,Draußen
GEO:51.9511359;8.4782542
X-APPLE-STRUCTURED-LOCATION;VALUE=URI;X-ADDRESS=Hof Ramsbrock Ramsweg Bielefeld Detmold 33647 Germany;X-APPLE-RADIUS=500;X-TITLE=Ramsweg:geo:8.4782542,51.9511359
END:VEVENT
END:VCALENDAR