BEGIN:VCALENDAR
VERSION:2.0
PRODID:-//milkids - ECPv6.15.18//NONSGML v1.0//EN
CALSCALE:GREGORIAN
METHOD:PUBLISH
X-WR-CALNAME:milkids
X-ORIGINAL-URL:https://www.milkids.de
X-WR-CALDESC:Veranstaltungen für milkids
REFRESH-INTERVAL;VALUE=DURATION:PT1H
X-Robots-Tag:noindex
X-PUBLISHED-TTL:PT1H
BEGIN:VTIMEZONE
TZID:Europe/Berlin
BEGIN:DAYLIGHT
TZOFFSETFROM:+0100
TZOFFSETTO:+0200
TZNAME:CEST
DTSTART:20240331T010000
END:DAYLIGHT
BEGIN:STANDARD
TZOFFSETFROM:+0200
TZOFFSETTO:+0100
TZNAME:CET
DTSTART:20241027T010000
END:STANDARD
BEGIN:DAYLIGHT
TZOFFSETFROM:+0100
TZOFFSETTO:+0200
TZNAME:CEST
DTSTART:20250330T010000
END:DAYLIGHT
BEGIN:STANDARD
TZOFFSETFROM:+0200
TZOFFSETTO:+0100
TZNAME:CET
DTSTART:20251026T010000
END:STANDARD
BEGIN:DAYLIGHT
TZOFFSETFROM:+0100
TZOFFSETTO:+0200
TZNAME:CEST
DTSTART:20260329T010000
END:DAYLIGHT
BEGIN:STANDARD
TZOFFSETFROM:+0200
TZOFFSETTO:+0100
TZNAME:CET
DTSTART:20261025T010000
END:STANDARD
END:VTIMEZONE
BEGIN:VEVENT
DTSTART;TZID=Europe/Berlin:20250223T103000
DTEND;TZID=Europe/Berlin:20250223T160000
DTSTAMP:20260422T234810
CREATED:20250114T231344Z
LAST-MODIFIED:20250114T231344Z
UID:10001681-1740306600-1740326400@www.milkids.de
SUMMARY:Ostwestfälischer Aquarianertag
DESCRIPTION:Zum 16. Male findet der Ostwestfälische Aquarianertag statt auf Gut Bustedt in Hiddenhausen. Es finden auch Vorträge statt:\n10:30 Uhr: “Faszination Flossensauger“\, Arten\, Pflege und Vermehrung im Aquarium\n11:45 Uhr: “Woher kommen unsere Aquarienfische?“\nVon 14 – 16 Uhr kann dann die Zierfisch-\, Pflanzen- und Zubehörbörse besucht werden.  \nEintritt: 2 Euro
URL:https://www.milkids.de/termin/ostwestfaelischer-aquarianertag/
LOCATION:Gut Bustedt Hiddenhausen\, Gutsweg 35\, Hiddenhausen\, 32120
CATEGORIES:Drinnen
GEO:52.168321;8.6065548
X-APPLE-STRUCTURED-LOCATION;VALUE=URI;X-ADDRESS=Gut Bustedt Hiddenhausen Gutsweg 35 Hiddenhausen 32120;X-APPLE-RADIUS=500;X-TITLE=Gutsweg 35:geo:8.6065548,52.168321
END:VEVENT
BEGIN:VEVENT
DTSTART;TZID=Europe/Berlin:20250223T110000
DTEND;TZID=Europe/Berlin:20250223T170000
DTSTAMP:20260422T234810
CREATED:20250112T230000Z
LAST-MODIFIED:20250112T230000Z
UID:10001615-1740308400-1740330000@www.milkids.de
SUMMARY:Franz Schubert und das Glück
DESCRIPTION:Stellt euch vor\, ihr habt 19 Schwestern und Brüder\, aber eure Eltern haben kaum genug Geld zum Leben\, geschweige denn\, für die Ausbildung aller Kinder. Das war in etwa die Lage\, in der sich Franz Schubert befand\, nachdem er 1797 in Wien geboren worden war. Mit fünf Jahren lernte er Geige und wurde wegen seiner schönen Stimme als Sängerknabe in den Kirchenchor aufgenommen\, aber alsbald musste er sein Leben selbst in die Hand nehmen.\nUnd hatte dabei wenig Glück\, weder beruflich noch in der Liebe. »Das Glück ist da\, wo ich nicht bin«\, so in etwa lautete sein Lebensmotto. Aber komponieren konnte er: Hört man seine Musik\, seine Symphonien\, Lieder\, Klavierstücke\, Kammermusik\, Chorwerke und Opern\, dann zeigt sich ein anderes Bild seiner Persönlichkeit. Ein Visionär und kluger Dramatiker\, ein liebevoller Mensch und kühner (musikalischer) Architekt\, ein lebensfroher Schöngeist\, der einen wachsenden Freundeskreis um sich zu versammeln wusste.\nWer war der kleine\, bebrillte Komponist\, Schöpfer der Unvollendeten und der Winterreise\, wirklich? Zusammen mit den Bielefelder Philharmonikern zeichnet Gregor Rot im 4. Kinderkonzert ein musikalisches Porträt des Menschen Franz Schubert. \nempfohlen für BesucherInnen ab 6 Jahren
URL:https://www.milkids.de/termin/franz-schubert-und-das-glueck/
LOCATION:Rudolf-Oetker-Halle Bielefeld\, Lampingstr. 16\, Bielefeld\, Detmold\, 33615\, Germany
CATEGORIES:Drinnen
GEO:52.020627;8.5350497
X-APPLE-STRUCTURED-LOCATION;VALUE=URI;X-ADDRESS=Rudolf-Oetker-Halle Bielefeld Lampingstr. 16 Bielefeld Detmold 33615 Germany;X-APPLE-RADIUS=500;X-TITLE=Lampingstr. 16:geo:8.5350497,52.020627
END:VEVENT
BEGIN:VEVENT
DTSTART;TZID=Europe/Berlin:20250223T113000
DTEND;TZID=Europe/Berlin:20250223T113000
DTSTAMP:20260422T234810
CREATED:20250112T214058Z
LAST-MODIFIED:20250112T214058Z
UID:10001740-1740310200-1740310200@www.milkids.de
SUMMARY:Führung in der Sonderausstellung Oder kann das weg? #Wegwerfen #Wiederverwenden #Wertschätzen
DESCRIPTION:Anmeldung unter Telefon 0521.51-3635 oder E-Mail an info@historisches-museum-bielefeld.de
URL:https://www.milkids.de/termin/fuehrung-in-der-sonderausstellung-oder-kann-das-weg-wegwerfen-wiederverwenden-wertschaetzen/
LOCATION:Historisches Museum Bielefeld\, Ravensberger Park\, Bielefeld\, Detmold\, 33607\, Germany
CATEGORIES:Drinnen
GEO:52.0223731;8.546227
X-APPLE-STRUCTURED-LOCATION;VALUE=URI;X-ADDRESS=Historisches Museum Bielefeld Ravensberger Park Bielefeld Detmold 33607 Germany;X-APPLE-RADIUS=500;X-TITLE=Ravensberger Park:geo:8.546227,52.0223731
END:VEVENT
BEGIN:VEVENT
DTSTART;TZID=Europe/Berlin:20250223T140000
DTEND;TZID=Europe/Berlin:20250223T170000
DTSTAMP:20260422T234810
CREATED:20250115T224040Z
LAST-MODIFIED:20250115T224050Z
UID:10001724-1740319200-1740330000@www.milkids.de
SUMMARY:Drucken mit Lego
DESCRIPTION:Entdeckt eine ganz neue Seite von Lego-Steinen! Mit flachen Lego-Steinen und Bauplatten könnt ihr eure eigenen Motive gestalten. Es entstehen individuelle Druckplatten\, die mit Hilfe einer Druckpresse auf Papier gebracht werden. Mit Farben und Fantasie entstehen einzigartige Muster und tolle Kunstwerke! Mit dem Künstler Mariusz Kuklik. \nFür Familien mit Kindern und Jugendlichen ab 8 Jahren\nKosten inkl. Material: 10 € für Kinder und 8 € für Erwachsene\nAnmeldung unter Tel. 0521 51 37 64 oder per Mail an veranstaltungen-museumhuelsmann@bielefeld.de
URL:https://www.milkids.de/termin/drucken-mit-lego/
LOCATION:Museum Huelsmann Bielefeld und Historisches Museum\, Ravensberger Park\, Bielefeld\, Detmold\, 33607\, Germany
CATEGORIES:Drinnen
GEO:52.0224573;8.5457388
X-APPLE-STRUCTURED-LOCATION;VALUE=URI;X-ADDRESS=Museum Huelsmann Bielefeld und Historisches Museum Ravensberger Park Bielefeld Detmold 33607 Germany;X-APPLE-RADIUS=500;X-TITLE=Ravensberger Park:geo:8.5457388,52.0224573
END:VEVENT
BEGIN:VEVENT
DTSTART;TZID=Europe/Berlin:20250223T141100
DTEND;TZID=Europe/Berlin:20250223T141100
DTSTAMP:20260422T234810
CREATED:20250218T230005Z
LAST-MODIFIED:20250218T230005Z
UID:10001890-1740319860-1740319860@www.milkids.de
SUMMARY:Kinderkarnevalsumzug Stukenbrock
DESCRIPTION:
URL:https://www.milkids.de/termin/kinderkarnevalsumzug-stukenbrock/
LOCATION:Stukenbrock
CATEGORIES:Draußen
END:VEVENT
BEGIN:VEVENT
DTSTART;TZID=Europe/Berlin:20250223T141400
DTEND;TZID=Europe/Berlin:20250223T141400
DTSTAMP:20260422T234810
CREATED:20250218T232312Z
LAST-MODIFIED:20250218T232312Z
UID:10001895-1740320040-1740320040@www.milkids.de
SUMMARY:Kinderkarneval Paderborn
DESCRIPTION:
URL:https://www.milkids.de/termin/kinderkarneval-paderborn/
LOCATION:Paderhalle Paderborn\, Heiersmauer\, Paderborn\, Detmold\, 33098\, Germany
CATEGORIES:Drinnen
GEO:51.7225715;8.7547106
X-APPLE-STRUCTURED-LOCATION;VALUE=URI;X-ADDRESS=Paderhalle Paderborn Heiersmauer Paderborn Detmold 33098 Germany;X-APPLE-RADIUS=500;X-TITLE=Heiersmauer:geo:8.7547106,51.7225715
END:VEVENT
BEGIN:VEVENT
DTSTART;TZID=Europe/Berlin:20250223T143000
DTEND;TZID=Europe/Berlin:20250223T161000
DTSTAMP:20260422T234810
CREATED:20250112T155528Z
LAST-MODIFIED:20250112T155528Z
UID:10001757-1740321000-1740327000@www.milkids.de
SUMMARY:Wallace & Gromit auf der Jagd nach dem Riesenkaninchen
DESCRIPTION:Der alljährliche Gemüsewettbewerb steht vor der Tür: Sobald ein Kaninchen auftaucht und versucht Gemüse anzuknabbern\, werden Wallace & Gromit alarmiert! Alle wollen die goldene Karotte von Lady Tottington mit ihrem Gemüse gewinnen.\nDa es immer mehr Kaninchen werden\, hat Gromit\, der Hund\, eine Idee: Mit einem Gedankenmanipulator will er den Kaninchen die Lust auf Gemüse nehmen.  \nDauer 96 Minuten FSK 6
URL:https://www.milkids.de/termin/wallace-gromit-auf-der-jagd-nach-dem-riesenkaninchen/
LOCATION:Lichtwerk & Kamera Filmkunst\, Ravensberger Park\, Bielefeld\, Detmold\, 33607\, Germany
CATEGORIES:Drinnen
GEO:52.0221966;8.5445781
X-APPLE-STRUCTURED-LOCATION;VALUE=URI;X-ADDRESS=Lichtwerk & Kamera Filmkunst Ravensberger Park Bielefeld Detmold 33607 Germany;X-APPLE-RADIUS=500;X-TITLE=Ravensberger Park:geo:8.5445781,52.0221966
END:VEVENT
BEGIN:VEVENT
DTSTART;TZID=Europe/Berlin:20250223T150000
DTEND;TZID=Europe/Berlin:20250223T150000
DTSTAMP:20260422T234810
CREATED:20241121T170813Z
LAST-MODIFIED:20241203T210436Z
UID:10000918-1740322800-1740322800@www.milkids.de
SUMMARY:Malzeit
DESCRIPTION:Nach einer Kurzführung experimentieren wir jedes Mal mit einer anderen künstlerischen Technik.\nJede Familie erstellt ein Kunstwerk\, an dem alle zusammen mitwirken. \nFür Familien\nOhne Altersbeschränkung\nAnmeldung erforderlich unter: anmeldung@kunstforum-hermann-stenner.de
URL:https://www.milkids.de/termin/malzeit-6/
LOCATION:Kunstforum Hermann Stenner\, Obernstraße\, Bielefeld\, Detmold\, 33602\, Germany
CATEGORIES:Drinnen
GEO:52.0198821;8.5267137
X-APPLE-STRUCTURED-LOCATION;VALUE=URI;X-ADDRESS=Kunstforum Hermann Stenner Obernstraße Bielefeld Detmold 33602 Germany;X-APPLE-RADIUS=500;X-TITLE=Obernstraße:geo:8.5267137,52.0198821
END:VEVENT
BEGIN:VEVENT
DTSTART;TZID=Europe/Berlin:20250223T150000
DTEND;TZID=Europe/Berlin:20250223T150000
DTSTAMP:20260422T234810
CREATED:20250111T175822Z
LAST-MODIFIED:20250111T175822Z
UID:10001523-1740322800-1740322800@www.milkids.de
SUMMARY:Der selbstsüchtige Riese
DESCRIPTION:Jeden Nachmittag\, wenn die Kinder aus der Schule kamen\, gingen sie in den Garten des Riesen\, um darin zu spielen.\nEs war ein großer\, lieblicher Garten mit weichem\, grünem Gras. Die Vögel saßen in den Bäumen und sangen so süß\, dass die Kinder oft in ihren Spielen innehielten\, um ihnen zu lauschen.\n„Wie glücklich wir hier sind!“ rief eines dem anderen zu. Doch eines Tages kam der Riese nach Haus . . .\nAufführung des Pulcinella Puppentheaters \nEintritt: 4 Euro
URL:https://www.milkids.de/termin/der-selbstsuechtige-riese-2/
LOCATION:LWL-Museum Ziegelei Lage\, Sprikernheide 77\, Lage\, Detmold\, 32791\, Germany
CATEGORIES:Drinnen
GEO:52.0244672;8.7778806
X-APPLE-STRUCTURED-LOCATION;VALUE=URI;X-ADDRESS=LWL-Museum Ziegelei Lage Sprikernheide 77 Lage Detmold 32791 Germany;X-APPLE-RADIUS=500;X-TITLE=Sprikernheide 77:geo:8.7778806,52.0244672
END:VEVENT
BEGIN:VEVENT
DTSTART;TZID=Europe/Berlin:20250223T150000
DTEND;TZID=Europe/Berlin:20250223T150000
DTSTAMP:20260422T234810
CREATED:20250113T212816Z
LAST-MODIFIED:20250113T212816Z
UID:10001638-1740322800-1740322800@www.milkids.de
SUMMARY:Familienführung: Bielefeld im Mittelalter
DESCRIPTION:Freuen Sie sich auf eine kindgerechte Führung durch die Mittelalterabteilung des Historischen Museums: Sehen\, fühlen\, hören\, suchen\, finden und gemeinsam entdecken\, wie sich das Leben in der mittelalterlichen Stadt gestaltet haben mag. Im Anschluss kann ein Stadtsiegel aus Ton angefertigt werden. \nFür Familien mit Kindern ab 6 Jahren\nKosten: 6 Euro für Erwachsene und 4 Euro für Kinder\nAnmeldung erforderlich unter Tel. 0521-513635
URL:https://www.milkids.de/termin/familienfuehrung-bielefeld-im-mittelalter/
LOCATION:Historisches Museum Bielefeld\, Ravensberger Park\, Bielefeld\, Detmold\, 33607\, Germany
CATEGORIES:Drinnen
GEO:52.0223731;8.546227
X-APPLE-STRUCTURED-LOCATION;VALUE=URI;X-ADDRESS=Historisches Museum Bielefeld Ravensberger Park Bielefeld Detmold 33607 Germany;X-APPLE-RADIUS=500;X-TITLE=Ravensberger Park:geo:8.546227,52.0223731
END:VEVENT
BEGIN:VEVENT
DTSTART;TZID=Europe/Berlin:20250223T150000
DTEND;TZID=Europe/Berlin:20250223T160000
DTSTAMP:20260422T234810
CREATED:20250112T234245Z
LAST-MODIFIED:20250112T234245Z
UID:10001623-1740322800-1740326400@www.milkids.de
SUMMARY:Märchen im Bauernhausmuseum
DESCRIPTION:Der hässliche Riese\, Märchen und Lieder von hier und anderswo\, am Herdfeuer \nPreis: 6 Euro\nohne Anmeldung
URL:https://www.milkids.de/termin/maerchen-im-bauernhausmuseum/
LOCATION:Bauernhausmuseum Bielefeld\, Dornberger Straße\, Bielefeld\, Detmold\, 33619\, Germany
CATEGORIES:Drinnen
GEO:52.023784;8.5077865
X-APPLE-STRUCTURED-LOCATION;VALUE=URI;X-ADDRESS=Bauernhausmuseum Bielefeld Dornberger Straße Bielefeld Detmold 33619 Germany;X-APPLE-RADIUS=500;X-TITLE=Dornberger Straße:geo:8.5077865,52.023784
END:VEVENT
BEGIN:VEVENT
DTSTART;TZID=Europe/Berlin:20250223T150000
DTEND;TZID=Europe/Berlin:20250223T160000
DTSTAMP:20260422T234810
CREATED:20250115T204209Z
LAST-MODIFIED:20250115T204209Z
UID:10001713-1740322800-1740326400@www.milkids.de
SUMMARY:Pirat BackenBartBernd "Der gelbe Matratze"
DESCRIPTION:Neben seinem verknoteten Seemannsgarn bringt der Kapitän auch unglaubliche Zaubertricks\, Jonglage u.a. mit echten See-Igeln und seine gefürchtete Gummihuhn-Crew mit. Die kleinen und großen Landratten erleben den rasanten Aufstieg des Grausamen Günthers\, der an Bord der Adonis als neuer Matratze anheuert. Nach echter Piratensitte geht dabei einiges in die Hose und es bleibt kein Auge trocken.\nEin maritimes Kinderprogramm für Landratten und Süßwassermatrosen von 4 bis 99 Jahren\, die weder Toast noch Teufel fürchten. Die Kinder erleben hautnah seine haarsträubenden (wenn er denn noch welche hätte) Abenteuer auf den Sieben Weltmeeren mit.  \nfür ZuschauerInnen ab 4 Jahren\nKosten: 4 Euro p.P.\, Vorverkauf an der Museumskassezie
URL:https://www.milkids.de/termin/pirat-backenbartbernd-der-gelbe-matratze/
LOCATION:LWL-Museum Ziegelei Lage\, Sprikernheide 77\, Lage\, Detmold\, 32791\, Germany
CATEGORIES:Drinnen
GEO:52.0244672;8.7778806
X-APPLE-STRUCTURED-LOCATION;VALUE=URI;X-ADDRESS=LWL-Museum Ziegelei Lage Sprikernheide 77 Lage Detmold 32791 Germany;X-APPLE-RADIUS=500;X-TITLE=Sprikernheide 77:geo:8.7778806,52.0244672
END:VEVENT
BEGIN:VEVENT
DTSTART;TZID=Europe/Berlin:20250223T151100
DTEND;TZID=Europe/Berlin:20250223T151100
DTSTAMP:20260422T234810
CREATED:20250218T232150Z
LAST-MODIFIED:20250218T232150Z
UID:10001894-1740323460-1740323460@www.milkids.de
SUMMARY:Kinderkarneval Elsen
DESCRIPTION:
URL:https://www.milkids.de/termin/kinderkarneval-elsen/
LOCATION:Bürgerhaus Paderborn-Elsen\, Bohlenweg 27\, Paderborn\, 33106
CATEGORIES:Drinnen
GEO:51.7374801;8.6875871
X-APPLE-STRUCTURED-LOCATION;VALUE=URI;X-ADDRESS=Bürgerhaus Paderborn-Elsen Bohlenweg 27 Paderborn 33106;X-APPLE-RADIUS=500;X-TITLE=Bohlenweg 27:geo:8.6875871,51.7374801
END:VEVENT
BEGIN:VEVENT
DTSTART;TZID=Europe/Berlin:20250223T160000
DTEND;TZID=Europe/Berlin:20250223T160000
DTSTAMP:20260422T234810
CREATED:20250101T174055Z
LAST-MODIFIED:20250101T174055Z
UID:10001368-1740326400-1740326400@www.milkids.de
SUMMARY:Familien Improshow "Knaller für Kids"
DESCRIPTION:Verrückte Sportarten\, fantastische Wesen\, tierische Menschen\, bekloppte Wörter und vieles mehr gibt es in unserer Kindershow des Improtheaters Knall auf Fall im Kulturpunkt Skala Bielefeld.\nDie Geschichten entstehen beim Improvisationstheater für Familien spontan. Die Kinder können ganz viel mitbestimmen und am Ende sogar selbst auf die Bühne. \nFür Zuschauer ab 5 Jahren\nTickets über: www.yesticket.org/events/de/knall-auf-fall-/
URL:https://www.milkids.de/termin/familien-improshow-knaller-fuer-kids/
LOCATION:Kulturpunkt Skala Bielefed\, Herforder Straße 5-7\, Bielefeld\, Detmold\, 33602\, Germany
CATEGORIES:Drinnen
GEO:52.0241172;8.5339431
X-APPLE-STRUCTURED-LOCATION;VALUE=URI;X-ADDRESS=Kulturpunkt Skala Bielefed Herforder Straße 5-7 Bielefeld Detmold 33602 Germany;X-APPLE-RADIUS=500;X-TITLE=Herforder Straße 5-7:geo:8.5339431,52.0241172
END:VEVENT
END:VCALENDAR