BEGIN:VCALENDAR
VERSION:2.0
PRODID:-//milkids - ECPv6.15.18//NONSGML v1.0//EN
CALSCALE:GREGORIAN
METHOD:PUBLISH
X-ORIGINAL-URL:https://www.milkids.de
X-WR-CALDESC:Veranstaltungen für milkids
REFRESH-INTERVAL;VALUE=DURATION:PT1H
X-Robots-Tag:noindex
X-PUBLISHED-TTL:PT1H
BEGIN:VTIMEZONE
TZID:Europe/Berlin
BEGIN:DAYLIGHT
TZOFFSETFROM:+0100
TZOFFSETTO:+0200
TZNAME:CEST
DTSTART:20240331T010000
END:DAYLIGHT
BEGIN:STANDARD
TZOFFSETFROM:+0200
TZOFFSETTO:+0100
TZNAME:CET
DTSTART:20241027T010000
END:STANDARD
BEGIN:DAYLIGHT
TZOFFSETFROM:+0100
TZOFFSETTO:+0200
TZNAME:CEST
DTSTART:20250330T010000
END:DAYLIGHT
BEGIN:STANDARD
TZOFFSETFROM:+0200
TZOFFSETTO:+0100
TZNAME:CET
DTSTART:20251026T010000
END:STANDARD
BEGIN:DAYLIGHT
TZOFFSETFROM:+0100
TZOFFSETTO:+0200
TZNAME:CEST
DTSTART:20260329T010000
END:DAYLIGHT
BEGIN:STANDARD
TZOFFSETFROM:+0200
TZOFFSETTO:+0100
TZNAME:CET
DTSTART:20261025T010000
END:STANDARD
END:VTIMEZONE
BEGIN:VEVENT
DTSTART;TZID=Europe/Berlin:20250222T100000
DTEND;TZID=Europe/Berlin:20250222T113000
DTSTAMP:20260423T012057
CREATED:20250113T153146Z
LAST-MODIFIED:20250113T153205Z
UID:10001629-1740218400-1740223800@www.milkids.de
SUMMARY:Sporteln mit Eltern
DESCRIPTION:90 Minuten Turnen am Samstag Vormittag für Mütter oder Väter oder auch beide Elternteile gemeinsam plus Kind. Ein buntes Programm und eine tolle Bewegungslandschaft wartet sie.   \nGemeinsames Turnen für Eltern mit Kind/ern von 1\,5-4 Jahre\n2 Personen:  6 Euro\n3 Personen:  8\,50 Euro (z.B. 1 Erw. + 2 Kinder)\n4 Personen: 11 Euro (z.B. 2 Erw. + 2 Kinder)\nAnmeldung erforderlich
URL:https://www.milkids.de/termin/sporteln-mit-eltern-2/
LOCATION:BTG Bielefeld\, Am Brodhagen 54\, Bielefeld\, 33613
CATEGORIES:Drinnen
GEO:52.0431216;8.5140982
X-APPLE-STRUCTURED-LOCATION;VALUE=URI;X-ADDRESS=BTG Bielefeld Am Brodhagen 54 Bielefeld 33613;X-APPLE-RADIUS=500;X-TITLE=Am Brodhagen 54:geo:8.5140982,52.0431216
END:VEVENT
BEGIN:VEVENT
DTSTART;TZID=Europe/Berlin:20250222T100000
DTEND;TZID=Europe/Berlin:20250222T120000
DTSTAMP:20260423T012057
CREATED:20250116T075951Z
LAST-MODIFIED:20250116T075951Z
UID:10001728-1740218400-1740225600@www.milkids.de
SUMMARY:Die Moorfrösche in Aktion
DESCRIPTION:Die NAJU-Kindergruppe „Moorfrösche“ heißt alle interessierten Kinder zwischen 7 und 14 Jahren herzlich willkommen. Sie treffen sich jeden Monat zu verschiedenen Aktionen\, u.a. kreative Basteleien\, Wanderungen durch das Große Torfmoor\, Nistkastenbau und vielem mehr. Dabei ist die erste Teilnahme kostenfrei.\nWer im Anschluss Teil der NAJU werden möchte\, für den ist der\nAbschluss einer NABU-Mitgliedschaft notwendig.
URL:https://www.milkids.de/termin/die-moorfroesche-in-aktion-3/
LOCATION:Moorhus Besucherzentrum\, Frotheimer Straße 57a\, Lübbecke\, Detmold\, 32312\, Germany
CATEGORIES:Draußen,Drinnen
GEO:52.3280563;8.6694707
X-APPLE-STRUCTURED-LOCATION;VALUE=URI;X-ADDRESS=Moorhus Besucherzentrum Frotheimer Straße 57a Lübbecke Detmold 32312 Germany;X-APPLE-RADIUS=500;X-TITLE=Frotheimer Straße 57a:geo:8.6694707,52.3280563
END:VEVENT
BEGIN:VEVENT
DTSTART;TZID=Europe/Berlin:20250222T100000
DTEND;TZID=Europe/Berlin:20250222T130000
DTSTAMP:20260423T012058
CREATED:20250210T181108Z
LAST-MODIFIED:20250210T181108Z
UID:10001840-1740218400-1740229200@www.milkids.de
SUMMARY:Kinderflohmarkt
DESCRIPTION:Kinderflohmarkt der ev. Kita Babenhausen im Gemeindehaus
URL:https://www.milkids.de/termin/kinderflohmarkt-2/
LOCATION:Gemeindehaus Babenhausen\, Babenhauser Str. 151\, Bielefeld\, 33619
CATEGORIES:Drinnen,Märkte
GEO:52.0588536;8.4931589
X-APPLE-STRUCTURED-LOCATION;VALUE=URI;X-ADDRESS=Gemeindehaus Babenhausen Babenhauser Str. 151 Bielefeld 33619;X-APPLE-RADIUS=500;X-TITLE=Babenhauser Str. 151:geo:8.4931589,52.0588536
END:VEVENT
BEGIN:VEVENT
DTSTART;TZID=Europe/Berlin:20250222T100000
DTEND;TZID=Europe/Berlin:20250222T160000
DTSTAMP:20260423T012058
CREATED:20250220T214644Z
LAST-MODIFIED:20250220T214644Z
UID:10001939-1740218400-1740240000@www.milkids.de
SUMMARY:JuBi – Die JugendBildungsmesse
DESCRIPTION:JuBi – Die JugendBildungsmesse ist eine Spezial-Messe zum Thema „Bildung im Ausland“. Sie bietet nicht nur Einblicke in vielfältige Programme\, sondern auch die Chance\, direkt Kontakte zu knüpfen und konkrete Fragen zu stellen. Zahlreiche Aussteller:innen im Ceciliengymnasium Bielefeld präsentieren Programme für Schüleraustausch\, Auslandspraktika\, Sprachreisen\, Au-Pair\, Work and Travel sowie Freiwilligenarbeit. \nDer Eintritt ist frei.
URL:https://www.milkids.de/termin/jubi-die-jugendbildungsmesse/
LOCATION:Ceciliengymnasium Bielefeld\, Niedermühlenkamp 5\, Bielefeld\, 33604
CATEGORIES:Drinnen,Familie
GEO:52.015851;8.5484933
X-APPLE-STRUCTURED-LOCATION;VALUE=URI;X-ADDRESS=Ceciliengymnasium Bielefeld Niedermühlenkamp 5 Bielefeld 33604;X-APPLE-RADIUS=500;X-TITLE=Niedermühlenkamp 5:geo:8.5484933,52.015851
END:VEVENT
BEGIN:VEVENT
DTSTART;TZID=Europe/Berlin:20250222T103000
DTEND;TZID=Europe/Berlin:20250222T133000
DTSTAMP:20260423T012058
CREATED:20250111T172035Z
LAST-MODIFIED:20250111T172035Z
UID:10001516-1740220200-1740231000@www.milkids.de
SUMMARY:3D – Mach dein eigenes Projekt
DESCRIPTION:Im Heinz Nixdorf MuseumsForum treffen Technik und Kreativität aufeinander. Kinder im Alter von acht bis zehn Jahren werden beim Aktionstag zum 3D-Künstler.  \nDoch anstatt zum klassischen Malzeug wie Papier und Stift zu greifen\, werden mit 3D-Stiften Kunstwerke gezaubert. Der künstlerischen Freiheit sind keine Grenzen gesetzt – das dreidimensionale Modell kann in die Höhe\, Breite und Tiefe gehen. \nAnmeldung erforderlich unter www.hnf.de/3D-022025\nKosten: 20 Euro
URL:https://www.milkids.de/termin/3d-mach-dein-eigenes-projekt/
LOCATION:Heinz Nixdorf MuseumsForum Paderborn\, Fürstenallee 7\, Paderborn\, Detmold\, 33102\, Germany
CATEGORIES:Drinnen
GEO:51.73121;8.73616
X-APPLE-STRUCTURED-LOCATION;VALUE=URI;X-ADDRESS=Heinz Nixdorf MuseumsForum Paderborn Fürstenallee 7 Paderborn Detmold 33102 Germany;X-APPLE-RADIUS=500;X-TITLE=Fürstenallee 7:geo:8.73616,51.73121
END:VEVENT
BEGIN:VEVENT
DTSTART;TZID=Europe/Berlin:20250222T110000
DTEND;TZID=Europe/Berlin:20250222T140000
DTSTAMP:20260423T012058
CREATED:20250110T173241Z
LAST-MODIFIED:20250110T173241Z
UID:10001754-1740222000-1740232800@www.milkids.de
SUMMARY:Vorsortierter Flohmarkt
DESCRIPTION:Kleidung für Kinder ab 110\, Erwachsene und Spielzeug
URL:https://www.milkids.de/termin/vorsortierter-flohmarkt/
LOCATION:Waldorfschule Gütersloh\, Hermann-Rothert-Str. 7\, Gütersloh\, 33335
CATEGORIES:Drinnen,Märkte
GEO:51.9370764;8.4844103
X-APPLE-STRUCTURED-LOCATION;VALUE=URI;X-ADDRESS=Waldorfschule Gütersloh Hermann-Rothert-Str. 7 Gütersloh 33335;X-APPLE-RADIUS=500;X-TITLE=Hermann-Rothert-Str. 7:geo:8.4844103,51.9370764
END:VEVENT
BEGIN:VEVENT
DTSTART;TZID=Europe/Berlin:20250222T110000
DTEND;TZID=Europe/Berlin:20250222T130000
DTSTAMP:20260423T012059
CREATED:20250116T072119Z
LAST-MODIFIED:20250116T072119Z
UID:10001424-1740222000-1740229200@www.milkids.de
SUMMARY:Kunsthalle für Kinder
DESCRIPTION:Möchtest du die Kunsthalle mit ihren Ausstellungen kennen lernen? Bilder anschauen\, darüber reden und selbst kreativ sein?\nWenn du zwischen 5 und 12 Jahre bist\, dann bist du an jedem Samstag (außer in den Schulferien) von 11 bis 13 Uhr in der Malstube der Kunsthalle willkommen! \nAngebot für Kinder ohne Begleitung durch Erwachsene\nPreis: 5 €
URL:https://www.milkids.de/termin/kunsthalle-fuer-kinder-17/
LOCATION:Kunsthalle Bielefeld\, Artur-Ladebeck-Straße 5\, Bielefeld\, 33602
CATEGORIES:Drinnen
GEO:52.0157209;8.5226397
X-APPLE-STRUCTURED-LOCATION;VALUE=URI;X-ADDRESS=Kunsthalle Bielefeld Artur-Ladebeck-Straße 5 Bielefeld 33602;X-APPLE-RADIUS=500;X-TITLE=Artur-Ladebeck-Straße 5:geo:8.5226397,52.0157209
END:VEVENT
BEGIN:VEVENT
DTSTART;TZID=Europe/Berlin:20250222T113000
DTEND;TZID=Europe/Berlin:20250222T120000
DTSTAMP:20260423T012059
CREATED:20250116T072428Z
LAST-MODIFIED:20250116T072428Z
UID:10001436-1740223800-1740225600@www.milkids.de
SUMMARY:Geschichtenzeit
DESCRIPTION:Jeden Samstag um 11.30 Uhr ist es soweit! Lauschen und Lachen in gemütlicher Runde in der Stadtbibliothek am Neumarkt. \nFür Kinder von 3 bis 6 Jahren\nKinderzimmer Erdgeschoss\nOhne Anmeldung\nDer Eintritt ist frei!
URL:https://www.milkids.de/termin/geschichtenzeit-26/
LOCATION:Stadtbibliothek Bielefeld\, Neumarkt\, Bielefeld\, Detmold\, 33602\, Germany
CATEGORIES:Drinnen
GEO:52.0266981;8.5371282
X-APPLE-STRUCTURED-LOCATION;VALUE=URI;X-ADDRESS=Stadtbibliothek Bielefeld Neumarkt Bielefeld Detmold 33602 Germany;X-APPLE-RADIUS=500;X-TITLE=Neumarkt:geo:8.5371282,52.0266981
END:VEVENT
BEGIN:VEVENT
DTSTART;TZID=Europe/Berlin:20250222T130000
DTEND;TZID=Europe/Berlin:20250222T143000
DTSTAMP:20260423T012100
CREATED:20250116T080049Z
LAST-MODIFIED:20250116T080049Z
UID:10001582-1740229200-1740234600@www.milkids.de
SUMMARY:Willis Welt
DESCRIPTION:Willi war ein Bergmann. Er arbeitete viele Jahre im Bergwerk und führte später die Gäste durch den Stollen des Besucher-Bergwerks.\nZu Beginn stellen wir in der Museumswerkstatt eine eigene Fahrmarke her\, um damit den Helm mit der Grubenlampe zu erhalten. Ausgestattet wie ein richtiger Bergmann fahren wir ins Besucher-Bergwerk ein und entdecken Willis Welt. Dabei stoßen wir auf die Luftströme unter Tage\, die auch Wetter genannt werden\, erfahren den Unterschied zwischen Kohle\, Salz und Eisenerz\, messen die Temperatur des Wassers und telefonieren mit dem Grubentelefon.\nWarme Kleidung und festes Schuhwerk werden empfohlen. \nEmpfohlen für Kinder ab 5 Jahren.\nAnmeldeschluss zwei Tage vor dem Termin\nPreis: 9\,00 € / + 0\,85 € Material Person\nMindestteilnehmerzahl 5 Personen
URL:https://www.milkids.de/termin/willis-welt-4/
LOCATION:Bergwerk Kleinenbremen\, Rintelner Str. 396\, Porta Westfalica\, Detmold\, 32457\, Deutschland
CATEGORIES:Drinnen
GEO:52.2297222;9.0408333
X-APPLE-STRUCTURED-LOCATION;VALUE=URI;X-ADDRESS=Bergwerk Kleinenbremen Rintelner Str. 396 Porta Westfalica Detmold 32457 Deutschland;X-APPLE-RADIUS=500;X-TITLE=Rintelner Str. 396:geo:9.0408333,52.2297222
END:VEVENT
BEGIN:VEVENT
DTSTART;TZID=Europe/Berlin:20250222T140000
DTEND;TZID=Europe/Berlin:20250222T170000
DTSTAMP:20260423T012100
CREATED:20250111T175517Z
LAST-MODIFIED:20250111T175517Z
UID:10001522-1740232800-1740243600@www.milkids.de
SUMMARY:Wir knüpfen Schlüsselanhänger
DESCRIPTION:Aus bunten Schnüren knüpfen die TeilnehmerInnen coole Anhänger für Schlüssel oder Taschen.  \nWorkshop für Kinder ab 7 Jahre\nAnmeldung erforderlich ziegelei-lage@lwl.org oder Tel. 05232 9490-0\nKosten: 10 Euro
URL:https://www.milkids.de/termin/wir-knuepfen-schluesselanhaenger/
LOCATION:LWL-Museum Ziegelei Lage\, Sprikernheide 77\, Lage\, Detmold\, 32791\, Germany
CATEGORIES:Drinnen
GEO:52.0244672;8.7778806
X-APPLE-STRUCTURED-LOCATION;VALUE=URI;X-ADDRESS=LWL-Museum Ziegelei Lage Sprikernheide 77 Lage Detmold 32791 Germany;X-APPLE-RADIUS=500;X-TITLE=Sprikernheide 77:geo:8.7778806,52.0244672
END:VEVENT
BEGIN:VEVENT
DTSTART;TZID=Europe/Berlin:20250222T160000
DTEND;TZID=Europe/Berlin:20250222T173000
DTSTAMP:20260423T012100
CREATED:20250116T074729Z
LAST-MODIFIED:20250116T074729Z
UID:10001450-1740240000-1740245400@www.milkids.de
SUMMARY:COSMOmission Escape-Game: Deine Reise ins All
DESCRIPTION:Auf geht’s zum Planeten Gaia! Doch auf der langen Reise ins Sternensystem Alpha Centauri kann eine Menge schiefgehen. Schafft ihr es\, alle Rätsel zu lösen und das Raumschiff sicher ans Ziel zu bringen?\nIm Tresorraum der Wissenswerkstatt ist ein komplettes intergalaktisches Escape-Game aufgebaut. Entwickelt wurden die COSMOmission in Zusammenarbeit mit Forschenden der Universität Bielefeld (Fakultät für Biologie und der Fakultät für Physik) und der Hochschule Bielefeld (HSBI; Fachbereich Gestaltung). Ihr wollt die Reise antreten? Dann sichert euch ein Ticket für euer Weltraumabenteuer.\nWichtig zu wissen: Pro Termin sind 6 Einzeltickets verfügbar. Ihr spielt also mit Fremden in einer Gruppe. Wer die COSMOmission mit einer privaten Gruppe alleine spielen möchte\, muss alle 6 Tickets für einen Termin kaufen.  \nBuchbar für alle ab 14 J.\nOrt: Tresor 1 (im Keller)\nEinzelticket Preis: 10 €\nBei Fragen: hallo@wissenswerkstadt.de
URL:https://www.milkids.de/termin/cosmomission-escape-game-deine-reise-ins-all-35/
LOCATION:Wissenswerkstadt Bielefeld\, Wilhelmstraße\, Bielefeld\, Detmold\, 33602\, Germany
CATEGORIES:Drinnen
GEO:52.0238945;8.5350147
X-APPLE-STRUCTURED-LOCATION;VALUE=URI;X-ADDRESS=Wissenswerkstadt Bielefeld Wilhelmstraße Bielefeld Detmold 33602 Germany;X-APPLE-RADIUS=500;X-TITLE=Wilhelmstraße:geo:8.5350147,52.0238945
END:VEVENT
BEGIN:VEVENT
DTSTART;TZID=Europe/Berlin:20250222T160000
DTEND;TZID=Europe/Berlin:20250222T174000
DTSTAMP:20260423T012100
CREATED:20250116T080127Z
LAST-MODIFIED:20250116T080127Z
UID:10001543-1740240000-1740246000@www.milkids.de
SUMMARY:Wallace & Gromit auf der Jagd nach dem Riesenkaninchen
DESCRIPTION:Der alljährliche Gemüsewettbewerb steht vor der Tür: Sobald ein Kaninchen auftaucht und versucht Gemüse anzuknabbern\, werden Wallace & Gromit alarmiert! Alle wollen die goldene Karotte von Lady Tottington mit ihrem Gemüse gewinnen.\nDa es immer mehr Kaninchen werden\, hat Gromit\, der Hund\, eine Idee: Mit einem Gedankenmanipulator will er den Kaninchen die Lust auf Gemüse nehmen.  \nDauer 96 Minuten FSK 6
URL:https://www.milkids.de/termin/wallace-gromit-auf-der-jagd-nach-dem-riesenkaninchen-2/
LOCATION:Lichtwerk & Kamera Filmkunst\, Ravensberger Park\, Bielefeld\, Detmold\, 33607\, Germany
CATEGORIES:Drinnen
GEO:52.0221966;8.5445781
X-APPLE-STRUCTURED-LOCATION;VALUE=URI;X-ADDRESS=Lichtwerk & Kamera Filmkunst Ravensberger Park Bielefeld Detmold 33607 Germany;X-APPLE-RADIUS=500;X-TITLE=Ravensberger Park:geo:8.5445781,52.0221966
END:VEVENT
END:VCALENDAR