BEGIN:VCALENDAR
VERSION:2.0
PRODID:-//milkids - ECPv6.15.18//NONSGML v1.0//EN
CALSCALE:GREGORIAN
METHOD:PUBLISH
X-ORIGINAL-URL:https://www.milkids.de
X-WR-CALDESC:Veranstaltungen für milkids
REFRESH-INTERVAL;VALUE=DURATION:PT1H
X-Robots-Tag:noindex
X-PUBLISHED-TTL:PT1H
BEGIN:VTIMEZONE
TZID:Europe/Berlin
BEGIN:DAYLIGHT
TZOFFSETFROM:+0100
TZOFFSETTO:+0200
TZNAME:CEST
DTSTART:20240331T010000
END:DAYLIGHT
BEGIN:STANDARD
TZOFFSETFROM:+0200
TZOFFSETTO:+0100
TZNAME:CET
DTSTART:20241027T010000
END:STANDARD
BEGIN:DAYLIGHT
TZOFFSETFROM:+0100
TZOFFSETTO:+0200
TZNAME:CEST
DTSTART:20250330T010000
END:DAYLIGHT
BEGIN:STANDARD
TZOFFSETFROM:+0200
TZOFFSETTO:+0100
TZNAME:CET
DTSTART:20251026T010000
END:STANDARD
BEGIN:DAYLIGHT
TZOFFSETFROM:+0100
TZOFFSETTO:+0200
TZNAME:CEST
DTSTART:20260329T010000
END:DAYLIGHT
BEGIN:STANDARD
TZOFFSETFROM:+0200
TZOFFSETTO:+0100
TZNAME:CET
DTSTART:20261025T010000
END:STANDARD
END:VTIMEZONE
BEGIN:VEVENT
DTSTART;TZID=Europe/Berlin:20250221T100000
DTEND;TZID=Europe/Berlin:20250221T110000
DTSTAMP:20260423T001939
CREATED:20250103T163236Z
LAST-MODIFIED:20250103T163236Z
UID:10001414-1740132000-1740135600@www.milkids.de
SUMMARY:Kunst mit Kurzen
DESCRIPTION:Hier sind alle willkommen\, mit ihrem Kleinkind (1-2\,5 Jahre) das Museum zu entdecken. Nach einem kurzen Ausstellungsrundgang setzen wir das Gesehene und Erlebte aktiv und bewegungsorientiert auf kreative Weise um.\nDie Führung kann von Krabbelgruppen als auch an individuellen Terminen gebucht werden.\nAnmeldung über anmeldung@kunstforum-hermann-stenner.de oder Tel. 0521 8006600.
URL:https://www.milkids.de/termin/kunst-mit-kurzen-5/2025-02-21/
LOCATION:Kunstforum Hermann Stenner\, Obernstraße\, Bielefeld\, Detmold\, 33602\, Germany
CATEGORIES:Drinnen
GEO:52.0198821;8.5267137
X-APPLE-STRUCTURED-LOCATION;VALUE=URI;X-ADDRESS=Kunstforum Hermann Stenner Obernstraße Bielefeld Detmold 33602 Germany;X-APPLE-RADIUS=500;X-TITLE=Obernstraße:geo:8.5267137,52.0198821
END:VEVENT
BEGIN:VEVENT
DTSTART;TZID=Europe/Berlin:20250221T100000
DTEND;TZID=Europe/Berlin:20250221T110000
DTSTAMP:20260423T001939
CREATED:20250115T211502Z
LAST-MODIFIED:20250115T211721Z
UID:10001716-1740132000-1740135600@www.milkids.de
SUMMARY:Kunst mit Kurzen
DESCRIPTION:Hier sind alle willkommen\, mit ihrem Kleinkind zusammen das Museum zu entdecken. Nach einem kurzen Ausstellungsrundgang setzen wir das Gesehene und Erlebte aktiv und bewegungsorientiert auf kreativer Weise um. \nErwachsene mit Kindern von 1-2\,5 Jahre\nEintritt + 6 € für Erw.\, Kinder gratis
URL:https://www.milkids.de/termin/kunst-mit-kurzen-6/
LOCATION:Kunstforum Hermann Stenner\, Obernstraße\, Bielefeld\, Detmold\, 33602\, Germany
CATEGORIES:Drinnen
GEO:52.0198821;8.5267137
X-APPLE-STRUCTURED-LOCATION;VALUE=URI;X-ADDRESS=Kunstforum Hermann Stenner Obernstraße Bielefeld Detmold 33602 Germany;X-APPLE-RADIUS=500;X-TITLE=Obernstraße:geo:8.5267137,52.0198821
END:VEVENT
BEGIN:VEVENT
DTSTART;TZID=Europe/Berlin:20250221T140000
DTEND;TZID=Europe/Berlin:20250221T153000
DTSTAMP:20260423T001939
CREATED:20250116T074722Z
LAST-MODIFIED:20250116T074722Z
UID:10001448-1740146400-1740151800@www.milkids.de
SUMMARY:COSMOmission Escape-Game: Deine Reise ins All
DESCRIPTION:Auf geht’s zum Planeten Gaia! Doch auf der langen Reise ins Sternensystem Alpha Centauri kann eine Menge schiefgehen. Schafft ihr es\, alle Rätsel zu lösen und das Raumschiff sicher ans Ziel zu bringen?\nIm Tresorraum der Wissenswerkstatt ist ein komplettes intergalaktisches Escape-Game aufgebaut. Entwickelt wurden die COSMOmission in Zusammenarbeit mit Forschenden der Universität Bielefeld (Fakultät für Biologie und der Fakultät für Physik) und der Hochschule Bielefeld (HSBI; Fachbereich Gestaltung). Ihr wollt die Reise antreten? Dann sichert euch ein Ticket für euer Weltraumabenteuer.\nWichtig zu wissen: Pro Termin sind 6 Einzeltickets verfügbar. Ihr spielt also mit Fremden in einer Gruppe. Wer die COSMOmission mit einer privaten Gruppe alleine spielen möchte\, muss alle 6 Tickets für einen Termin kaufen.  \nBuchbar für alle ab 14 J.\nOrt: Tresor 1 (im Keller)\nEinzelticket Preis: 10 €\nBei Fragen: hallo@wissenswerkstadt.de
URL:https://www.milkids.de/termin/cosmomission-escape-game-deine-reise-ins-all-33/
LOCATION:Wissenswerkstadt Bielefeld\, Wilhelmstraße\, Bielefeld\, Detmold\, 33602\, Germany
CATEGORIES:Drinnen
GEO:52.0238945;8.5350147
X-APPLE-STRUCTURED-LOCATION;VALUE=URI;X-ADDRESS=Wissenswerkstadt Bielefeld Wilhelmstraße Bielefeld Detmold 33602 Germany;X-APPLE-RADIUS=500;X-TITLE=Wilhelmstraße:geo:8.5350147,52.0238945
END:VEVENT
BEGIN:VEVENT
DTSTART;TZID=Europe/Berlin:20250221T160000
DTEND;TZID=Europe/Berlin:20250221T173000
DTSTAMP:20260423T001939
CREATED:20250116T074726Z
LAST-MODIFIED:20250116T074726Z
UID:10001449-1740153600-1740159000@www.milkids.de
SUMMARY:COSMOmission Escape-Game: Deine Reise ins All
DESCRIPTION:Auf geht’s zum Planeten Gaia! Doch auf der langen Reise ins Sternensystem Alpha Centauri kann eine Menge schiefgehen. Schafft ihr es\, alle Rätsel zu lösen und das Raumschiff sicher ans Ziel zu bringen?\nIm Tresorraum der Wissenswerkstatt ist ein komplettes intergalaktisches Escape-Game aufgebaut. Entwickelt wurden die COSMOmission in Zusammenarbeit mit Forschenden der Universität Bielefeld (Fakultät für Biologie und der Fakultät für Physik) und der Hochschule Bielefeld (HSBI; Fachbereich Gestaltung). Ihr wollt die Reise antreten? Dann sichert euch ein Ticket für euer Weltraumabenteuer.\nWichtig zu wissen: Pro Termin sind 6 Einzeltickets verfügbar. Ihr spielt also mit Fremden in einer Gruppe. Wer die COSMOmission mit einer privaten Gruppe alleine spielen möchte\, muss alle 6 Tickets für einen Termin kaufen.  \nBuchbar für alle ab 14 J.\nOrt: Tresor 1 (im Keller)\nEinzelticket Preis: 10 €\nBei Fragen: hallo@wissenswerkstadt.de
URL:https://www.milkids.de/termin/cosmomission-escape-game-deine-reise-ins-all-34/
LOCATION:Wissenswerkstadt Bielefeld\, Wilhelmstraße\, Bielefeld\, Detmold\, 33602\, Germany
CATEGORIES:Drinnen
GEO:52.0238945;8.5350147
X-APPLE-STRUCTURED-LOCATION;VALUE=URI;X-ADDRESS=Wissenswerkstadt Bielefeld Wilhelmstraße Bielefeld Detmold 33602 Germany;X-APPLE-RADIUS=500;X-TITLE=Wilhelmstraße:geo:8.5350147,52.0238945
END:VEVENT
BEGIN:VEVENT
DTSTART;TZID=Europe/Berlin:20250221T183000
DTEND;TZID=Europe/Berlin:20250221T203000
DTSTAMP:20260423T001939
CREATED:20250116T075920Z
LAST-MODIFIED:20250116T075920Z
UID:10001507-1740162600-1740169800@www.milkids.de
SUMMARY:Vorsortierter Flohmarkt
DESCRIPTION:Kleidung für Kinder ab 110\, Erwachsene und Spielzeug
URL:https://www.milkids.de/termin/vorsortierter-flohmarkt-4/
LOCATION:Waldorfschule Gütersloh\, Hermann-Rothert-Str. 7\, Gütersloh\, 33335
CATEGORIES:Drinnen,Märkte
GEO:51.9370764;8.4844103
X-APPLE-STRUCTURED-LOCATION;VALUE=URI;X-ADDRESS=Waldorfschule Gütersloh Hermann-Rothert-Str. 7 Gütersloh 33335;X-APPLE-RADIUS=500;X-TITLE=Hermann-Rothert-Str. 7:geo:8.4844103,51.9370764
END:VEVENT
BEGIN:VEVENT
DTSTART;TZID=Europe/Berlin:20250221T190000
DTEND;TZID=Europe/Berlin:20250221T190000
DTSTAMP:20260423T001939
CREATED:20250116T073024Z
LAST-MODIFIED:20250116T073024Z
UID:10001631-1740164400-1740164400@www.milkids.de
SUMMARY:Nachts im Museum – Taschenlampenführung
DESCRIPTION:Wer war schon einmal nachts im Museum? Mit Eltern und Großeltern macht ihr eine Zeitreise in die Vergangenheit. Nur der Lichtstrahl eurer Taschenlampe durchbricht die Dunkelheit. Was verbirgt sich dort? Nach einem zauberhaften Rundgang wartet eine Schatzsuche auf euch…\nBitte Taschenlampen mitbringen!  \nFür Familien mit Kindern von 5-12 Jahren\nEintritt: 8 € für Kinder\, 6 € für Erwachsene\nAnmeldung unter 0521.51-3635
URL:https://www.milkids.de/termin/nachts-im-museum-taschenlampenfuehrung-5/
LOCATION:Historisches Museum Bielefeld\, Ravensberger Park\, Bielefeld\, Detmold\, 33607\, Germany
CATEGORIES:Drinnen
GEO:52.0223731;8.546227
X-APPLE-STRUCTURED-LOCATION;VALUE=URI;X-ADDRESS=Historisches Museum Bielefeld Ravensberger Park Bielefeld Detmold 33607 Germany;X-APPLE-RADIUS=500;X-TITLE=Ravensberger Park:geo:8.546227,52.0223731
END:VEVENT
BEGIN:VEVENT
DTSTART;TZID=Europe/Berlin:20250221T190000
DTEND;TZID=Europe/Berlin:20250221T220000
DTSTAMP:20260423T001939
CREATED:20250116T074840Z
LAST-MODIFIED:20250116T074840Z
UID:10001567-1740164400-1740175200@www.milkids.de
SUMMARY:Eisdisco
DESCRIPTION:powered by Zephyrus Discoteam
URL:https://www.milkids.de/termin/eisdisco-7/
LOCATION:Oetker Eisbahn\, Duisburger Straße\, Bielefeld\, Detmold\, 33647\, Deutschland
CATEGORIES:Draußen
GEO:51.9797919;8.4965191
X-APPLE-STRUCTURED-LOCATION;VALUE=URI;X-ADDRESS=Oetker Eisbahn Duisburger Straße Bielefeld Detmold 33647 Deutschland;X-APPLE-RADIUS=500;X-TITLE=Duisburger Straße:geo:8.4965191,51.9797919
END:VEVENT
END:VCALENDAR