BEGIN:VCALENDAR
VERSION:2.0
PRODID:-//milkids - ECPv6.15.18//NONSGML v1.0//EN
CALSCALE:GREGORIAN
METHOD:PUBLISH
X-ORIGINAL-URL:https://www.milkids.de
X-WR-CALDESC:Veranstaltungen für milkids
REFRESH-INTERVAL;VALUE=DURATION:PT1H
X-Robots-Tag:noindex
X-PUBLISHED-TTL:PT1H
BEGIN:VTIMEZONE
TZID:Europe/Berlin
BEGIN:DAYLIGHT
TZOFFSETFROM:+0100
TZOFFSETTO:+0200
TZNAME:CEST
DTSTART:20240331T010000
END:DAYLIGHT
BEGIN:STANDARD
TZOFFSETFROM:+0200
TZOFFSETTO:+0100
TZNAME:CET
DTSTART:20241027T010000
END:STANDARD
BEGIN:DAYLIGHT
TZOFFSETFROM:+0100
TZOFFSETTO:+0200
TZNAME:CEST
DTSTART:20250330T010000
END:DAYLIGHT
BEGIN:STANDARD
TZOFFSETFROM:+0200
TZOFFSETTO:+0100
TZNAME:CET
DTSTART:20251026T010000
END:STANDARD
BEGIN:DAYLIGHT
TZOFFSETFROM:+0100
TZOFFSETTO:+0200
TZNAME:CEST
DTSTART:20260329T010000
END:DAYLIGHT
BEGIN:STANDARD
TZOFFSETFROM:+0200
TZOFFSETTO:+0100
TZNAME:CET
DTSTART:20261025T010000
END:STANDARD
END:VTIMEZONE
BEGIN:VEVENT
DTSTART;TZID=Europe/Berlin:20250130T150000
DTEND;TZID=Europe/Berlin:20250130T174500
DTSTAMP:20260424T161811
CREATED:20250116T074423Z
LAST-MODIFIED:20250116T074423Z
UID:10001391-1738249200-1738259100@www.milkids.de
SUMMARY:Gamer Space
DESCRIPTION:Für alle\, die gerne unsere Konsolen zum Glühen bringen möchten. Sei es die PlayStation\, die Xbox oder die Nintendo Switch. Aber auch jeder\, der einfach nur mal in die Gaming-Welt reinschnuppern möchte\, ist – alleine oder in Begleitung der Eltern – willkommen. \nFür Kinder und Jugendliche von 8 bis 15 Jahren.\nGamerSpace\, 2. OG\, Eingang über Kavalleriestraße 17.\nDer Eintritt ist frei. Keine Anmeldung
URL:https://www.milkids.de/termin/gamer-space-23/
LOCATION:Stadtbibliothek Bielefeld\, Neumarkt\, Bielefeld\, Detmold\, 33602\, Germany
CATEGORIES:Drinnen
GEO:52.0266981;8.5371282
X-APPLE-STRUCTURED-LOCATION;VALUE=URI;X-ADDRESS=Stadtbibliothek Bielefeld Neumarkt Bielefeld Detmold 33602 Germany;X-APPLE-RADIUS=500;X-TITLE=Neumarkt:geo:8.5371282,52.0266981
END:VEVENT
BEGIN:VEVENT
DTSTART;TZID=Europe/Berlin:20250130T150000
DTEND;TZID=Europe/Berlin:20250130T174500
DTSTAMP:20260424T161811
CREATED:20250207T160122Z
LAST-MODIFIED:20250207T160122Z
UID:10001488-1738249200-1738259100@www.milkids.de
SUMMARY:GamerSpace
DESCRIPTION:Für alle\, die gerne unsere Konsolen zum Glühen bringen möchten. Sei es die PlayStation\, die Xbox oder die Nintendo Switch. Aber auch jeder\, der einfach nur mal in die Gaming-Welt reinschnuppern möchte\, ist – alleine oder in Begleitung der Eltern – willkommen. \nFür Kinder und Jugendliche von 8 bis 14 Jahren.\nOrt: GamerSpace | 2. OG | Eingang über Kavalleriestraße 17\nDer Eintritt ist frei.
URL:https://www.milkids.de/termin/gamerspace-4/
LOCATION:GamerSpace 2.OG\, Kavalleriestr 17\, Bielefeld\, NRW\, 33602\, Germany
CATEGORIES:Drinnen
ORGANIZER;CN="Stadtbibliothek Bielefeld":MAILTO:stadtbibliothek.events-bielefeld.de
GEO:52.0266609;8.5378527
X-APPLE-STRUCTURED-LOCATION;VALUE=URI;X-ADDRESS=GamerSpace 2.OG Kavalleriestr 17 Bielefeld NRW 33602 Germany;X-APPLE-RADIUS=500;X-TITLE=Kavalleriestr 17:geo:8.5378527,52.0266609
END:VEVENT
END:VCALENDAR