BEGIN:VCALENDAR
VERSION:2.0
PRODID:-//milkids - ECPv6.15.18//NONSGML v1.0//EN
CALSCALE:GREGORIAN
METHOD:PUBLISH
X-WR-CALNAME:milkids
X-ORIGINAL-URL:https://www.milkids.de
X-WR-CALDESC:Veranstaltungen für milkids
REFRESH-INTERVAL;VALUE=DURATION:PT1H
X-Robots-Tag:noindex
X-PUBLISHED-TTL:PT1H
BEGIN:VTIMEZONE
TZID:Europe/Berlin
BEGIN:DAYLIGHT
TZOFFSETFROM:+0100
TZOFFSETTO:+0200
TZNAME:CEST
DTSTART:20250330T010000
END:DAYLIGHT
BEGIN:STANDARD
TZOFFSETFROM:+0200
TZOFFSETTO:+0100
TZNAME:CET
DTSTART:20251026T010000
END:STANDARD
BEGIN:DAYLIGHT
TZOFFSETFROM:+0100
TZOFFSETTO:+0200
TZNAME:CEST
DTSTART:20260329T010000
END:DAYLIGHT
BEGIN:STANDARD
TZOFFSETFROM:+0200
TZOFFSETTO:+0100
TZNAME:CET
DTSTART:20261025T010000
END:STANDARD
BEGIN:DAYLIGHT
TZOFFSETFROM:+0100
TZOFFSETTO:+0200
TZNAME:CEST
DTSTART:20270328T010000
END:DAYLIGHT
BEGIN:STANDARD
TZOFFSETFROM:+0200
TZOFFSETTO:+0100
TZNAME:CET
DTSTART:20271031T010000
END:STANDARD
END:VTIMEZONE
BEGIN:VEVENT
DTSTART;TZID=Europe/Berlin:20260501T143000
DTEND;TZID=Europe/Berlin:20260501T143000
DTSTAMP:20260425T220412
CREATED:20260425T081153Z
LAST-MODIFIED:20260425T081153Z
UID:10008451-1777645800-1777645800@www.milkids.de
SUMMARY:Bluey im Kino: Playdates - Kollektion
DESCRIPTION:Die „Playdates“ – Kollektion ist eine Stunde voller Spaß mit acht Episoden aus allen drei Staffeln der Serie\, die Kreativität und Fantasie zum Leben erwecken! Die Zusammenstellung zeigt einige von Blueys Lieblingsspielen wie Das Schattenspiel und Oktopus und hebt besondere Freundschaftsmomente in Episoden wie Zirkus und Rutschbahn hervor – mit ganz viel Freude und Lachen! \nFSK 0 \n54 Minuten
URL:https://www.milkids.de/termin/bluey-im-kino-playdates-kollektion/2026-05-01/
LOCATION:Lichtwerk & Kamera Filmkunst\, Ravensberger Park\, Bielefeld\, Detmold\, 33607\, Germany
CATEGORIES:Drinnen,Familie
GEO:52.0221966;8.5445781
X-APPLE-STRUCTURED-LOCATION;VALUE=URI;X-ADDRESS=Lichtwerk & Kamera Filmkunst Ravensberger Park Bielefeld Detmold 33607 Germany;X-APPLE-RADIUS=500;X-TITLE=Ravensberger Park:geo:8.5445781,52.0221966
END:VEVENT
BEGIN:VEVENT
DTSTART;TZID=Europe/Berlin:20260502T153000
DTEND;TZID=Europe/Berlin:20260502T153000
DTSTAMP:20260425T220412
CREATED:20260425T081153Z
LAST-MODIFIED:20260425T081153Z
UID:10008452-1777735800-1777735800@www.milkids.de
SUMMARY:Bluey im Kino: Playdates - Kollektion
DESCRIPTION:Die „Playdates“ – Kollektion ist eine Stunde voller Spaß mit acht Episoden aus allen drei Staffeln der Serie\, die Kreativität und Fantasie zum Leben erwecken! Die Zusammenstellung zeigt einige von Blueys Lieblingsspielen wie Das Schattenspiel und Oktopus und hebt besondere Freundschaftsmomente in Episoden wie Zirkus und Rutschbahn hervor – mit ganz viel Freude und Lachen! \nFSK 0 \n54 Minuten
URL:https://www.milkids.de/termin/bluey-im-kino-playdates-kollektion/2026-05-02/
LOCATION:Lichtwerk & Kamera Filmkunst\, Ravensberger Park\, Bielefeld\, Detmold\, 33607\, Germany
CATEGORIES:Drinnen,Familie
GEO:52.0221966;8.5445781
X-APPLE-STRUCTURED-LOCATION;VALUE=URI;X-ADDRESS=Lichtwerk & Kamera Filmkunst Ravensberger Park Bielefeld Detmold 33607 Germany;X-APPLE-RADIUS=500;X-TITLE=Ravensberger Park:geo:8.5445781,52.0221966
END:VEVENT
BEGIN:VEVENT
DTSTART;TZID=Europe/Berlin:20260503T143000
DTEND;TZID=Europe/Berlin:20260503T143000
DTSTAMP:20260425T220412
CREATED:20260425T081153Z
LAST-MODIFIED:20260425T081153Z
UID:10008453-1777818600-1777818600@www.milkids.de
SUMMARY:Bluey im Kino: Playdates - Kollektion
DESCRIPTION:Die „Playdates“ – Kollektion ist eine Stunde voller Spaß mit acht Episoden aus allen drei Staffeln der Serie\, die Kreativität und Fantasie zum Leben erwecken! Die Zusammenstellung zeigt einige von Blueys Lieblingsspielen wie Das Schattenspiel und Oktopus und hebt besondere Freundschaftsmomente in Episoden wie Zirkus und Rutschbahn hervor – mit ganz viel Freude und Lachen! \nFSK 0 \n54 Minuten
URL:https://www.milkids.de/termin/bluey-im-kino-playdates-kollektion/2026-05-03/
LOCATION:Lichtwerk & Kamera Filmkunst\, Ravensberger Park\, Bielefeld\, Detmold\, 33607\, Germany
CATEGORIES:Drinnen,Familie
GEO:52.0221966;8.5445781
X-APPLE-STRUCTURED-LOCATION;VALUE=URI;X-ADDRESS=Lichtwerk & Kamera Filmkunst Ravensberger Park Bielefeld Detmold 33607 Germany;X-APPLE-RADIUS=500;X-TITLE=Ravensberger Park:geo:8.5445781,52.0221966
END:VEVENT
END:VCALENDAR